PDS_VERSION_ID = PDS3
/* FILE DATA ELEMENTS */
RECORD_TYPE = STREAM
/* POINTERS TO DATA OBJECTS */
^COMPRESSED_FILE = "H9385_0000_S13.JP2"
/* IDENTIFICATION DATA ELEMENTS */
DATA_SET_ID = "MEX-M-HRSC-5-REFDR-MAPPROJECTED-V3.0"
DATA_SET_NAME = "MARS EXPRESS HRSC MAP PROJECTED REFDR V3.0"
DETECTOR_ID = MEX_HRSC_S1
EVENT_TYPE = "MARS-REGIONAL-MAPPING-Im-Fl-La"
INSTRUMENT_HOST_ID = MEX
INSTRUMENT_HOST_NAME = "MARS EXPRESS"
INSTRUMENT_ID = HRSC
INSTRUMENT_NAME = "HIGH RESOLUTION STEREO CAMERA"
MISSION_NAME = "MARS EXPRESS"
MISSION_PHASE_NAME = ME_Phase_23
PROCESSING_LEVEL_ID = 3
PRODUCT_CREATION_TIME = 2016-10-26T12:35:54.000Z
PRODUCT_ID = "H9385_0000_S13.JP2"
RELEASE_ID = 0096
REVISION_ID = 0000
/* QUALITY DATA ELEMENTS */
DATA_QUALITY_ID = 1
DATA_QUALITY_DESC = "Data calculated based on original SPICE kernels"
/* TIME DATA ELEMENTS */
SPACECRAFT_CLOCK_START_COUNT = "1/0253006706.09050"
SPACECRAFT_CLOCK_STOP_COUNT = "1/0253006969.00033"
START_TIME = 2011-05-09T07:38:29.100Z
STOP_TIME = 2011-05-09T07:41:05.737Z
/* ORBITAL DATA ELEMENTS */
ASCENDING_NODE_LONGITUDE = 38.06
MAXIMUM_RESOLUTION = 33.9
FOOTPRINT_POINT_LATITUDE = (3.92426,3.93817,3.95156,3.96445, 3.97686,3.98886,3.72574,3.35127,2.97779 ,2.78956,2.59747,2.40557,2.21379, 2.02193,1.73424,1.44656,1.15318, 0.956672,0.661883,0.465611,0.26932, 0.0732031,-0.127752,-0.326078,-0.528481 ,-0.731317,-0.932586,-1.1337,-1.33934, -1.54491,-1.7511,-1.95667,-2.16189, -2.36845,-2.57844,-2.78512,-2.99669, -3.20673,-3.41567,-3.63002,-3.84407, -4.06009,-4.38241,-4.59945,-4.82131, -5.14729,-5.36547,-5.6989,-5.92097, -6.1438,-6.17726,-6.1903,-6.20405, -6.21964,-6.24258,-6.25539,-6.03287, -5.80565,-5.58153,-5.3626,-5.13931, -4.81604,-4.59947,-4.27647,-3.95413, -3.74001,-3.42772,-3.21754,-3.00725, -2.79713,-2.58658,-2.37317,-2.05729, -1.85259,-1.54439,-1.33868,-1.13553, -0.934097,-0.633249,-0.432144,-0.232728 ,0.0675223,0.263237,0.459708,0.656356, 0.852937,1.04943,1.34348,1.53531, 1.72709,1.91869,2.11095,2.30202,2.49407 ,2.78151,3.15571,3.34326,3.53063, 3.90488,3.92426)
FOOTPRINT_POINT_LONGITUDE = (67.7222,67.4963,67.2726,67.0512, 66.8318,66.6143,66.5221,66.514,66.5058, 66.5016,66.4973,66.493,66.4886,66.4842, 66.4775,66.4707,66.4637,66.459,66.4519, 66.447,66.4422,66.4373,66.4322,66.4271, 66.422,66.4169,66.4117,66.4065,66.4011, 66.3956,66.3902,66.3846,66.3791,66.3734 ,66.3677,66.3618,66.356,66.3501,66.3441 ,66.338,66.3319,66.3257,66.3163,66.3099 ,66.3034,66.2936,66.287,66.2768,66.27, 66.2631,66.5074,66.8205,67.0863,67.3717 ,67.7793,67.9922,67.9908,67.9867, 67.9845,67.9834,67.9791,67.9799,67.98, 67.9778,67.9754,67.9745,67.9776,67.9763 ,67.975,67.974,67.9728,67.9694,67.9633, 67.963,67.962,67.9613,67.9607,67.9597, 67.9592,67.9587,67.9593,67.9583,67.9583 ,67.9579,67.9574,67.9571,67.9568, 67.9565,67.9562,67.956,67.956,67.9556, 67.9561,67.956,67.9557,67.9558,67.9555, 67.9555,67.9559,67.7222)
ORBIT_NUMBER = 9385
ORBITAL_ECCENTRICITY = 0.577
ORBITAL_INCLINATION = 86.87
ORBITAL_SEMIMAJOR_AXIS = 8849.41
PERIAPSIS_ALTITUDE = 351.66
PERIAPSIS_ARGUMENT_ANGLE = 158.05
PERIAPSIS_TIME = 2011-05-09T07:34:26.000Z
SPACECRAFT_ORIENTATION = (0.0,-1.0,0.0)
^MEX_ORIENTATION_DESC = "MEX_ORIENTATION_DESC.TXT"
SPACECRAFT_POINTING_MODE = ACROSSTRACK
^MEX_POINTING_DESC = "MEX_POINTING_DESC.TXT"
RIGHT_ASCENSION = -1e+32
DECLINATION = -1e+32
OFFSET_ANGLE = 0.85
SPACECRAFT_SOLAR_DISTANCE = 2.10479e+08
TARGET_NAME = MARS
/* CAMERA DATA ELEMENTS */
DETECTOR_TEMPERATURE = 17.5549
FOCAL_PLANE_TEMPERATURE = 8.5833
INST_CMPRS_NAME = "DISCRETE COSINE TRANSFORMATION (DCT)"
INST_CMPRS_RATIO = 8.6009
INST_CMPRS_QUALITY = 0
INST_CMPRS_QUANTZ_TBL_ID = 0
INSTRUMENT_TEMPERATURE = 10.8262
LENS_TEMPERATURE = 9.195
MACROPIXEL_SIZE = 2
MISSING_FRAMES = 0
PIXEL_SUBSAMPLING_FLAG = N
SIGNAL_CHAIN_ID = 1
/* RADIOMETRIC DATA ELEMENTS */
BANDWIDTH = 180.0
CENTER_FILTER_WAVELENGTH = 677.0
RADIANCE_OFFSET = 2.52336
RADIANCE_SCALING_FACTOR = 0.0119788
REFLECTANCE_SCALING_FACTOR = 0.000276868
MEX:REFLECTANCE_OFFSET = 0.0583228
/* IMAGE OBJECT DEFINITIONS */
OBJECT = IMAGE
  INTERCHANGE_FORMAT = BINARY
  LINES = 24195
  LINE_SAMPLES = 4538
  SAMPLE_TYPE = UNSIGNED_INTEGER
  SAMPLE_BITS = 8
  BANDS = 1
  BAND_STORAGE_TYPE = BAND_SEQUENTIAL
  MAXIMUM = 255
  MEAN = 91.5915
  MINIMUM = 1
  STANDARD_DEVIATION = 34.2276
END_OBJECT = IMAGE
/* MAP OBJECT DEFINITIONS */
OBJECT = IMAGE_MAP_PROJECTION
  ^DATA_SET_MAP_PROJECTION_CATALOG= "DSMAP.CAT"
  A_AXIS_RADIUS = 3396.0
  B_AXIS_RADIUS = 3396.0
  C_AXIS_RADIUS = 3396.0
  CENTER_LATITUDE = 0.0
  CENTER_LONGITUDE = 67.0
  COORDINATE_SYSTEM_NAME = PLANETOGRAPHIC
  COORDINATE_SYSTEM_TYPE = "BODY-FIXED ROTATING"
  EASTERNMOST_LONGITUDE = 67.9922
  FIRST_STANDARD_PARALLEL = "N/A"
  LINE_FIRST_PIXEL = 1
  LINE_LAST_PIXEL = 24195
  LINE_PROJECTION_OFFSET = 9401.25
  MAP_PROJECTION_ROTATION = 0.0
  MAP_PROJECTION_TYPE = SINUSOIDAL
  MAP_RESOLUTION = 2370.85521546667
  MAP_SCALE = 0.025
  MAXIMUM_LATITUDE = 3.98886
  MINIMUM_LATITUDE = -6.25539
  POSITIVE_LONGITUDE_DIRECTION = EAST
  REFERENCE_LATITUDE = "N/A"
  REFERENCE_LONGITUDE = "N/A"
  SAMPLE_FIRST_PIXEL = 1
  SAMPLE_LAST_PIXEL = 4538
  SAMPLE_PROJECTION_OFFSET = 1885.75
  SECOND_STANDARD_PARALLEL = "N/A"
  WESTERNMOST_LONGITUDE = 66.26309999999999
END_OBJECT = IMAGE_MAP_PROJECTION
/* The JPEG2000 image data file associated with this label. */
OBJECT = COMPRESSED_FILE
  FILE_NAME = "H9385_0000_S13.JP2"
  RECORD_TYPE = UNDEFINED
  FILE_RECORDS = UNK
  ENCODING_TYPE = "JP2"
  INTERCHANGE_FORMAT = BINARY
  UNCOMPRESSED_FILE_NAME = "H9385_0000_S13.IMG"
  REQUIRED_STORAGE_BYTES = "109824138"
  ^DESCRIPTION = "JP2INFO.TXT"
END_OBJECT = COMPRESSED_FILE
END
