PDS_VERSION_ID = PDS3
/* FILE DATA ELEMENTS */
RECORD_TYPE = STREAM
/* POINTERS TO DATA OBJECTS */
^COMPRESSED_FILE = "H9388_0000_ND3.JP2"
/* IDENTIFICATION DATA ELEMENTS */
DATA_SET_ID = "MEX-M-HRSC-5-REFDR-MAPPROJECTED-V3.0"
DATA_SET_NAME = "MARS EXPRESS HRSC MAP PROJECTED REFDR V3.0"
DETECTOR_ID = MEX_HRSC_NADIR
EVENT_TYPE = "MARS-LOCAL-CARTOGRAPHY-Tc-Ot-Ts"
INSTRUMENT_HOST_ID = MEX
INSTRUMENT_HOST_NAME = "MARS EXPRESS"
INSTRUMENT_ID = HRSC
INSTRUMENT_NAME = "HIGH RESOLUTION STEREO CAMERA"
MISSION_NAME = "MARS EXPRESS"
MISSION_PHASE_NAME = ME_Phase_23
PROCESSING_LEVEL_ID = 3
PRODUCT_CREATION_TIME = 2016-10-26T12:35:54.000Z
PRODUCT_ID = "H9388_0000_ND3.JP2"
RELEASE_ID = 0096
REVISION_ID = 0000
/* QUALITY DATA ELEMENTS */
DATA_QUALITY_ID = 1
DATA_QUALITY_DESC = "Data calculated based on original SPICE kernels"
/* TIME DATA ELEMENTS */
SPACECRAFT_CLOCK_START_COUNT = "1/0253081841.07298"
SPACECRAFT_CLOCK_STOP_COUNT = "1/0253082027.08097"
START_TIME = 2011-05-10T04:31:18.173Z
STOP_TIME = 2011-05-10T04:33:16.158Z
/* ORBITAL DATA ELEMENTS */
ASCENDING_NODE_LONGITUDE = 38.01
MAXIMUM_RESOLUTION = 14.2
FOOTPRINT_POINT_LATITUDE = (30.1193,30.1186,30.1175,30.116,30.1133 ,30.1115,29.8082,29.5048,29.2012, 28.8975,28.5937,28.4417,28.2898,28.1377 ,27.9857,27.8336,27.6815,27.5293, 27.3771,27.2249,27.0727,26.9205,26.7682 ,26.6159,26.4636,26.3112,26.1589, 26.0065,25.8541,25.7017,25.5493,25.3968 ,25.2443,25.0919,24.9394,24.7869, 24.6343,24.4818,24.3293,24.1767,24.0241 ,23.8716,23.6427,23.4901,23.3375, 23.1086,22.8797,22.7271,22.5745,22.4822 ,22.4829,22.4829,22.4826,22.4819, 22.6346,22.7874,22.9401,23.0929,23.322, 23.5511,23.7802,23.933,24.1621,24.3148, 24.4675,24.6202,24.7728,24.9255,25.0782 ,25.2308,25.3834,25.5361,25.6887, 25.8412,25.9938,26.1464,26.2989,26.4514 ,26.6039,26.7564,26.9088,27.0613, 27.2137,27.366,27.5184,27.6707,27.823, 27.9753,28.1276,28.2798,28.432,28.5841, 28.7363,28.8884,29.0404,29.1924,29.4964 ,29.8002,30.1039,30.1193)
FOOTPRINT_POINT_LONGITUDE = (120.381,120.149,119.918,119.688, 119.372,119.124,119.131,119.137,119.143 ,119.149,119.155,119.158,119.16,119.163 ,119.165,119.168,119.17,119.173,119.175 ,119.177,119.18,119.182,119.184,119.186 ,119.188,119.19,119.192,119.194,119.196 ,119.198,119.199,119.201,119.203, 119.204,119.206,119.207,119.209,119.21, 119.212,119.213,119.214,119.215,119.217 ,119.218,119.219,119.221,119.222, 119.223,119.224,119.436,119.807,120.02, 120.247,120.576,120.577,120.578,120.579 ,120.58,120.581,120.583,120.584,120.585 ,120.586,120.587,120.588,120.589,120.59 ,120.591,120.592,120.593,120.594, 120.595,120.596,120.597,120.598,120.599 ,120.6,120.601,120.602,120.603,120.604, 120.605,120.607,120.608,120.609,120.61, 120.611,120.612,120.613,120.614,120.615 ,120.616,120.617,120.618,120.619, 120.621,120.623,120.625,120.627, 120.381)
ORBIT_NUMBER = 9388
ORBITAL_ECCENTRICITY = 0.577
ORBITAL_INCLINATION = 86.85
ORBITAL_SEMIMAJOR_AXIS = 8847.74
PERIAPSIS_ALTITUDE = 352.24
PERIAPSIS_ARGUMENT_ANGLE = 157.52
PERIAPSIS_TIME = 2011-05-10T04:33:16.000Z
SPACECRAFT_ORIENTATION = (0.0,-1.0,0.0)
^MEX_ORIENTATION_DESC = "MEX_ORIENTATION_DESC.TXT"
SPACECRAFT_POINTING_MODE = ACROSSTRACK
^MEX_POINTING_DESC = "MEX_POINTING_DESC.TXT"
RIGHT_ASCENSION = -1e+32
DECLINATION = -1e+32
OFFSET_ANGLE = 0.25
SPACECRAFT_SOLAR_DISTANCE = 2.10585e+08
TARGET_NAME = MARS
/* CAMERA DATA ELEMENTS */
DETECTOR_TEMPERATURE = 18.3705
FOCAL_PLANE_TEMPERATURE = 8.5833
INST_CMPRS_NAME = "DISCRETE COSINE TRANSFORMATION (DCT)"
INST_CMPRS_RATIO = 7.62007
INST_CMPRS_QUALITY = 0
INST_CMPRS_QUANTZ_TBL_ID = 0
INSTRUMENT_TEMPERATURE = 11.234
LENS_TEMPERATURE = 9.195
MACROPIXEL_SIZE = 1
MISSING_FRAMES = 0
PIXEL_SUBSAMPLING_FLAG = N
SIGNAL_CHAIN_ID = 0
/* RADIOMETRIC DATA ELEMENTS */
BANDWIDTH = 177.0
CENTER_FILTER_WAVELENGTH = 677.5
RADIANCE_OFFSET = 1.9824
RADIANCE_SCALING_FACTOR = 0.00777413
REFLECTANCE_SCALING_FACTOR = 0.000183143
MEX:REFLECTANCE_OFFSET = 0.0467015
/* IMAGE OBJECT DEFINITIONS */
OBJECT = IMAGE
  INTERCHANGE_FORMAT = BINARY
  LINES = 36212
  LINE_SAMPLES = 6401
  SAMPLE_TYPE = UNSIGNED_INTEGER
  SAMPLE_BITS = 8
  BANDS = 1
  BAND_STORAGE_TYPE = BAND_SEQUENTIAL
  MAXIMUM = 255
  MEAN = 107.148
  MINIMUM = 1
  STANDARD_DEVIATION = 29.6762
END_OBJECT = IMAGE
/* MAP OBJECT DEFINITIONS */
OBJECT = IMAGE_MAP_PROJECTION
  ^DATA_SET_MAP_PROJECTION_CATALOG= "DSMAP.CAT"
  A_AXIS_RADIUS = 3396.0
  B_AXIS_RADIUS = 3396.0
  C_AXIS_RADIUS = 3396.0
  CENTER_LATITUDE = 0.0
  CENTER_LONGITUDE = 120.0
  COORDINATE_SYSTEM_NAME = PLANETOGRAPHIC
  COORDINATE_SYSTEM_TYPE = "BODY-FIXED ROTATING"
  EASTERNMOST_LONGITUDE = 120.627
  FIRST_STANDARD_PARALLEL = "N/A"
  LINE_FIRST_PIXEL = 1
  LINE_LAST_PIXEL = 36212
  LINE_PROJECTION_OFFSET = 142818.0
  MAP_PROJECTION_ROTATION = 0.0
  MAP_PROJECTION_TYPE = SINUSOIDAL
  MAP_RESOLUTION = 4741.71043093333
  MAP_SCALE = 0.0125
  MAXIMUM_LATITUDE = 30.1193
  MINIMUM_LATITUDE = 22.4819
  POSITIVE_LONGITUDE_DIRECTION = EAST
  REFERENCE_LATITUDE = "N/A"
  REFERENCE_LONGITUDE = "N/A"
  SAMPLE_FIRST_PIXEL = 1
  SAMPLE_LAST_PIXEL = 6401
  SAMPLE_PROJECTION_OFFSET = 3660.0
  SECOND_STANDARD_PARALLEL = "N/A"
  WESTERNMOST_LONGITUDE = 119.124
END_OBJECT = IMAGE_MAP_PROJECTION
/* The JPEG2000 image data file associated with this label. */
OBJECT = COMPRESSED_FILE
  FILE_NAME = "H9388_0000_ND3.JP2"
  RECORD_TYPE = UNDEFINED
  FILE_RECORDS = UNK
  ENCODING_TYPE = "JP2"
  INTERCHANGE_FORMAT = BINARY
  UNCOMPRESSED_FILE_NAME = "H9388_0000_ND3.IMG"
  REQUIRED_STORAGE_BYTES = "231825017"
  ^DESCRIPTION = "JP2INFO.TXT"
END_OBJECT = COMPRESSED_FILE
END
