PDS_VERSION_ID = PDS3
/* FILE DATA ELEMENTS */
RECORD_TYPE = STREAM
/* POINTERS TO DATA OBJECTS */
^COMPRESSED_FILE = "H9391_0000_IR3.JP2"
/* IDENTIFICATION DATA ELEMENTS */
DATA_SET_ID = "MEX-M-HRSC-5-REFDR-MAPPROJECTED-V3.0"
DATA_SET_NAME = "MARS EXPRESS HRSC MAP PROJECTED REFDR V3.0"
DETECTOR_ID = MEX_HRSC_IR
EVENT_TYPE = "MARS-REGIONAL-MAPPING-Vo-Te-Pf"
INSTRUMENT_HOST_ID = MEX
INSTRUMENT_HOST_NAME = "MARS EXPRESS"
INSTRUMENT_ID = HRSC
INSTRUMENT_NAME = "HIGH RESOLUTION STEREO CAMERA"
MISSION_NAME = "MARS EXPRESS"
MISSION_PHASE_NAME = ME_Phase_23
PROCESSING_LEVEL_ID = 3
PRODUCT_CREATION_TIME = 2016-10-26T12:35:54.000Z
PRODUCT_ID = "H9391_0000_IR3.JP2"
RELEASE_ID = 0096
REVISION_ID = 0000
/* QUALITY DATA ELEMENTS */
DATA_QUALITY_ID = 1
DATA_QUALITY_DESC = "Data calculated based on original SPICE kernels"
/* TIME DATA ELEMENTS */
SPACECRAFT_CLOCK_START_COUNT = "1/0253157502.09064"
SPACECRAFT_CLOCK_STOP_COUNT = "1/0253157701.23544"
START_TIME = 2011-05-11T01:31:50.388Z
STOP_TIME = 2011-05-11T01:34:00.851Z
/* ORBITAL DATA ELEMENTS */
ASCENDING_NODE_LONGITUDE = 37.94
MAXIMUM_RESOLUTION = 59.4
FOOTPRINT_POINT_LATITUDE = (22.8764,22.8724,22.8681,22.8633,22.858 ,22.8524,22.8462,22.5591,22.392,22.2248 ,21.9738,21.8065,21.639,21.3877,21.2201 ,21.0525,20.8848,20.717,20.5492,20.3813 ,20.2134,20.0454,19.8773,19.7092, 19.5411,19.3728,19.2047,19.0364,18.7841 ,18.6158,18.4471,18.279,18.1108,17.9435 ,17.6914,17.5229,17.2697,17.0983, 16.8451,16.675,16.506,16.1704,16.0005, 15.8313,15.6626,15.4929,15.324,15.071, 14.9012,14.7321,14.5635,14.3431,14.3473 ,14.3527,14.3556,14.3613,14.3643, 14.5346,14.7047,14.8737,15.0421,15.2125 ,15.4658,15.6345,15.8037,15.9736, 16.1414,16.3104,16.4805,16.6486,16.8176 ,16.9874,17.1563,17.4093,17.5794,17.749 ,18.0023,18.1719,18.3408,18.5923, 18.7616,18.9323,19.1023,19.3525,19.5198 ,19.6877,19.8564,20.1095,20.4466, 20.6986,20.8663,21.0356,21.2888,21.4562 ,21.7877,21.9562,22.2894,22.4567, 22.6241,22.8764)
FOOTPRINT_POINT_LONGITUDE = (172.88,172.683,172.485,172.286,172.086 ,171.885,171.683,171.622,171.624, 171.626,171.629,171.631,171.632,171.635 ,171.636,171.637,171.639,171.64,171.641 ,171.643,171.644,171.645,171.646, 171.647,171.648,171.649,171.65,171.65, 171.651,171.652,171.652,171.653,171.654 ,171.655,171.656,171.656,171.657, 171.655,171.655,171.654,171.654,171.655 ,171.654,171.654,171.654,171.653, 171.653,171.652,171.651,171.651,171.65, 171.736,171.924,172.147,172.345,172.652 ,172.884,172.973,172.973,172.974, 172.974,172.974,172.974,172.974,172.974 ,172.975,172.975,172.975,172.975, 172.975,172.976,172.976,172.976,172.976 ,172.976,172.976,172.976,172.977, 172.977,172.977,172.977,172.977,172.977 ,172.978,172.978,172.979,172.979, 172.979,172.979,172.98,172.98,172.98, 172.98,172.98,172.981,172.981,172.982, 172.982,172.982,172.88)
ORBIT_NUMBER = 9391
ORBITAL_ECCENTRICITY = 0.576
ORBITAL_INCLINATION = 86.86
ORBITAL_SEMIMAJOR_AXIS = 8838.12
PERIAPSIS_ALTITUDE = 353.19
PERIAPSIS_ARGUMENT_ANGLE = 157.01
PERIAPSIS_TIME = 2011-05-11T01:32:14.000Z
SPACECRAFT_ORIENTATION = (0.0,-1.0,0.0)
^MEX_ORIENTATION_DESC = "MEX_ORIENTATION_DESC.TXT"
SPACECRAFT_POINTING_MODE = ACROSSTRACK
^MEX_POINTING_DESC = "MEX_POINTING_DESC.TXT"
RIGHT_ASCENSION = -1e+32
DECLINATION = -1e+32
OFFSET_ANGLE = -0.4
SPACECRAFT_SOLAR_DISTANCE = 2.10692e+08
TARGET_NAME = MARS
/* CAMERA DATA ELEMENTS */
DETECTOR_TEMPERATURE = 17.351
FOCAL_PLANE_TEMPERATURE = 8.1755
INST_CMPRS_NAME = "DISCRETE COSINE TRANSFORMATION (DCT)"
INST_CMPRS_RATIO = 4.97315
INST_CMPRS_QUALITY = 0
INST_CMPRS_QUANTZ_TBL_ID = 0
INSTRUMENT_TEMPERATURE = 11.0301
LENS_TEMPERATURE = 8.3794
MACROPIXEL_SIZE = 4
MISSING_FRAMES = 0
PIXEL_SUBSAMPLING_FLAG = N
SIGNAL_CHAIN_ID = 2
/* RADIOMETRIC DATA ELEMENTS */
BANDWIDTH = 81.0
CENTER_FILTER_WAVELENGTH = 955.5
RADIANCE_OFFSET = 0.799842
RADIANCE_SCALING_FACTOR = 0.00368813
REFLECTANCE_SCALING_FACTOR = 0.000353208
MEX:REFLECTANCE_OFFSET = 0.0766
/* IMAGE OBJECT DEFINITIONS */
OBJECT = IMAGE
  INTERCHANGE_FORMAT = BINARY
  LINES = 10037
  LINE_SAMPLES = 1620
  SAMPLE_TYPE = UNSIGNED_INTEGER
  SAMPLE_BITS = 8
  BANDS = 1
  BAND_STORAGE_TYPE = BAND_SEQUENTIAL
  MAXIMUM = 255
  MEAN = 106.067
  MINIMUM = 1
  STANDARD_DEVIATION = 28.4942
END_OBJECT = IMAGE
/* MAP OBJECT DEFINITIONS */
OBJECT = IMAGE_MAP_PROJECTION
  ^DATA_SET_MAP_PROJECTION_CATALOG= "DSMAP.CAT"
  A_AXIS_RADIUS = 3396.0
  B_AXIS_RADIUS = 3396.0
  C_AXIS_RADIUS = 3396.0
  CENTER_LATITUDE = 0.0
  CENTER_LONGITUDE = 172.0
  COORDINATE_SYSTEM_NAME = PLANETOGRAPHIC
  COORDINATE_SYSTEM_TYPE = "BODY-FIXED ROTATING"
  EASTERNMOST_LONGITUDE = 172.982
  FIRST_STANDARD_PARALLEL = "N/A"
  LINE_FIRST_PIXEL = 1
  LINE_LAST_PIXEL = 10037
  LINE_PROJECTION_OFFSET = 27076.125
  MAP_PROJECTION_ROTATION = 0.0
  MAP_PROJECTION_TYPE = SINUSOIDAL
  MAP_RESOLUTION = 1185.42760773333
  MAP_SCALE = 0.05
  MAXIMUM_LATITUDE = 22.8764
  MINIMUM_LATITUDE = 14.3431
  POSITIVE_LONGITUDE_DIRECTION = EAST
  REFERENCE_LATITUDE = "N/A"
  REFERENCE_LONGITUDE = "N/A"
  SAMPLE_FIRST_PIXEL = 1
  SAMPLE_LAST_PIXEL = 1620
  SAMPLE_PROJECTION_OFFSET = 477.125
  SECOND_STANDARD_PARALLEL = "N/A"
  WESTERNMOST_LONGITUDE = 171.622
END_OBJECT = IMAGE_MAP_PROJECTION
/* The JPEG2000 image data file associated with this label. */
OBJECT = COMPRESSED_FILE
  FILE_NAME = "H9391_0000_IR3.JP2"
  RECORD_TYPE = UNDEFINED
  FILE_RECORDS = UNK
  ENCODING_TYPE = "JP2"
  INTERCHANGE_FORMAT = BINARY
  UNCOMPRESSED_FILE_NAME = "H9391_0000_IR3.IMG"
  REQUIRED_STORAGE_BYTES = "16279380"
  ^DESCRIPTION = "JP2INFO.TXT"
END_OBJECT = COMPRESSED_FILE
END
