PDS_VERSION_ID = PDS3
/* FILE DATA ELEMENTS */
RECORD_TYPE = STREAM
/* POINTERS TO DATA OBJECTS */
^COMPRESSED_FILE = "H9391_0000_S13.JP2"
/* IDENTIFICATION DATA ELEMENTS */
DATA_SET_ID = "MEX-M-HRSC-5-REFDR-MAPPROJECTED-V3.0"
DATA_SET_NAME = "MARS EXPRESS HRSC MAP PROJECTED REFDR V3.0"
DETECTOR_ID = MEX_HRSC_S1
EVENT_TYPE = "MARS-REGIONAL-MAPPING-Vo-Te-Pf"
INSTRUMENT_HOST_ID = MEX
INSTRUMENT_HOST_NAME = "MARS EXPRESS"
INSTRUMENT_ID = HRSC
INSTRUMENT_NAME = "HIGH RESOLUTION STEREO CAMERA"
MISSION_NAME = "MARS EXPRESS"
MISSION_PHASE_NAME = ME_Phase_23
PROCESSING_LEVEL_ID = 3
PRODUCT_CREATION_TIME = 2016-10-26T12:35:54.000Z
PRODUCT_ID = "H9391_0000_S13.JP2"
RELEASE_ID = 0096
REVISION_ID = 0000
/* QUALITY DATA ELEMENTS */
DATA_QUALITY_ID = 1
DATA_QUALITY_DESC = "Data calculated based on original SPICE kernels"
/* TIME DATA ELEMENTS */
SPACECRAFT_CLOCK_START_COUNT = "1/0253157502.09064"
SPACECRAFT_CLOCK_STOP_COUNT = "1/0253157701.23544"
START_TIME = 2011-05-11T01:31:45.101Z
STOP_TIME = 2011-05-11T01:33:55.199Z
/* ORBITAL DATA ELEMENTS */
ASCENDING_NODE_LONGITUDE = 37.94
MAXIMUM_RESOLUTION = 30.2
FOOTPRINT_POINT_LATITUDE = (22.8738,22.869,22.8638,22.8581,22.8519 ,22.8451,22.8379,22.6256,22.4588, 22.2085,21.9579,21.7908,21.6236,21.4563 ,21.2889,21.1215,20.954,20.7864,20.6188 ,20.4511,20.2833,20.1154,19.9475, 19.7795,19.6114,19.4432,19.191,19.0227, 18.7707,18.5174,18.2657,18.014,17.8464, 17.678,17.426,17.1687,16.9146,16.7442, 16.5751,16.4061,16.2394,16.0695,15.8998 ,15.7306,15.5612,15.307,15.0531,14.8832 ,14.714,14.5456,14.3489,14.3535,14.3607 ,14.3664,14.3711,14.4599,14.6304, 14.8847,15.0532,15.2242,15.4778,15.6467 ,15.8162,15.9865,16.1553,16.3237,16.494 ,16.7469,16.916,17.0862,17.2551,17.5083 ,17.6787,17.9326,18.1024,18.2727, 18.4408,18.6068,18.7769,18.9483,19.1186 ,19.2842,19.4519,19.7034,19.8712, 20.0407,20.209,20.3797,20.546,20.7977, 20.9652,21.1345,21.3879,21.5548,21.8849 ,22.0534,22.2181,22.3855,22.5525, 22.8738)
FOOTPRINT_POINT_LONGITUDE = (172.979,172.774,172.568,172.361, 172.153,171.944,171.733,171.616,171.618 ,171.621,171.624,171.626,171.627, 171.629,171.631,171.632,171.634,171.635 ,171.636,171.638,171.639,171.64,171.641 ,171.642,171.643,171.644,171.645, 171.646,171.647,171.648,171.649,171.651 ,171.652,171.652,171.653,171.651, 171.651,171.651,171.651,171.651,171.652 ,171.651,171.651,171.65,171.65,171.649, 171.649,171.648,171.648,171.647,171.738 ,171.945,172.19,172.51,172.727,172.972, 172.972,172.972,172.973,172.973,172.973 ,172.973,172.974,172.974,172.974, 172.974,172.974,172.975,172.975,172.975 ,172.975,172.976,172.976,172.976, 172.976,172.976,172.977,172.977,172.977 ,172.977,172.977,172.978,172.978, 172.979,172.979,172.979,172.979,172.979 ,172.98,172.98,172.981,172.981,172.981, 172.981,172.982,172.982,172.983,172.983 ,172.983,172.979)
ORBIT_NUMBER = 9391
ORBITAL_ECCENTRICITY = 0.576
ORBITAL_INCLINATION = 86.86
ORBITAL_SEMIMAJOR_AXIS = 8838.12
PERIAPSIS_ALTITUDE = 353.19
PERIAPSIS_ARGUMENT_ANGLE = 157.01
PERIAPSIS_TIME = 2011-05-11T01:32:14.000Z
SPACECRAFT_ORIENTATION = (0.0,-1.0,0.0)
^MEX_ORIENTATION_DESC = "MEX_ORIENTATION_DESC.TXT"
SPACECRAFT_POINTING_MODE = ACROSSTRACK
^MEX_POINTING_DESC = "MEX_POINTING_DESC.TXT"
RIGHT_ASCENSION = -1e+32
DECLINATION = -1e+32
OFFSET_ANGLE = -0.4
SPACECRAFT_SOLAR_DISTANCE = 2.10692e+08
TARGET_NAME = MARS
/* CAMERA DATA ELEMENTS */
DETECTOR_TEMPERATURE = 17.351
FOCAL_PLANE_TEMPERATURE = 8.1755
INST_CMPRS_NAME = "DISCRETE COSINE TRANSFORMATION (DCT)"
INST_CMPRS_RATIO = 7.74741
INST_CMPRS_QUALITY = 0
INST_CMPRS_QUANTZ_TBL_ID = 0
INSTRUMENT_TEMPERATURE = 11.0301
LENS_TEMPERATURE = 8.3794
MACROPIXEL_SIZE = 2
MISSING_FRAMES = 0
PIXEL_SUBSAMPLING_FLAG = N
SIGNAL_CHAIN_ID = 1
/* RADIOMETRIC DATA ELEMENTS */
BANDWIDTH = 180.0
CENTER_FILTER_WAVELENGTH = 677.0
RADIANCE_OFFSET = 3.67987
RADIANCE_SCALING_FACTOR = 0.0131308
REFLECTANCE_SCALING_FACTOR = 0.000304109
MEX:REFLECTANCE_OFFSET = 0.0852258
/* IMAGE OBJECT DEFINITIONS */
OBJECT = IMAGE
  INTERCHANGE_FORMAT = BINARY
  LINES = 20074
  LINE_SAMPLES = 3240
  SAMPLE_TYPE = UNSIGNED_INTEGER
  SAMPLE_BITS = 8
  BANDS = 1
  BAND_STORAGE_TYPE = BAND_SEQUENTIAL
  MAXIMUM = 255
  MEAN = 104.385
  MINIMUM = 1
  STANDARD_DEVIATION = 29.1284
END_OBJECT = IMAGE
/* MAP OBJECT DEFINITIONS */
OBJECT = IMAGE_MAP_PROJECTION
  ^DATA_SET_MAP_PROJECTION_CATALOG= "DSMAP.CAT"
  A_AXIS_RADIUS = 3396.0
  B_AXIS_RADIUS = 3396.0
  C_AXIS_RADIUS = 3396.0
  CENTER_LATITUDE = 0.0
  CENTER_LONGITUDE = 172.0
  COORDINATE_SYSTEM_NAME = PLANETOGRAPHIC
  COORDINATE_SYSTEM_TYPE = "BODY-FIXED ROTATING"
  EASTERNMOST_LONGITUDE = 172.983
  FIRST_STANDARD_PARALLEL = "N/A"
  LINE_FIRST_PIXEL = 1
  LINE_LAST_PIXEL = 20074
  LINE_PROJECTION_OFFSET = 54152.75
  MAP_PROJECTION_ROTATION = 0.0
  MAP_PROJECTION_TYPE = SINUSOIDAL
  MAP_RESOLUTION = 2370.85521546667
  MAP_SCALE = 0.025
  MAXIMUM_LATITUDE = 22.8738
  MINIMUM_LATITUDE = 14.3489
  POSITIVE_LONGITUDE_DIRECTION = EAST
  REFERENCE_LATITUDE = "N/A"
  REFERENCE_LONGITUDE = "N/A"
  SAMPLE_FIRST_PIXEL = 1
  SAMPLE_LAST_PIXEL = 3240
  SAMPLE_PROJECTION_OFFSET = 954.75
  SECOND_STANDARD_PARALLEL = "N/A"
  WESTERNMOST_LONGITUDE = 171.616
END_OBJECT = IMAGE_MAP_PROJECTION
/* The JPEG2000 image data file associated with this label. */
OBJECT = COMPRESSED_FILE
  FILE_NAME = "H9391_0000_S13.JP2"
  RECORD_TYPE = UNDEFINED
  FILE_RECORDS = UNK
  ENCODING_TYPE = "JP2"
  INTERCHANGE_FORMAT = BINARY
  UNCOMPRESSED_FILE_NAME = "H9391_0000_S13.IMG"
  REQUIRED_STORAGE_BYTES = "65062440"
  ^DESCRIPTION = "JP2INFO.TXT"
END_OBJECT = COMPRESSED_FILE
END
