PDS_VERSION_ID = PDS3
/* FILE DATA ELEMENTS */
RECORD_TYPE = STREAM
/* POINTERS TO DATA OBJECTS */
^COMPRESSED_FILE = "H9407_0000_P23.JP2"
/* IDENTIFICATION DATA ELEMENTS */
DATA_SET_ID = "MEX-M-HRSC-5-REFDR-MAPPROJECTED-V3.0"
DATA_SET_NAME = "MARS EXPRESS HRSC MAP PROJECTED REFDR V3.0"
DETECTOR_ID = MEX_HRSC_P2
EVENT_TYPE = "MARS-REGIONAL-MAPPING-Im-Fl-Lc"
INSTRUMENT_HOST_ID = MEX
INSTRUMENT_HOST_NAME = "MARS EXPRESS"
INSTRUMENT_ID = HRSC
INSTRUMENT_NAME = "HIGH RESOLUTION STEREO CAMERA"
MISSION_NAME = "MARS EXPRESS"
MISSION_PHASE_NAME = ME_Phase_23
PROCESSING_LEVEL_ID = 3
PRODUCT_CREATION_TIME = 2016-10-26T17:49:15.000Z
PRODUCT_ID = "H9407_0000_P23.JP2"
RELEASE_ID = 0097
REVISION_ID = 0000
/* QUALITY DATA ELEMENTS */
DATA_QUALITY_ID = 1
DATA_QUALITY_DESC = "Data calculated based on original SPICE kernels"
/* TIME DATA ELEMENTS */
SPACECRAFT_CLOCK_START_COUNT = "1/0253560425.07294"
SPACECRAFT_CLOCK_STOP_COUNT = "1/0253560678.00082"
START_TIME = 2011-05-15T17:28:02.197Z
STOP_TIME = 2011-05-15T17:31:04.564Z
/* ORBITAL DATA ELEMENTS */
ASCENDING_NODE_LONGITUDE = 37.64
MAXIMUM_RESOLUTION = 60.6
FOOTPRINT_POINT_LATITUDE = (20.282,20.2763,20.2705,20.2647,20.259, 20.2532,20.1739,19.8781,19.6808,19.4839 ,19.189,18.8951,18.6626,18.4281,18.1944 ,17.9609,17.7269,17.4933,17.1435, 16.7945,16.562,16.2131,15.8652,15.6333, 15.2865,15.0554,14.8251,14.5942,14.2483 ,14.0181,13.6765,13.3299,13.099,12.7547 ,12.4146,12.1868,11.9597,11.6196, 11.3973,11.1679,10.8245,10.4772,10.2458 ,10.015,9.79059,9.44009,9.19947,8.96471 ,8.92071,8.9275,8.93408,8.93887,8.942, 8.9462,9.18397,9.42,9.65366,9.88282, 10.1128,10.3441,10.5758,10.9237,11.2634 ,11.6036,11.8306,12.0583,12.3997,12.629 ,12.8568,13.087,13.3163,13.5456,13.89, 14.1198,14.35,14.6977,14.932,15.164, 15.3949,15.6217,15.8542,16.2009,16.5491 ,16.7829,17.015,17.2482,17.4812,17.7152 ,17.9487,18.1826,18.4162,18.6503, 18.9867,19.1842,19.384,19.5825,19.7796, 19.9736,20.1695,20.282)
FOOTPRINT_POINT_LONGITUDE = (337.68,337.47,337.262,337.057,336.854, 336.652,336.503,336.501,336.499,336.497 ,336.494,336.492,336.489,336.486, 336.484,336.481,336.479,336.476,336.471 ,336.467,336.464,336.459,336.454, 336.451,336.446,336.442,336.439,336.435 ,336.429,336.425,336.42,336.413,336.409 ,336.403,336.397,336.392,336.388, 336.381,336.377,336.372,336.365,336.358 ,336.353,336.348,336.343,336.335, 336.329,336.324,336.658,336.858,337.059 ,337.219,337.422,337.714,337.864, 337.864,337.864,337.862,337.861,337.861 ,337.861,337.861,337.862,337.862, 337.863,337.863,337.864,337.865,337.865 ,337.868,337.869,337.869,337.871, 337.871,337.872,337.876,337.88,337.882, 337.883,337.879,337.881,337.881,337.882 ,337.885,337.885,337.887,337.888, 337.889,337.89,337.892,337.893,337.894, 337.896,337.898,337.902,337.905,337.907 ,337.904,337.904,337.68)
ORBIT_NUMBER = 9407
ORBITAL_ECCENTRICITY = 0.576
ORBITAL_INCLINATION = 86.87
ORBITAL_SEMIMAJOR_AXIS = 8835.35
PERIAPSIS_ALTITUDE = 354.73
PERIAPSIS_ARGUMENT_ANGLE = 154.21
PERIAPSIS_TIME = 2011-05-15T17:26:15.000Z
SPACECRAFT_ORIENTATION = (0.0,-1.0,0.0)
^MEX_ORIENTATION_DESC = "MEX_ORIENTATION_DESC.TXT"
SPACECRAFT_POINTING_MODE = ACROSSTRACK
^MEX_POINTING_DESC = "MEX_POINTING_DESC.TXT"
RIGHT_ASCENSION = -1e+32
DECLINATION = -1e+32
OFFSET_ANGLE = 0.87
SPACECRAFT_SOLAR_DISTANCE = 2.11286e+08
TARGET_NAME = MARS
/* CAMERA DATA ELEMENTS */
DETECTOR_TEMPERATURE = 18.5744
FOCAL_PLANE_TEMPERATURE = 8.5833
INST_CMPRS_NAME = "DISCRETE COSINE TRANSFORMATION (DCT)"
INST_CMPRS_RATIO = 6.4676
INST_CMPRS_QUALITY = 0
INST_CMPRS_QUANTZ_TBL_ID = 0
INSTRUMENT_TEMPERATURE = 11.234
LENS_TEMPERATURE = 8.7872
MACROPIXEL_SIZE = 4
MISSING_FRAMES = 0
PIXEL_SUBSAMPLING_FLAG = N
SIGNAL_CHAIN_ID = 3
/* RADIOMETRIC DATA ELEMENTS */
BANDWIDTH = 177.0
CENTER_FILTER_WAVELENGTH = 676.5
RADIANCE_OFFSET = 2.4267
RADIANCE_SCALING_FACTOR = 0.019033
REFLECTANCE_SCALING_FACTOR = 0.00045051
MEX:REFLECTANCE_OFFSET = 0.05744
/* IMAGE OBJECT DEFINITIONS */
OBJECT = IMAGE
  INTERCHANGE_FORMAT = BINARY
  LINES = 13481
  LINE_SAMPLES = 1860
  SAMPLE_TYPE = UNSIGNED_INTEGER
  SAMPLE_BITS = 8
  BANDS = 1
  BAND_STORAGE_TYPE = BAND_SEQUENTIAL
  MAXIMUM = 255
  MEAN = 95.0364
  MINIMUM = 1
  STANDARD_DEVIATION = 40.127
END_OBJECT = IMAGE
/* MAP OBJECT DEFINITIONS */
OBJECT = IMAGE_MAP_PROJECTION
  ^DATA_SET_MAP_PROJECTION_CATALOG= "DSMAP.CAT"
  A_AXIS_RADIUS = 3396.0
  B_AXIS_RADIUS = 3396.0
  C_AXIS_RADIUS = 3396.0
  CENTER_LATITUDE = 0.0
  CENTER_LONGITUDE = 337.0
  COORDINATE_SYSTEM_NAME = PLANETOGRAPHIC
  COORDINATE_SYSTEM_TYPE = "BODY-FIXED ROTATING"
  EASTERNMOST_LONGITUDE = 337.907
  FIRST_STANDARD_PARALLEL = "N/A"
  LINE_FIRST_PIXEL = 1
  LINE_LAST_PIXEL = 13481
  LINE_PROJECTION_OFFSET = 24043.875
  MAP_PROJECTION_ROTATION = 0.0
  MAP_PROJECTION_TYPE = SINUSOIDAL
  MAP_RESOLUTION = 1185.42760773333
  MAP_SCALE = 0.05
  MAXIMUM_LATITUDE = 20.282
  MINIMUM_LATITUDE = 8.92071
  POSITIVE_LONGITUDE_DIRECTION = EAST
  REFERENCE_LATITUDE = "N/A"
  REFERENCE_LONGITUDE = "N/A"
  SAMPLE_FIRST_PIXEL = 1
  SAMPLE_LAST_PIXEL = 1860
  SAMPLE_PROJECTION_OFFSET = 773.875
  SECOND_STANDARD_PARALLEL = "N/A"
  WESTERNMOST_LONGITUDE = 336.324
END_OBJECT = IMAGE_MAP_PROJECTION
/* The JPEG2000 image data file associated with this label. */
OBJECT = COMPRESSED_FILE
  FILE_NAME = "H9407_0000_P23.JP2"
  RECORD_TYPE = UNDEFINED
  FILE_RECORDS = UNK
  ENCODING_TYPE = "JP2"
  INTERCHANGE_FORMAT = BINARY
  UNCOMPRESSED_FILE_NAME = "H9407_0000_P23.IMG"
  REQUIRED_STORAGE_BYTES = "25093260"
  ^DESCRIPTION = "JP2INFO.TXT"
END_OBJECT = COMPRESSED_FILE
END
