PDS_VERSION_ID = PDS3
/* FILE DATA ELEMENTS */
RECORD_TYPE = STREAM
/* POINTERS TO DATA OBJECTS */
^COMPRESSED_FILE = "H9411_0000_S13.JP2"
/* IDENTIFICATION DATA ELEMENTS */
DATA_SET_ID = "MEX-M-HRSC-5-REFDR-MAPPROJECTED-V3.0"
DATA_SET_NAME = "MARS EXPRESS HRSC MAP PROJECTED REFDR V3.0"
DETECTOR_ID = MEX_HRSC_S1
EVENT_TYPE = "MARS-REGIONAL-MAPPING-Vo-Te-Fl"
INSTRUMENT_HOST_ID = MEX
INSTRUMENT_HOST_NAME = "MARS EXPRESS"
INSTRUMENT_ID = HRSC
INSTRUMENT_NAME = "HIGH RESOLUTION STEREO CAMERA"
MISSION_NAME = "MARS EXPRESS"
MISSION_PHASE_NAME = ME_Phase_23
PROCESSING_LEVEL_ID = 3
PRODUCT_CREATION_TIME = 2016-10-26T17:49:15.000Z
PRODUCT_ID = "H9411_0000_S13.JP2"
RELEASE_ID = 0097
REVISION_ID = 0000
/* QUALITY DATA ELEMENTS */
DATA_QUALITY_ID = 1
DATA_QUALITY_DESC = "Data calculated based on original SPICE kernels"
/* TIME DATA ELEMENTS */
SPACECRAFT_CLOCK_START_COUNT = "1/0253661278.09129"
SPACECRAFT_CLOCK_STOP_COUNT = "1/0253661523.50325"
START_TIME = 2011-05-16T21:28:01.075Z
STOP_TIME = 2011-05-16T21:30:32.215Z
/* ORBITAL DATA ELEMENTS */
ASCENDING_NODE_LONGITUDE = 37.56
MAXIMUM_RESOLUTION = 32.5
FOOTPRINT_POINT_LATITUDE = (12.1372,12.1361,12.1345,12.1326, 12.1302,12.1274,12.0232,11.8319,11.6403 ,11.4489,11.1618,10.875,10.5882,10.3969 ,10.2059,10.0147,9.8236,9.63264,9.44176 ,9.25075,9.05971,8.86877,8.48762, 8.29693,8.01098,7.62987,7.34412,7.15075 ,6.95523,6.76012,6.46671,6.27109, 6.07616,5.88097,5.68174,5.4817,5.28242, 4.98043,4.77898,4.58141,4.27469,4.06983 ,3.86467,3.55792,3.35482,3.14845, 2.94049,2.62914,2.27069,2.27297,2.28085 ,2.28039,2.27984,2.27891,2.5921,2.80084 ,3.00945,3.21817,3.4238,3.62763,3.83111 ,4.0364,4.24164,4.44703,4.64936,4.84959 ,5.05014,5.35094,5.55164,5.85227, 6.14571,6.34135,6.53717,6.73316,6.929, 7.12502,7.31973,7.60618,7.79706,8.08319 ,8.27409,8.46515,8.65646,8.84764, 9.03833,9.22929,9.42031,9.70716,9.89848 ,10.09,10.2814,10.4729,10.6639,10.8551, 11.0466,11.238,11.4297,11.6213,11.8128, 12.1372)
FOOTPRINT_POINT_LONGITUDE = (287.413,287.202,286.99,286.778,286.565 ,286.352,286.09,286.088,286.086,286.083 ,286.079,286.075,286.071,286.069, 286.066,286.063,286.06,286.057,286.054, 286.051,286.048,286.045,286.039,286.036 ,286.031,286.024,286.019,286.015, 286.011,286.008,286.002,285.998,285.994 ,285.99,285.986,285.981,285.978,285.97, 285.965,285.962,285.954,285.95,285.945, 285.937,285.933,285.929,285.924,285.917 ,285.966,286.227,286.488,286.868,287.11 ,287.337,287.478,287.478,287.477, 287.477,287.477,287.477,287.476,287.476 ,287.475,287.475,287.475,287.474, 287.474,287.473,287.473,287.472,287.472 ,287.471,287.471,287.471,287.471,287.47 ,287.47,287.47,287.469,287.469,287.469, 287.469,287.468,287.468,287.468,287.468 ,287.468,287.468,287.468,287.467, 287.467,287.467,287.467,287.467,287.467 ,287.467,287.467,287.466,287.466, 287.413)
ORBIT_NUMBER = 9411
ORBITAL_ECCENTRICITY = 0.576
ORBITAL_INCLINATION = 86.86
ORBITAL_SEMIMAJOR_AXIS = 8842.47
PERIAPSIS_ALTITUDE = 354.9
PERIAPSIS_ARGUMENT_ANGLE = 153.55
PERIAPSIS_TIME = 2011-05-16T21:24:53.000Z
SPACECRAFT_ORIENTATION = (0.0,-1.0,0.0)
^MEX_ORIENTATION_DESC = "MEX_ORIENTATION_DESC.TXT"
SPACECRAFT_POINTING_MODE = ACROSSTRACK
^MEX_POINTING_DESC = "MEX_POINTING_DESC.TXT"
RIGHT_ASCENSION = -1e+32
DECLINATION = -1e+32
OFFSET_ANGLE = -0.25
SPACECRAFT_SOLAR_DISTANCE = 2.11439e+08
TARGET_NAME = MARS
/* CAMERA DATA ELEMENTS */
DETECTOR_TEMPERATURE = 17.7588
FOCAL_PLANE_TEMPERATURE = 8.9911
INST_CMPRS_NAME = "DISCRETE COSINE TRANSFORMATION (DCT)"
INST_CMPRS_RATIO = 7.80393
INST_CMPRS_QUALITY = 0
INST_CMPRS_QUANTZ_TBL_ID = 0
INSTRUMENT_TEMPERATURE = 11.234
LENS_TEMPERATURE = 9.3989
MACROPIXEL_SIZE = 2
MISSING_FRAMES = 0
PIXEL_SUBSAMPLING_FLAG = N
SIGNAL_CHAIN_ID = 1
/* RADIOMETRIC DATA ELEMENTS */
BANDWIDTH = 180.0
CENTER_FILTER_WAVELENGTH = 677.0
RADIANCE_OFFSET = 4.43892
RADIANCE_SCALING_FACTOR = 0.0255179
REFLECTANCE_SCALING_FACTOR = 0.000595196
MEX:REFLECTANCE_OFFSET = 0.103536
/* IMAGE OBJECT DEFINITIONS */
OBJECT = IMAGE
  INTERCHANGE_FORMAT = BINARY
  LINES = 23427
  LINE_SAMPLES = 4128
  SAMPLE_TYPE = UNSIGNED_INTEGER
  SAMPLE_BITS = 8
  BANDS = 1
  BAND_STORAGE_TYPE = BAND_SEQUENTIAL
  MAXIMUM = 255
  MEAN = 105.611
  MINIMUM = 1
  STANDARD_DEVIATION = 24.5367
END_OBJECT = IMAGE
/* MAP OBJECT DEFINITIONS */
OBJECT = IMAGE_MAP_PROJECTION
  ^DATA_SET_MAP_PROJECTION_CATALOG= "DSMAP.CAT"
  A_AXIS_RADIUS = 3396.0
  B_AXIS_RADIUS = 3396.0
  C_AXIS_RADIUS = 3396.0
  CENTER_LATITUDE = 0.0
  CENTER_LONGITUDE = 287.0
  COORDINATE_SYSTEM_NAME = PLANETOGRAPHIC
  COORDINATE_SYSTEM_TYPE = "BODY-FIXED ROTATING"
  EASTERNMOST_LONGITUDE = 287.478
  FIRST_STANDARD_PARALLEL = "N/A"
  LINE_FIRST_PIXEL = 1
  LINE_LAST_PIXEL = 23427
  LINE_PROJECTION_OFFSET = 28750.25
  MAP_PROJECTION_ROTATION = 0.0
  MAP_PROJECTION_TYPE = SINUSOIDAL
  MAP_RESOLUTION = 2370.85521546667
  MAP_SCALE = 0.025
  MAXIMUM_LATITUDE = 12.1372
  MINIMUM_LATITUDE = 2.27069
  POSITIVE_LONGITUDE_DIRECTION = EAST
  REFERENCE_LATITUDE = "N/A"
  REFERENCE_LONGITUDE = "N/A"
  SAMPLE_FIRST_PIXEL = 1
  SAMPLE_LAST_PIXEL = 4128
  SAMPLE_PROJECTION_OFFSET = 2819.25
  SECOND_STANDARD_PARALLEL = "N/A"
  WESTERNMOST_LONGITUDE = 285.917
END_OBJECT = IMAGE_MAP_PROJECTION
/* The JPEG2000 image data file associated with this label. */
OBJECT = COMPRESSED_FILE
  FILE_NAME = "H9411_0000_S13.JP2"
  RECORD_TYPE = UNDEFINED
  FILE_RECORDS = UNK
  ENCODING_TYPE = "JP2"
  INTERCHANGE_FORMAT = BINARY
  UNCOMPRESSED_FILE_NAME = "H9411_0000_S13.IMG"
  REQUIRED_STORAGE_BYTES = "96731424"
  ^DESCRIPTION = "JP2INFO.TXT"
END_OBJECT = COMPRESSED_FILE
END
