PDS_VERSION_ID = PDS3
/* FILE DATA ELEMENTS */
RECORD_TYPE = STREAM
/* POINTERS TO DATA OBJECTS */
^COMPRESSED_FILE = "H9412_0000_P13.JP2"
/* IDENTIFICATION DATA ELEMENTS */
DATA_SET_ID = "MEX-M-HRSC-5-REFDR-MAPPROJECTED-V3.0"
DATA_SET_NAME = "MARS EXPRESS HRSC MAP PROJECTED REFDR V3.0"
DETECTOR_ID = MEX_HRSC_P1
EVENT_TYPE = "MARS-REGIONAL-MAPPING-Vo-Te-Pf"
INSTRUMENT_HOST_ID = MEX
INSTRUMENT_HOST_NAME = "MARS EXPRESS"
INSTRUMENT_ID = HRSC
INSTRUMENT_NAME = "HIGH RESOLUTION STEREO CAMERA"
MISSION_NAME = "MARS EXPRESS"
MISSION_PHASE_NAME = ME_Phase_23
PROCESSING_LEVEL_ID = 3
PRODUCT_CREATION_TIME = 2016-10-26T17:49:15.000Z
PRODUCT_ID = "H9412_0000_P13.JP2"
RELEASE_ID = 0097
REVISION_ID = 0000
/* QUALITY DATA ELEMENTS */
DATA_QUALITY_ID = 1
DATA_QUALITY_DESC = "Data calculated based on original SPICE kernels"
/* TIME DATA ELEMENTS */
SPACECRAFT_CLOCK_START_COUNT = "1/0253686244.08236"
SPACECRAFT_CLOCK_STOP_COUNT = "1/0253686503.42011"
START_TIME = 2011-05-17T04:24:18.198Z
STOP_TIME = 2011-05-17T04:27:24.430Z
/* ORBITAL DATA ELEMENTS */
ASCENDING_NODE_LONGITUDE = 37.54
MAXIMUM_RESOLUTION = 59
FOOTPRINT_POINT_LATITUDE = (25.8738,25.8678,25.8614,25.8545, 25.8472,25.8035,25.5733,25.228,24.8812, 24.5355,24.3041,24.0739,23.8423,23.6108 ,23.3798,23.1491,22.9173,22.6854,22.454 ,22.2224,21.8747,21.6429,21.4113, 21.1795,20.9481,20.6009,20.3678,20.1359 ,19.904,19.672,19.4398,19.2078,18.8597, 18.5116,18.2795,17.9313,17.6992,17.351, 17.1189,16.7708,16.5387,16.143,15.8661, 15.4507,15.1742,14.897,14.6202,14.3436, 13.9286,13.7227,13.7267,13.7321,13.7368 ,13.7411,13.7449,13.7487,13.7539, 14.1688,14.4454,14.8607,15.1378,15.5536 ,15.8308,16.2466,16.6312,16.9798, 17.2121,17.4446,17.677,17.9093,18.1418, 18.4904,18.7229,19.0714,19.4199,19.7685 ,20.117,20.4654,20.6978,20.9298,21.1618 ,21.3939,21.626,21.858,22.09,22.4379, 22.7857,23.0184,23.2498,23.482,23.7126, 24.06,24.2916,24.5242,24.7545,24.9859, 25.3321,25.5629,25.7935,25.8738)
FOOTPRINT_POINT_LONGITUDE = (184.503,184.3,184.095,183.889,183.681, 183.395,183.4,183.406,183.411,183.417, 183.42,183.424,183.427,183.429,183.433, 183.436,183.438,183.44,183.443,183.445, 183.448,183.45,183.452,183.453,183.455, 183.458,183.458,183.459,183.461,183.462 ,183.462,183.463,183.464,183.465, 183.465,183.465,183.465,183.465,183.465 ,183.464,183.463,183.462,183.461, 183.459,183.458,183.457,183.455,183.453 ,183.45,183.449,183.607,183.831,184.041 ,184.249,184.442,184.648,184.843, 184.842,184.842,184.841,184.84,184.839, 184.838,184.837,184.836,184.835,184.835 ,184.834,184.833,184.833,184.832, 184.831,184.831,184.83,184.829,184.828, 184.827,184.826,184.825,184.824,184.824 ,184.823,184.822,184.821,184.821, 184.819,184.818,184.817,184.817,184.816 ,184.815,184.814,184.813,184.812, 184.811,184.81,184.809,184.808,184.807, 184.503)
ORBIT_NUMBER = 9412
ORBITAL_ECCENTRICITY = 0.576
ORBITAL_INCLINATION = 86.87
ORBITAL_SEMIMAJOR_AXIS = 8832.78
PERIAPSIS_ALTITUDE = 355.36
PERIAPSIS_ARGUMENT_ANGLE = 153.35
PERIAPSIS_TIME = 2011-05-17T04:24:27.000Z
SPACECRAFT_ORIENTATION = (0.0,-1.0,0.0)
^MEX_ORIENTATION_DESC = "MEX_ORIENTATION_DESC.TXT"
SPACECRAFT_POINTING_MODE = ACROSSTRACK
^MEX_POINTING_DESC = "MEX_POINTING_DESC.TXT"
RIGHT_ASCENSION = -1e+32
DECLINATION = -1e+32
OFFSET_ANGLE = -0.6
SPACECRAFT_SOLAR_DISTANCE = 2.11478e+08
TARGET_NAME = MARS
/* CAMERA DATA ELEMENTS */
DETECTOR_TEMPERATURE = 18.5744
FOCAL_PLANE_TEMPERATURE = 9.6028
INST_CMPRS_NAME = "DISCRETE COSINE TRANSFORMATION (DCT)"
INST_CMPRS_RATIO = 14.9755
INST_CMPRS_QUALITY = 0
INST_CMPRS_QUANTZ_TBL_ID = 0
INSTRUMENT_TEMPERATURE = 11.6418
LENS_TEMPERATURE = 10.0106
MACROPIXEL_SIZE = 4
MISSING_FRAMES = 0
PIXEL_SUBSAMPLING_FLAG = N
SIGNAL_CHAIN_ID = 3
/* RADIOMETRIC DATA ELEMENTS */
BANDWIDTH = 174.0
CENTER_FILTER_WAVELENGTH = 675.0
RADIANCE_OFFSET = 3.51896
RADIANCE_SCALING_FACTOR = 0.0179939
REFLECTANCE_SCALING_FACTOR = 0.000432854
MEX:REFLECTANCE_OFFSET = 0.0846506
/* IMAGE OBJECT DEFINITIONS */
OBJECT = IMAGE
  INTERCHANGE_FORMAT = BINARY
  LINES = 14338
  LINE_SAMPLES = 1711
  SAMPLE_TYPE = UNSIGNED_INTEGER
  SAMPLE_BITS = 8
  BANDS = 1
  BAND_STORAGE_TYPE = BAND_SEQUENTIAL
  MAXIMUM = 255
  MEAN = 100.451
  MINIMUM = 1
  STANDARD_DEVIATION = 33.0074
END_OBJECT = IMAGE
/* MAP OBJECT DEFINITIONS */
OBJECT = IMAGE_MAP_PROJECTION
  ^DATA_SET_MAP_PROJECTION_CATALOG= "DSMAP.CAT"
  A_AXIS_RADIUS = 3396.0
  B_AXIS_RADIUS = 3396.0
  C_AXIS_RADIUS = 3396.0
  CENTER_LATITUDE = 0.0
  CENTER_LONGITUDE = 184.0
  COORDINATE_SYSTEM_NAME = PLANETOGRAPHIC
  COORDINATE_SYSTEM_TYPE = "BODY-FIXED ROTATING"
  EASTERNMOST_LONGITUDE = 184.843
  FIRST_STANDARD_PARALLEL = "N/A"
  LINE_FIRST_PIXEL = 1
  LINE_LAST_PIXEL = 14338
  LINE_PROJECTION_OFFSET = 30644.875
  MAP_PROJECTION_ROTATION = 0.0
  MAP_PROJECTION_TYPE = SINUSOIDAL
  MAP_RESOLUTION = 1185.42760773333
  MAP_SCALE = 0.05
  MAXIMUM_LATITUDE = 25.8738
  MINIMUM_LATITUDE = 13.7227
  POSITIVE_LONGITUDE_DIRECTION = EAST
  REFERENCE_LATITUDE = "N/A"
  REFERENCE_LONGITUDE = "N/A"
  SAMPLE_FIRST_PIXEL = 1
  SAMPLE_LAST_PIXEL = 1711
  SAMPLE_PROJECTION_OFFSET = 721.875
  SECOND_STANDARD_PARALLEL = "N/A"
  WESTERNMOST_LONGITUDE = 183.395
END_OBJECT = IMAGE_MAP_PROJECTION
/* The JPEG2000 image data file associated with this label. */
OBJECT = COMPRESSED_FILE
  FILE_NAME = "H9412_0000_P13.JP2"
  RECORD_TYPE = UNDEFINED
  FILE_RECORDS = UNK
  ENCODING_TYPE = "JP2"
  INTERCHANGE_FORMAT = BINARY
  UNCOMPRESSED_FILE_NAME = "H9412_0000_P13.IMG"
  REQUIRED_STORAGE_BYTES = "24552850"
  ^DESCRIPTION = "JP2INFO.TXT"
END_OBJECT = COMPRESSED_FILE
END
