PDS_VERSION_ID = PDS3
/* FILE DATA ELEMENTS */
RECORD_TYPE = STREAM
/* POINTERS TO DATA OBJECTS */
^COMPRESSED_FILE = "H9412_0000_P23.JP2"
/* IDENTIFICATION DATA ELEMENTS */
DATA_SET_ID = "MEX-M-HRSC-5-REFDR-MAPPROJECTED-V3.0"
DATA_SET_NAME = "MARS EXPRESS HRSC MAP PROJECTED REFDR V3.0"
DETECTOR_ID = MEX_HRSC_P2
EVENT_TYPE = "MARS-REGIONAL-MAPPING-Vo-Te-Pf"
INSTRUMENT_HOST_ID = MEX
INSTRUMENT_HOST_NAME = "MARS EXPRESS"
INSTRUMENT_ID = HRSC
INSTRUMENT_NAME = "HIGH RESOLUTION STEREO CAMERA"
MISSION_NAME = "MARS EXPRESS"
MISSION_PHASE_NAME = ME_Phase_23
PROCESSING_LEVEL_ID = 3
PRODUCT_CREATION_TIME = 2016-10-26T17:49:15.000Z
PRODUCT_ID = "H9412_0000_P23.JP2"
RELEASE_ID = 0097
REVISION_ID = 0000
/* QUALITY DATA ELEMENTS */
DATA_QUALITY_ID = 1
DATA_QUALITY_DESC = "Data calculated based on original SPICE kernels"
/* TIME DATA ELEMENTS */
SPACECRAFT_CLOCK_START_COUNT = "1/0253686244.08236"
SPACECRAFT_CLOCK_STOP_COUNT = "1/0253686503.42011"
START_TIME = 2011-05-17T04:25:00.632Z
STOP_TIME = 2011-05-17T04:28:11.413Z
/* ORBITAL DATA ELEMENTS */
ASCENDING_NODE_LONGITUDE = 37.54
MAXIMUM_RESOLUTION = 59.4
FOOTPRINT_POINT_LATITUDE = (25.8225,25.8259,25.8292,25.8324, 25.8712,25.6444,25.3036,24.9644,24.7381 ,24.3987,24.1726,23.9451,23.7206, 23.4951,23.2686,22.9312,22.7063,22.4812 ,22.256,22.0313,21.6948,21.3584,21.1342 ,20.7983,20.3511,20.1277,19.9046, 19.6815,19.4587,19.214,18.9485,18.6833, 18.4183,18.1536,17.8892,17.6252,17.3613 ,17.0978,16.8346,16.5716,16.309,16.0466 ,15.7846,15.5229,15.2615,14.8701, 14.6095,14.3493,14.0894,13.8298,13.787, 13.7809,13.7703,13.8881,14.2783,14.5382 ,14.7999,15.0612,15.3227,15.5846, 15.8467,16.1093,16.3721,16.6351,16.8986 ,17.1624,17.4263,17.6906,17.9552, 18.2201,18.4852,18.8834,19.1492,19.3995 ,19.6227,19.8459,20.0694,20.293,20.5166 ,20.7407,20.9651,21.3018,21.6387,21.976 ,22.201,22.4262,22.6516,22.9888,23.2149 ,23.4402,23.6672,23.8933,24.119,24.4573 ,24.7983,25.0245,25.252,25.593,25.8202, 25.8225)
FOOTPRINT_POINT_LONGITUDE = (184.414,184.209,184.002,183.794, 183.388,183.392,183.398,183.402,183.405 ,183.409,183.412,183.416,183.418,183.42 ,183.423,183.425,183.427,183.429, 183.431,183.433,183.434,183.436,183.438 ,183.439,183.44,183.441,183.442,183.442 ,183.442,183.443,183.443,183.443, 183.442,183.442,183.442,183.441,183.44, 183.439,183.438,183.437,183.435,183.434 ,183.432,183.431,183.429,183.426, 183.423,183.421,183.418,183.416,183.774 ,183.993,184.386,184.872,184.87,184.869 ,184.868,184.866,184.865,184.864, 184.862,184.861,184.86,184.858,184.857, 184.856,184.855,184.853,184.852,184.851 ,184.849,184.847,184.846,184.845, 184.843,184.842,184.841,184.84,184.839, 184.838,184.837,184.835,184.833,184.831 ,184.83,184.829,184.827,184.825,184.824 ,184.823,184.822,184.82,184.819,184.817 ,184.815,184.813,184.812,184.81,184.808 ,184.414)
ORBIT_NUMBER = 9412
ORBITAL_ECCENTRICITY = 0.576
ORBITAL_INCLINATION = 86.87
ORBITAL_SEMIMAJOR_AXIS = 8832.78
PERIAPSIS_ALTITUDE = 355.36
PERIAPSIS_ARGUMENT_ANGLE = 153.35
PERIAPSIS_TIME = 2011-05-17T04:24:27.000Z
SPACECRAFT_ORIENTATION = (0.0,-1.0,0.0)
^MEX_ORIENTATION_DESC = "MEX_ORIENTATION_DESC.TXT"
SPACECRAFT_POINTING_MODE = ACROSSTRACK
^MEX_POINTING_DESC = "MEX_POINTING_DESC.TXT"
RIGHT_ASCENSION = -1e+32
DECLINATION = -1e+32
OFFSET_ANGLE = -0.6
SPACECRAFT_SOLAR_DISTANCE = 2.11478e+08
TARGET_NAME = MARS
/* CAMERA DATA ELEMENTS */
DETECTOR_TEMPERATURE = 18.9822
FOCAL_PLANE_TEMPERATURE = 9.6028
INST_CMPRS_NAME = "DISCRETE COSINE TRANSFORMATION (DCT)"
INST_CMPRS_RATIO = 10.2213
INST_CMPRS_QUALITY = 0
INST_CMPRS_QUANTZ_TBL_ID = 0
INSTRUMENT_TEMPERATURE = 11.6418
LENS_TEMPERATURE = 10.0106
MACROPIXEL_SIZE = 4
MISSING_FRAMES = 0
PIXEL_SUBSAMPLING_FLAG = N
SIGNAL_CHAIN_ID = 3
/* RADIOMETRIC DATA ELEMENTS */
BANDWIDTH = 177.0
CENTER_FILTER_WAVELENGTH = 676.5
RADIANCE_OFFSET = 3.38461
RADIANCE_SCALING_FACTOR = 0.0171221
REFLECTANCE_SCALING_FACTOR = 0.000406018
MEX:REFLECTANCE_OFFSET = 0.0802593
/* IMAGE OBJECT DEFINITIONS */
OBJECT = IMAGE
  INTERCHANGE_FORMAT = BINARY
  LINES = 14338
  LINE_SAMPLES = 1711
  SAMPLE_TYPE = UNSIGNED_INTEGER
  SAMPLE_BITS = 8
  BANDS = 1
  BAND_STORAGE_TYPE = BAND_SEQUENTIAL
  MAXIMUM = 255
  MEAN = 99.5948
  MINIMUM = 1
  STANDARD_DEVIATION = 33.8242
END_OBJECT = IMAGE
/* MAP OBJECT DEFINITIONS */
OBJECT = IMAGE_MAP_PROJECTION
  ^DATA_SET_MAP_PROJECTION_CATALOG= "DSMAP.CAT"
  A_AXIS_RADIUS = 3396.0
  B_AXIS_RADIUS = 3396.0
  C_AXIS_RADIUS = 3396.0
  CENTER_LATITUDE = 0.0
  CENTER_LONGITUDE = 184.0
  COORDINATE_SYSTEM_NAME = PLANETOGRAPHIC
  COORDINATE_SYSTEM_TYPE = "BODY-FIXED ROTATING"
  EASTERNMOST_LONGITUDE = 184.872
  FIRST_STANDARD_PARALLEL = "N/A"
  LINE_FIRST_PIXEL = 1
  LINE_LAST_PIXEL = 14338
  LINE_PROJECTION_OFFSET = 30644.875
  MAP_PROJECTION_ROTATION = 0.0
  MAP_PROJECTION_TYPE = SINUSOIDAL
  MAP_RESOLUTION = 1185.42760773333
  MAP_SCALE = 0.05
  MAXIMUM_LATITUDE = 25.8712
  MINIMUM_LATITUDE = 13.7703
  POSITIVE_LONGITUDE_DIRECTION = EAST
  REFERENCE_LATITUDE = "N/A"
  REFERENCE_LONGITUDE = "N/A"
  SAMPLE_FIRST_PIXEL = 1
  SAMPLE_LAST_PIXEL = 1711
  SAMPLE_PROJECTION_OFFSET = 721.875
  SECOND_STANDARD_PARALLEL = "N/A"
  WESTERNMOST_LONGITUDE = 183.388
END_OBJECT = IMAGE_MAP_PROJECTION
/* The JPEG2000 image data file associated with this label. */
OBJECT = COMPRESSED_FILE
  FILE_NAME = "H9412_0000_P23.JP2"
  RECORD_TYPE = UNDEFINED
  FILE_RECORDS = UNK
  ENCODING_TYPE = "JP2"
  INTERCHANGE_FORMAT = BINARY
  UNCOMPRESSED_FILE_NAME = "H9412_0000_P23.IMG"
  REQUIRED_STORAGE_BYTES = "24552850"
  ^DESCRIPTION = "JP2INFO.TXT"
END_OBJECT = COMPRESSED_FILE
END
