PDS_VERSION_ID = PDS3
/* FILE DATA ELEMENTS */
RECORD_TYPE = STREAM
/* POINTERS TO DATA OBJECTS */
^COMPRESSED_FILE = "H9420_0000_BL3.JP2"
/* IDENTIFICATION DATA ELEMENTS */
DATA_SET_ID = "MEX-M-HRSC-5-REFDR-MAPPROJECTED-V3.0"
DATA_SET_NAME = "MARS EXPRESS HRSC MAP PROJECTED REFDR V3.0"
DETECTOR_ID = MEX_HRSC_BLUE
EVENT_TYPE = "MARS-REGIONAL-STEREO-Vo-Im-Pf"
INSTRUMENT_HOST_ID = MEX
INSTRUMENT_HOST_NAME = "MARS EXPRESS"
INSTRUMENT_ID = HRSC
INSTRUMENT_NAME = "HIGH RESOLUTION STEREO CAMERA"
MISSION_NAME = "MARS EXPRESS"
MISSION_PHASE_NAME = ME_Phase_23
PROCESSING_LEVEL_ID = 3
PRODUCT_CREATION_TIME = 2016-10-26T17:49:15.000Z
PRODUCT_ID = "H9420_0000_BL3.JP2"
RELEASE_ID = 0097
REVISION_ID = 0000
/* QUALITY DATA ELEMENTS */
DATA_QUALITY_ID = 1
DATA_QUALITY_DESC = "Data calculated based on original SPICE kernels"
/* TIME DATA ELEMENTS */
SPACECRAFT_CLOCK_START_COUNT = "1/0253887788.08244"
SPACECRAFT_CLOCK_STOP_COUNT = "1/0253888103.65127"
START_TIME = 2011-05-19T12:23:49.606Z
STOP_TIME = 2011-05-19T12:27:44.436Z
/* ORBITAL DATA ELEMENTS */
ASCENDING_NODE_LONGITUDE = 37.39
MAXIMUM_RESOLUTION = 119.7
FOOTPRINT_POINT_LATITUDE = (19.357,19.3589,19.3597,19.3643,18.9685 ,18.6823,18.3963,18.1105,17.8249, 17.5396,17.2544,16.9697,16.685,16.4007, 16.1165,15.8327,15.5491,15.2658,14.9827 ,14.6998,14.4174,14.1351,13.8533, 13.5717,13.2903,13.0094,12.4484,11.8886 ,11.4658,11.1794,10.8933,10.6076, 10.3223,9.8854,9.59351,9.30215,8.86201, 8.56413,8.26672,7.96976,7.66915,7.3657, 7.06273,6.76036,6.45102,6.14225,5.83399 ,5.36395,5.04976,4.74681,4.74309, 4.73748,4.73159,4.72946,5.20105,5.51598 ,5.82878,6.1374,6.44664,6.7561,7.05895, 7.36222,7.66609,8.1154,8.41293,8.71093, 9.00901,9.30041,9.59217,9.88439,10.3215 ,10.6072,10.8932,11.3229,11.6096, 12.1693,12.7304,13.0115,13.2928,13.5744 ,13.8563,14.1387,14.4215,14.704,14.987, 15.2704,15.554,15.838,16.1222,16.4066, 16.6913,16.9762,17.2614,17.5468,17.8325 ,18.1184,18.4045,18.6909,18.9774, 19.357)
FOOTPRINT_POINT_LONGITUDE = (87.2191,86.764,86.4227,85.8623,85.8603 ,85.8589,85.8573,85.8555,85.8537, 85.8517,85.8495,85.8471,85.8446,85.842, 85.8393,85.8364,85.8334,85.8303,85.827, 85.8238,85.8202,85.8166,85.8127,85.8087 ,85.8048,85.8006,85.7918,85.7826, 85.7753,85.7702,85.7649,85.7596,85.7541 ,85.7456,85.7397,85.7335,85.7242, 85.7177,85.711,85.7042,85.6972,85.69, 85.6827,85.6751,85.6673,85.6593,85.6513 ,85.6387,85.6301,85.6217,85.9441, 86.4229,86.9175,87.2678,87.2653,87.2637 ,87.2621,87.2605,87.2591,87.2578, 87.2565,87.2551,87.2539,87.2522,87.251, 87.2499,87.2488,87.2479,87.2469,87.2459 ,87.2447,87.2439,87.243,87.2419,87.2411 ,87.2397,87.2385,87.2381,87.2375,87.237 ,87.2364,87.2361,87.2362,87.2351, 87.2346,87.2342,87.2338,87.2334,87.2332 ,87.2328,87.2325,87.2321,87.2318, 87.2315,87.2313,87.2311,87.2308,87.2306 ,87.2304,87.2191)
ORBIT_NUMBER = 9420
ORBITAL_ECCENTRICITY = 0.576
ORBITAL_INCLINATION = 86.87
ORBITAL_SEMIMAJOR_AXIS = 8841.85
PERIAPSIS_ALTITUDE = 355.39
PERIAPSIS_ARGUMENT_ANGLE = 151.95
PERIAPSIS_TIME = 2011-05-19T12:21:29.000Z
SPACECRAFT_ORIENTATION = (0.0,-1.0,0.0)
^MEX_ORIENTATION_DESC = "MEX_ORIENTATION_DESC.TXT"
SPACECRAFT_POINTING_MODE = NADIR
^MEX_POINTING_DESC = "MEX_POINTING_DESC.TXT"
RIGHT_ASCENSION = -1e+32
DECLINATION = -1e+32
OFFSET_ANGLE = -1e+32
SPACECRAFT_SOLAR_DISTANCE = 2.11792e+08
TARGET_NAME = MARS
/* CAMERA DATA ELEMENTS */
DETECTOR_TEMPERATURE = 18.3705
FOCAL_PLANE_TEMPERATURE = 8.9911
INST_CMPRS_NAME = "DISCRETE COSINE TRANSFORMATION (DCT)"
INST_CMPRS_RATIO = 15.4175
INST_CMPRS_QUALITY = 0
INST_CMPRS_QUANTZ_TBL_ID = 0
INSTRUMENT_TEMPERATURE = 11.4379
LENS_TEMPERATURE = 9.3989
MACROPIXEL_SIZE = 8
MISSING_FRAMES = 0
PIXEL_SUBSAMPLING_FLAG = N
SIGNAL_CHAIN_ID = 2
/* RADIOMETRIC DATA ELEMENTS */
BANDWIDTH = 76.0
CENTER_FILTER_WAVELENGTH = 444.0
RADIANCE_OFFSET = 0.560994
RADIANCE_SCALING_FACTOR = 0.00149598
REFLECTANCE_SCALING_FACTOR = 6.89453e-05
MEX:REFLECTANCE_OFFSET = 0.0258545
/* IMAGE OBJECT DEFINITIONS */
OBJECT = IMAGE
  INTERCHANGE_FORMAT = BINARY
  LINES = 8682
  LINE_SAMPLES = 1009
  SAMPLE_TYPE = UNSIGNED_INTEGER
  SAMPLE_BITS = 8
  BANDS = 1
  BAND_STORAGE_TYPE = BAND_SEQUENTIAL
  MAXIMUM = 255
  MEAN = 138.131
  MINIMUM = 1
  STANDARD_DEVIATION = 31.1813
END_OBJECT = IMAGE
/* MAP OBJECT DEFINITIONS */
OBJECT = IMAGE_MAP_PROJECTION
  ^DATA_SET_MAP_PROJECTION_CATALOG= "DSMAP.CAT"
  A_AXIS_RADIUS = 3396.0
  B_AXIS_RADIUS = 3396.0
  C_AXIS_RADIUS = 3396.0
  CENTER_LATITUDE = 0.0
  CENTER_LONGITUDE = 87.0
  COORDINATE_SYSTEM_NAME = PLANETOGRAPHIC
  COORDINATE_SYSTEM_TYPE = "BODY-FIXED ROTATING"
  EASTERNMOST_LONGITUDE = 87.26779999999999
  FIRST_STANDARD_PARALLEL = "N/A"
  LINE_FIRST_PIXEL = 1
  LINE_LAST_PIXEL = 8682
  LINE_PROJECTION_OFFSET = 11484.3125
  MAP_PROJECTION_ROTATION = 0.0
  MAP_PROJECTION_TYPE = SINUSOIDAL
  MAP_RESOLUTION = 592.713803866667
  MAP_SCALE = 0.1
  MAXIMUM_LATITUDE = 19.3643
  MINIMUM_LATITUDE = 4.72946
  POSITIVE_LONGITUDE_DIRECTION = EAST
  REFERENCE_LATITUDE = "N/A"
  REFERENCE_LONGITUDE = "N/A"
  SAMPLE_FIRST_PIXEL = 1
  SAMPLE_LAST_PIXEL = 1009
  SAMPLE_PROJECTION_OFFSET = 836.3125
  SECOND_STANDARD_PARALLEL = "N/A"
  WESTERNMOST_LONGITUDE = 85.6217
END_OBJECT = IMAGE_MAP_PROJECTION
/* The JPEG2000 image data file associated with this label. */
OBJECT = COMPRESSED_FILE
  FILE_NAME = "H9420_0000_BL3.JP2"
  RECORD_TYPE = UNDEFINED
  FILE_RECORDS = UNK
  ENCODING_TYPE = "JP2"
  INTERCHANGE_FORMAT = BINARY
  UNCOMPRESSED_FILE_NAME = "H9420_0000_BL3.IMG"
  REQUIRED_STORAGE_BYTES = "8778300"
  ^DESCRIPTION = "JP2INFO.TXT"
END_OBJECT = COMPRESSED_FILE
END
