PDS_VERSION_ID = PDS3
/* FILE DATA ELEMENTS */
RECORD_TYPE = STREAM
/* POINTERS TO DATA OBJECTS */
^COMPRESSED_FILE = "H9422_0000_BL3.JP2"
/* IDENTIFICATION DATA ELEMENTS */
DATA_SET_ID = "MEX-M-HRSC-5-REFDR-MAPPROJECTED-V3.0"
DATA_SET_NAME = "MARS EXPRESS HRSC MAP PROJECTED REFDR V3.0"
DETECTOR_ID = MEX_HRSC_BLUE
EVENT_TYPE = "MARS-REGIONAL-MAPPING-Vo-Eo"
INSTRUMENT_HOST_ID = MEX
INSTRUMENT_HOST_NAME = "MARS EXPRESS"
INSTRUMENT_ID = HRSC
INSTRUMENT_NAME = "HIGH RESOLUTION STEREO CAMERA"
MISSION_NAME = "MARS EXPRESS"
MISSION_PHASE_NAME = ME_Phase_23
PROCESSING_LEVEL_ID = 3
PRODUCT_CREATION_TIME = 2016-10-26T17:49:15.000Z
PRODUCT_ID = "H9422_0000_BL3.JP2"
RELEASE_ID = 0097
REVISION_ID = 0000
/* QUALITY DATA ELEMENTS */
DATA_QUALITY_ID = 1
DATA_QUALITY_DESC = "Data calculated based on original SPICE kernels"
/* TIME DATA ELEMENTS */
SPACECRAFT_CLOCK_START_COUNT = "1/0253938236.08246"
SPACECRAFT_CLOCK_STOP_COUNT = "1/0253938494.30472"
START_TIME = 2011-05-20T02:24:41.328Z
STOP_TIME = 2011-05-20T02:27:32.090Z
/* ORBITAL DATA ELEMENTS */
ASCENDING_NODE_LONGITUDE = 37.35
MAXIMUM_RESOLUTION = 127.6
FOOTPRINT_POINT_LATITUDE = (13.5451,13.5479,13.5506,13.5531, 13.5556,13.5579,13.56,13.1692,12.7824, 12.3963,12.1984,12.0005,11.8027,11.4078 ,11.0135,10.8121,10.6102,10.4085,10.207 ,10.0058,9.80455,9.49736,9.29112, 9.08517,8.87963,8.57165,8.25829,8.04867 ,7.83931,7.63019,7.42131,7.20825, 6.99477,6.78155,6.56858,6.24702,6.02963 ,5.81248,5.59562,5.37901,5.15804, 4.93696,4.71616,4.49567,4.27543,4.0555, 3.83588,3.61653,3.39747,3.17872,3.11494 ,3.10823,3.10309,3.09828,3.09327, 3.09083,3.30993,3.52929,3.74896,3.96891 ,4.18917,4.4097,4.63051,4.85162,5.07303 ,5.40405,5.62109,5.83841,6.05598, 6.38157,6.59471,6.80815,7.02181,7.23571 ,7.44807,7.65731,7.86697,8.07686, 8.28704,8.49717,8.7028,8.90859,9.11436, 9.32026,9.52641,9.73151,9.93291,10.1345 ,10.3363,10.5382,10.7403,11.0418, 11.4368,11.6345,11.8324,12.0305,12.4257 ,12.8124,13.1998,13.5451)
FOOTPRINT_POINT_LONGITUDE = (241.848,241.637,241.423,241.208,240.99 ,240.771,240.55,240.41,240.406,240.401, 240.398,240.396,240.393,240.388,240.382 ,240.379,240.376,240.373,240.37,240.366 ,240.363,240.36,240.358,240.356,240.353 ,240.348,240.342,240.337,240.333, 240.329,240.324,240.319,240.314,240.309 ,240.304,240.296,240.291,240.285,240.28 ,240.274,240.268,240.263,240.257, 240.251,240.245,240.239,240.232,240.226 ,240.22,240.214,240.519,240.874,241.146 ,241.4,241.668,241.914,241.912,241.91, 241.909,241.907,241.906,241.904,241.903 ,241.901,241.9,241.898,241.896,241.895, 241.894,241.891,241.89,241.889,241.887, 241.886,241.885,241.884,241.882,241.881 ,241.88,241.878,241.877,241.876,241.875 ,241.874,241.872,241.871,241.87,241.869 ,241.868,241.866,241.865,241.863, 241.861,241.86,241.859,241.858,241.855, 241.853,241.851,241.848)
ORBIT_NUMBER = 9422
ORBITAL_ECCENTRICITY = 0.576
ORBITAL_INCLINATION = 86.86
ORBITAL_SEMIMAJOR_AXIS = 8846.33
PERIAPSIS_ALTITUDE = 355.87
PERIAPSIS_ARGUMENT_ANGLE = 151.6
PERIAPSIS_TIME = 2011-05-20T02:20:44.000Z
SPACECRAFT_ORIENTATION = (0.0,-1.0,0.0)
^MEX_ORIENTATION_DESC = "MEX_ORIENTATION_DESC.TXT"
SPACECRAFT_POINTING_MODE = ACROSSTRACK
^MEX_POINTING_DESC = "MEX_POINTING_DESC.TXT"
RIGHT_ASCENSION = -1e+32
DECLINATION = -1e+32
OFFSET_ANGLE = -0.8
SPACECRAFT_SOLAR_DISTANCE = 2.11872e+08
TARGET_NAME = MARS
/* CAMERA DATA ELEMENTS */
DETECTOR_TEMPERATURE = 18.3705
FOCAL_PLANE_TEMPERATURE = 8.9911
INST_CMPRS_NAME = "DISCRETE COSINE TRANSFORMATION (DCT)"
INST_CMPRS_RATIO = 15.6157
INST_CMPRS_QUALITY = 0
INST_CMPRS_QUANTZ_TBL_ID = 0
INSTRUMENT_TEMPERATURE = 11.234
LENS_TEMPERATURE = 9.3989
MACROPIXEL_SIZE = 8
MISSING_FRAMES = 0
PIXEL_SUBSAMPLING_FLAG = N
SIGNAL_CHAIN_ID = 2
/* RADIOMETRIC DATA ELEMENTS */
BANDWIDTH = 76.0
CENTER_FILTER_WAVELENGTH = 444.0
RADIANCE_OFFSET = 0.544028
RADIANCE_SCALING_FACTOR = 0.00263388
REFLECTANCE_SCALING_FACTOR = 0.000121479
MEX:REFLECTANCE_OFFSET = 0.0250915
/* IMAGE OBJECT DEFINITIONS */
OBJECT = IMAGE
  INTERCHANGE_FORMAT = BINARY
  LINES = 6199
  LINE_SAMPLES = 1068
  SAMPLE_TYPE = UNSIGNED_INTEGER
  SAMPLE_BITS = 8
  BANDS = 1
  BAND_STORAGE_TYPE = BAND_SEQUENTIAL
  MAXIMUM = 255
  MEAN = 135.395
  MINIMUM = 1
  STANDARD_DEVIATION = 24.0459
END_OBJECT = IMAGE
/* MAP OBJECT DEFINITIONS */
OBJECT = IMAGE_MAP_PROJECTION
  ^DATA_SET_MAP_PROJECTION_CATALOG= "DSMAP.CAT"
  A_AXIS_RADIUS = 3396.0
  B_AXIS_RADIUS = 3396.0
  C_AXIS_RADIUS = 3396.0
  CENTER_LATITUDE = 0.0
  CENTER_LONGITUDE = 241.0
  COORDINATE_SYSTEM_NAME = PLANETOGRAPHIC
  COORDINATE_SYSTEM_TYPE = "BODY-FIXED ROTATING"
  EASTERNMOST_LONGITUDE = 241.914
  FIRST_STANDARD_PARALLEL = "N/A"
  LINE_FIRST_PIXEL = 1
  LINE_LAST_PIXEL = 6199
  LINE_PROJECTION_OFFSET = 8041.0625
  MAP_PROJECTION_ROTATION = 0.0
  MAP_PROJECTION_TYPE = SINUSOIDAL
  MAP_RESOLUTION = 592.713803866667
  MAP_SCALE = 0.1
  MAXIMUM_LATITUDE = 13.56
  MINIMUM_LATITUDE = 3.09083
  POSITIVE_LONGITUDE_DIRECTION = EAST
  REFERENCE_LATITUDE = "N/A"
  REFERENCE_LONGITUDE = "N/A"
  SAMPLE_FIRST_PIXEL = 1
  SAMPLE_LAST_PIXEL = 1068
  SAMPLE_PROJECTION_OFFSET = 531.1875
  SECOND_STANDARD_PARALLEL = "N/A"
  WESTERNMOST_LONGITUDE = 240.214
END_OBJECT = IMAGE_MAP_PROJECTION
/* The JPEG2000 image data file associated with this label. */
OBJECT = COMPRESSED_FILE
  FILE_NAME = "H9422_0000_BL3.JP2"
  RECORD_TYPE = UNDEFINED
  FILE_RECORDS = UNK
  ENCODING_TYPE = "JP2"
  INTERCHANGE_FORMAT = BINARY
  UNCOMPRESSED_FILE_NAME = "H9422_0000_BL3.IMG"
  REQUIRED_STORAGE_BYTES = "6638688"
  ^DESCRIPTION = "JP2INFO.TXT"
END_OBJECT = COMPRESSED_FILE
END
