PDS_VERSION_ID = PDS3
/* FILE DATA ELEMENTS */
RECORD_TYPE = STREAM
/* POINTERS TO DATA OBJECTS */
^COMPRESSED_FILE = "H9435_0009_ND3.JP2"
/* IDENTIFICATION DATA ELEMENTS */
DATA_SET_ID = "MEX-M-HRSC-5-REFDR-MAPPROJECTED-V3.0"
DATA_SET_NAME = "MARS EXPRESS HRSC MAP PROJECTED REFDR V3.0"
DETECTOR_ID = MEX_HRSC_NADIR
EVENT_TYPE = "MARS-REGIONAL-MAPPING-Im-Fl-La"
INSTRUMENT_HOST_ID = MEX
INSTRUMENT_HOST_NAME = "MARS EXPRESS"
INSTRUMENT_ID = HRSC
INSTRUMENT_NAME = "HIGH RESOLUTION STEREO CAMERA"
MISSION_NAME = "MARS EXPRESS"
MISSION_PHASE_NAME = ME_Phase_23
PROCESSING_LEVEL_ID = 3
PRODUCT_CREATION_TIME = 2016-10-26T17:49:15.000Z
PRODUCT_ID = "H9435_0009_ND3.JP2"
RELEASE_ID = 0097
REVISION_ID = 0000
/* QUALITY DATA ELEMENTS */
DATA_QUALITY_ID = 1
DATA_QUALITY_DESC = "Data calculated based on original SPICE kernels"
/* TIME DATA ELEMENTS */
SPACECRAFT_CLOCK_START_COUNT = "1/0254265598.09064"
SPACECRAFT_CLOCK_STOP_COUNT = "1/0254265872.15328"
START_TIME = 2011-05-23T21:20:37.987Z
STOP_TIME = 2011-05-23T21:23:36.960Z
/* ORBITAL DATA ELEMENTS */
ASCENDING_NODE_LONGITUDE = 37.11
MAXIMUM_RESOLUTION = 16.7
FOOTPRINT_POINT_LATITUDE = (13.7816,13.7842,13.7857,13.7872, 13.7887,13.6877,13.2809,12.8748,12.5645 ,12.1489,11.734,11.4207,11.2085,10.9965 ,10.7847,10.5731,10.3617,10.1461, 9.92984,9.7138,9.498,9.28241,9.06365, 8.8433,8.62316,8.40328,8.18363,7.84752, 7.62323,7.39925,7.17552,6.9472,6.71868, 6.4906,6.26286,6.03534,5.80808,5.58115, 5.35452,5.1282,4.90218,4.6764,4.45094, 4.22578,4.00091,3.77634,3.55211,3.32819 ,3.1046,2.88142,2.85727,2.8517,2.84767, 2.84485,2.84189,2.83871,3.06046,3.28439 ,3.50863,3.73318,3.95804,4.18318, 4.40863,4.6344,4.86046,5.08683,5.31348, 5.54042,5.76765,5.99516,6.22296,6.45104 ,6.6795,6.90816,7.24927,7.47348,7.69792 ,7.92262,8.14729,8.36707,8.58724, 8.80766,9.02831,9.24783,9.46369,9.67976 ,9.89607,10.1126,10.3289,10.5406, 10.7525,10.9645,11.1767,11.3891,11.5996 ,12.0148,12.3268,12.8461,13.2527, 13.7816)
FOOTPRINT_POINT_LONGITUDE = (352.786,352.449,352.229,351.951, 351.643,351.437,351.431,351.424,351.418 ,351.41,351.402,351.396,351.392,351.387 ,351.383,351.378,351.374,351.369, 351.365,351.36,351.355,351.35,351.345, 351.339,351.334,351.328,351.323,351.314 ,351.309,351.303,351.298,351.289, 351.285,351.279,351.271,351.265,351.259 ,351.252,351.246,351.238,351.231, 351.225,351.218,351.211,351.204,351.197 ,351.19,351.182,351.174,351.165,351.436 ,351.867,352.173,352.388,352.604, 352.838,352.989,352.987,352.986,352.984 ,352.983,352.981,352.979,352.978, 352.977,352.976,352.975,352.973,352.972 ,352.971,352.969,352.967,352.968, 352.967,352.963,352.964,352.963,352.963 ,352.963,352.958,352.957,352.957, 352.956,352.955,352.954,352.953,352.953 ,352.952,352.951,352.952,352.952,352.95 ,352.947,352.946,352.946,352.943, 352.947,352.946,352.944,352.786)
ORBIT_NUMBER = 9435
ORBITAL_ECCENTRICITY = 0.575
ORBITAL_INCLINATION = 86.86
ORBITAL_SEMIMAJOR_AXIS = 8830.53
PERIAPSIS_ALTITUDE = 358.25
PERIAPSIS_ARGUMENT_ANGLE = 149.35
PERIAPSIS_TIME = 2011-05-23T21:16:15.000Z
SPACECRAFT_ORIENTATION = (0.0,-1.0,0.0)
^MEX_ORIENTATION_DESC = "MEX_ORIENTATION_DESC.TXT"
SPACECRAFT_POINTING_MODE = NADIR
^MEX_POINTING_DESC = "MEX_POINTING_DESC.TXT"
RIGHT_ASCENSION = -1e+32
DECLINATION = -1e+32
OFFSET_ANGLE = -1e+32
SPACECRAFT_SOLAR_DISTANCE = 2.12404e+08
TARGET_NAME = MARS
/* CAMERA DATA ELEMENTS */
DETECTOR_TEMPERATURE = 18.5744
FOCAL_PLANE_TEMPERATURE = 9.6028
INST_CMPRS_NAME = "DISCRETE COSINE TRANSFORMATION (DCT)"
INST_CMPRS_RATIO = 6.63238
INST_CMPRS_QUALITY = 0
INST_CMPRS_QUANTZ_TBL_ID = 0
INSTRUMENT_TEMPERATURE = 12.0496
LENS_TEMPERATURE = 9.8067
MACROPIXEL_SIZE = 1
MISSING_FRAMES = 0
PIXEL_SUBSAMPLING_FLAG = N
SIGNAL_CHAIN_ID = 0
/* RADIOMETRIC DATA ELEMENTS */
BANDWIDTH = 177.0
CENTER_FILTER_WAVELENGTH = 677.5
RADIANCE_OFFSET = 2.86141
RADIANCE_SCALING_FACTOR = 0.025538
REFLECTANCE_SCALING_FACTOR = 0.000612061
MEX:REFLECTANCE_OFFSET = 0.0685786
/* IMAGE OBJECT DEFINITIONS */
OBJECT = IMAGE
  INTERCHANGE_FORMAT = BINARY
  LINES = 51936
  LINE_SAMPLES = 8982
  SAMPLE_TYPE = UNSIGNED_INTEGER
  SAMPLE_BITS = 8
  BANDS = 1
  BAND_STORAGE_TYPE = BAND_SEQUENTIAL
  MAXIMUM = 255
  MEAN = 112.602
  MINIMUM = 1
  STANDARD_DEVIATION = 25.1751
END_OBJECT = IMAGE
/* MAP OBJECT DEFINITIONS */
OBJECT = IMAGE_MAP_PROJECTION
  ^DATA_SET_MAP_PROJECTION_CATALOG= "DSMAP.CAT"
  A_AXIS_RADIUS = 3396.0
  B_AXIS_RADIUS = 3396.0
  C_AXIS_RADIUS = 3396.0
  CENTER_LATITUDE = 0.0
  CENTER_LONGITUDE = 352.0
  COORDINATE_SYSTEM_NAME = PLANETOGRAPHIC
  COORDINATE_SYSTEM_TYPE = "BODY-FIXED ROTATING"
  EASTERNMOST_LONGITUDE = 352.989
  FIRST_STANDARD_PARALLEL = "N/A"
  LINE_FIRST_PIXEL = 1
  LINE_LAST_PIXEL = 51936
  LINE_PROJECTION_OFFSET = 65385.0
  MAP_PROJECTION_ROTATION = 0.0
  MAP_PROJECTION_TYPE = SINUSOIDAL
  MAP_RESOLUTION = 4741.71043093333
  MAP_SCALE = 0.0125
  MAXIMUM_LATITUDE = 13.7887
  MINIMUM_LATITUDE = 2.83871
  POSITIVE_LONGITUDE_DIRECTION = EAST
  REFERENCE_LATITUDE = "N/A"
  REFERENCE_LONGITUDE = "N/A"
  SAMPLE_FIRST_PIXEL = 1
  SAMPLE_LAST_PIXEL = 8982
  SAMPLE_PROJECTION_OFFSET = 4107.0
  SECOND_STANDARD_PARALLEL = "N/A"
  WESTERNMOST_LONGITUDE = 351.165
END_OBJECT = IMAGE_MAP_PROJECTION
/* The JPEG2000 image data file associated with this label. */
OBJECT = COMPRESSED_FILE
  FILE_NAME = "H9435_0009_ND3.JP2"
  RECORD_TYPE = UNDEFINED
  FILE_RECORDS = UNK
  ENCODING_TYPE = "JP2"
  INTERCHANGE_FORMAT = BINARY
  UNCOMPRESSED_FILE_NAME = "H9435_0009_ND3.IMG"
  REQUIRED_STORAGE_BYTES = "466525080"
  ^DESCRIPTION = "JP2INFO.TXT"
END_OBJECT = COMPRESSED_FILE
END
