PDS_VERSION_ID = PDS3
/* FILE DATA ELEMENTS */
RECORD_TYPE = STREAM
/* POINTERS TO DATA OBJECTS */
^COMPRESSED_FILE = "H9436_0000_S23.JP2"
/* IDENTIFICATION DATA ELEMENTS */
DATA_SET_ID = "MEX-M-HRSC-5-REFDR-MAPPROJECTED-V3.0"
DATA_SET_NAME = "MARS EXPRESS HRSC MAP PROJECTED REFDR V3.0"
DETECTOR_ID = MEX_HRSC_S2
EVENT_TYPE = "MARS-REGIONAL-MAPPING-Vo-Gl-Eo"
INSTRUMENT_HOST_ID = MEX
INSTRUMENT_HOST_NAME = "MARS EXPRESS"
INSTRUMENT_ID = HRSC
INSTRUMENT_NAME = "HIGH RESOLUTION STEREO CAMERA"
MISSION_NAME = "MARS EXPRESS"
MISSION_PHASE_NAME = ME_Phase_23
PROCESSING_LEVEL_ID = 3
PRODUCT_CREATION_TIME = 2016-10-26T17:49:15.000Z
PRODUCT_ID = "H9436_0000_S23.JP2"
RELEASE_ID = 0097
REVISION_ID = 0000
/* QUALITY DATA ELEMENTS */
DATA_QUALITY_ID = 1
DATA_QUALITY_DESC = "Data calculated based on original SPICE kernels"
/* TIME DATA ELEMENTS */
SPACECRAFT_CLOCK_START_COUNT = "1/0254290676.08251"
SPACECRAFT_CLOCK_STOP_COUNT = "1/0254290928.39851"
START_TIME = 2011-05-24T04:19:07.850Z
STOP_TIME = 2011-05-24T04:22:09.612Z
/* ORBITAL DATA ELEMENTS */
ASCENDING_NODE_LONGITUDE = 37.09
MAXIMUM_RESOLUTION = 32.7
FOOTPRINT_POINT_LATITUDE = (20.7108,20.7119,20.7126,20.7132, 20.5972,20.3851,20.1727,19.9613,19.7511 ,19.5404,19.2246,19.0144,18.8047, 18.5952,18.2809,17.9751,17.7622,17.4458 ,17.0301,16.6154,16.2978,16.0858,15.874 ,15.6625,15.4513,15.2404,15.0246, 14.7011,14.486,14.271,14.0567,13.8384, 13.619,13.4,13.1813,12.9631,12.7418, 12.5187,12.2961,12.0738,11.8518,11.5122 ,11.286,11.0599,10.7189,10.4887,10.2589 ,9.9149,9.87597,9.86995,9.8655,9.86176, 9.85996,10.0914,10.4381,10.6695,11.0123 ,11.3522,11.5792,11.8067,12.0293, 12.2515,12.4745,12.6977,12.9196,13.1381 ,13.3569,13.5763,13.7962,14.0154, 14.2302,14.4453,14.6607,14.8764,15.0927 ,15.3066,15.5179,15.7293,15.9412, 16.1534,16.3659,16.5783,16.9935,17.4096 ,17.6184,17.8273,18.0365,18.2459, 18.4556,18.6654,18.8757,19.0857,19.2956 ,19.5061,19.7171,19.9279,20.1393, 20.3509,20.5632,20.7108)
FOOTPRINT_POINT_LONGITUDE = (250.402,249.925,249.701,249.477, 249.194,249.193,249.192,249.19,249.188, 249.186,249.184,249.182,249.18,249.177, 249.174,249.168,249.167,249.165,249.159 ,249.154,249.149,249.146,249.143,249.14 ,249.137,249.133,249.13,249.124,249.121 ,249.117,249.113,249.109,249.105,249.1, 249.096,249.092,249.087,249.082,249.078 ,249.073,249.068,249.06,249.055,249.05, 249.042,249.036,249.031,249.022,249.427 ,249.848,250.189,250.48,250.696,250.695 ,250.694,250.692,250.69,250.688,250.687 ,250.685,250.684,250.683,250.681,250.68 ,250.678,250.677,250.676,250.674, 250.673,250.672,250.671,250.669,250.668 ,250.667,250.666,250.664,250.663, 250.662,250.661,250.66,250.659,250.658, 250.656,250.653,250.652,250.651,250.65, 250.649,250.648,250.647,250.646,250.645 ,250.644,250.643,250.642,250.64,250.639 ,250.638,250.637,250.402)
ORBIT_NUMBER = 9436
ORBITAL_ECCENTRICITY = 0.576
ORBITAL_INCLINATION = 86.85
ORBITAL_SEMIMAJOR_AXIS = 8843.33
PERIAPSIS_ALTITUDE = 357.68
PERIAPSIS_ARGUMENT_ANGLE = 149.18
PERIAPSIS_TIME = 2011-05-24T04:15:56.000Z
SPACECRAFT_ORIENTATION = (0.0,-1.0,0.0)
^MEX_ORIENTATION_DESC = "MEX_ORIENTATION_DESC.TXT"
SPACECRAFT_POINTING_MODE = NADIR
^MEX_POINTING_DESC = "MEX_POINTING_DESC.TXT"
RIGHT_ASCENSION = -1e+32
DECLINATION = -1e+32
OFFSET_ANGLE = -1e+32
SPACECRAFT_SOLAR_DISTANCE = 2.12445e+08
TARGET_NAME = MARS
/* CAMERA DATA ELEMENTS */
DETECTOR_TEMPERATURE = 18.9822
FOCAL_PLANE_TEMPERATURE = 9.3989
INST_CMPRS_NAME = "DISCRETE COSINE TRANSFORMATION (DCT)"
INST_CMPRS_RATIO = 7.44391
INST_CMPRS_QUALITY = 0
INST_CMPRS_QUANTZ_TBL_ID = 0
INSTRUMENT_TEMPERATURE = 11.6418
LENS_TEMPERATURE = 9.8067
MACROPIXEL_SIZE = 2
MISSING_FRAMES = 0
PIXEL_SUBSAMPLING_FLAG = N
SIGNAL_CHAIN_ID = 1
/* RADIOMETRIC DATA ELEMENTS */
BANDWIDTH = 178.0
CENTER_FILTER_WAVELENGTH = 679.0
RADIANCE_OFFSET = 3.86474
RADIANCE_SCALING_FACTOR = 0.0242494
REFLECTANCE_SCALING_FACTOR = 0.000579596
MEX:REFLECTANCE_OFFSET = 0.0923731
/* IMAGE OBJECT DEFINITIONS */
OBJECT = IMAGE
  INTERCHANGE_FORMAT = BINARY
  LINES = 25689
  LINE_SAMPLES = 3885
  SAMPLE_TYPE = UNSIGNED_INTEGER
  SAMPLE_BITS = 8
  BANDS = 1
  BAND_STORAGE_TYPE = BAND_SEQUENTIAL
  MAXIMUM = 255
  MEAN = 153.939
  MINIMUM = 1
  STANDARD_DEVIATION = 21.121
END_OBJECT = IMAGE
/* MAP OBJECT DEFINITIONS */
OBJECT = IMAGE_MAP_PROJECTION
  ^DATA_SET_MAP_PROJECTION_CATALOG= "DSMAP.CAT"
  A_AXIS_RADIUS = 3396.0
  B_AXIS_RADIUS = 3396.0
  C_AXIS_RADIUS = 3396.0
  CENTER_LATITUDE = 0.0
  CENTER_LONGITUDE = 250.0
  COORDINATE_SYSTEM_NAME = PLANETOGRAPHIC
  COORDINATE_SYSTEM_TYPE = "BODY-FIXED ROTATING"
  EASTERNMOST_LONGITUDE = 250.696
  FIRST_STANDARD_PARALLEL = "N/A"
  LINE_FIRST_PIXEL = 1
  LINE_LAST_PIXEL = 25689
  LINE_PROJECTION_OFFSET = 49133.75
  MAP_PROJECTION_ROTATION = 0.0
  MAP_PROJECTION_TYPE = SINUSOIDAL
  MAP_RESOLUTION = 2370.85521546667
  MAP_SCALE = 0.025
  MAXIMUM_LATITUDE = 20.7132
  MINIMUM_LATITUDE = 9.859959999999999
  POSITIVE_LONGITUDE_DIRECTION = EAST
  REFERENCE_LATITUDE = "N/A"
  REFERENCE_LONGITUDE = "N/A"
  SAMPLE_FIRST_PIXEL = 1
  SAMPLE_LAST_PIXEL = 3885
  SAMPLE_PROJECTION_OFFSET = 2268.25
  SECOND_STANDARD_PARALLEL = "N/A"
  WESTERNMOST_LONGITUDE = 249.022
END_OBJECT = IMAGE_MAP_PROJECTION
/* The JPEG2000 image data file associated with this label. */
OBJECT = COMPRESSED_FILE
  FILE_NAME = "H9436_0000_S23.JP2"
  RECORD_TYPE = UNDEFINED
  FILE_RECORDS = UNK
  ENCODING_TYPE = "JP2"
  INTERCHANGE_FORMAT = BINARY
  UNCOMPRESSED_FILE_NAME = "H9436_0000_S23.IMG"
  REQUIRED_STORAGE_BYTES = "99825075"
  ^DESCRIPTION = "JP2INFO.TXT"
END_OBJECT = COMPRESSED_FILE
END
