PDS_VERSION_ID = PDS3
/* FILE DATA ELEMENTS */
RECORD_TYPE = STREAM
/* POINTERS TO DATA OBJECTS */
^COMPRESSED_FILE = "H9441_0000_ND3.JP2"
/* IDENTIFICATION DATA ELEMENTS */
DATA_SET_ID = "MEX-M-HRSC-5-REFDR-MAPPROJECTED-V3.0"
DATA_SET_NAME = "MARS EXPRESS HRSC MAP PROJECTED REFDR V3.0"
DETECTOR_ID = MEX_HRSC_NADIR
EVENT_TYPE = "MARS-LOCAL-CARTOGRAPHY-Tc-Ot-Ts"
INSTRUMENT_HOST_ID = MEX
INSTRUMENT_HOST_NAME = "MARS EXPRESS"
INSTRUMENT_ID = HRSC
INSTRUMENT_NAME = "HIGH RESOLUTION STEREO CAMERA"
MISSION_NAME = "MARS EXPRESS"
MISSION_PHASE_NAME = ME_Phase_23
PROCESSING_LEVEL_ID = 3
PRODUCT_CREATION_TIME = 2016-10-26T17:49:15.000Z
PRODUCT_ID = "H9441_0000_ND3.JP2"
RELEASE_ID = 0097
REVISION_ID = 0000
/* QUALITY DATA ELEMENTS */
DATA_QUALITY_ID = 1
DATA_QUALITY_DESC = "Data calculated based on original SPICE kernels"
/* TIME DATA ELEMENTS */
SPACECRAFT_CLOCK_START_COUNT = "1/0254416420.08251"
SPACECRAFT_CLOCK_STOP_COUNT = "1/0254416670.10042"
START_TIME = 2011-05-25T15:14:15.578Z
STOP_TIME = 2011-05-25T15:17:14.592Z
/* ORBITAL DATA ELEMENTS */
ASCENDING_NODE_LONGITUDE = 36.99
MAXIMUM_RESOLUTION = 14.5
FOOTPRINT_POINT_LATITUDE = (31.4907,31.4857,31.4789,31.4729, 31.2537,31.0345,30.7057,30.3769,30.1578 ,29.9386,29.7195,29.5004,29.2813, 29.0622,28.8431,28.6241,28.4051,28.1861 ,27.9672,27.7483,27.5294,27.3106, 27.0918,26.8731,26.6544,26.4358,26.2172 ,25.9987,25.7802,25.5618,25.3435, 25.1252,24.907,24.4708,24.0349,23.5993, 23.2211,22.9615,22.702,22.4427,22.1835, 21.9244,21.6655,21.4067,21.1481,20.8896 ,20.6313,20.3732,19.9642,19.9654, 19.9661,19.9659,20.2239,20.4823,20.7409 ,20.9996,21.2586,21.5176,21.7768, 22.0362,22.2957,22.5553,22.8151,23.0751 ,23.3351,23.5875,24.0237,24.242,24.4603 ,24.6787,24.8971,25.1157,25.3343,25.553 ,25.7717,25.9905,26.2094,26.4283, 26.6473,26.8663,27.0854,27.3045,27.5237 ,27.7429,27.9622,28.1815,28.4008, 28.6202,28.8396,29.059,29.2785,29.498, 29.7175,29.937,30.1566,30.3761,30.5957, 30.8153,31.1447,31.4907)
FOOTPRINT_POINT_LONGITUDE = (98.3426,97.8868,97.4256,97.0467,97.053 ,97.0589,97.0675,97.076,97.0813,97.0867 ,97.0921,97.097,97.1019,97.1065,97.111, 97.1157,97.1201,97.1242,97.1281,97.1319 ,97.1357,97.1393,97.1427,97.1463, 97.1494,97.1525,97.1554,97.1581,97.1608 ,97.1633,97.1658,97.1682,97.1703, 97.1743,97.1779,97.1812,97.1833,97.1848 ,97.1861,97.1871,97.188,97.1888,97.1896 ,97.1899,97.1901,97.1903,97.1902, 97.1901,97.3058,97.61,98.0966,98.4225, 98.6388,98.6372,98.6354,98.6337,98.632, 98.6303,98.6285,98.6267,98.625,98.6231, 98.6213,98.6194,98.6176,98.6157,98.6125 ,98.6108,98.6091,98.6075,98.6058,98.604 ,98.6023,98.6005,98.5988,98.597,98.5951 ,98.5933,98.5914,98.5895,98.5876, 98.5857,98.5838,98.5818,98.5798,98.5777 ,98.5757,98.5736,98.5715,98.5694, 98.5672,98.5651,98.5629,98.5606,98.5583 ,98.556,98.5537,98.5513,98.5477, 98.3426)
ORBIT_NUMBER = 9441
ORBITAL_ECCENTRICITY = 0.576
ORBITAL_INCLINATION = 86.86
ORBITAL_SEMIMAJOR_AXIS = 8837.12
PERIAPSIS_ALTITUDE = 358.11
PERIAPSIS_ARGUMENT_ANGLE = 148.32
PERIAPSIS_TIME = 2011-05-25T15:14:13.000Z
SPACECRAFT_ORIENTATION = (0.0,-1.0,0.0)
^MEX_ORIENTATION_DESC = "MEX_ORIENTATION_DESC.TXT"
SPACECRAFT_POINTING_MODE = ACROSSTRACK
^MEX_POINTING_DESC = "MEX_POINTING_DESC.TXT"
RIGHT_ASCENSION = -1e+32
DECLINATION = -1e+32
OFFSET_ANGLE = -0.5
SPACECRAFT_SOLAR_DISTANCE = 2.12656e+08
TARGET_NAME = MARS
/* CAMERA DATA ELEMENTS */
DETECTOR_TEMPERATURE = 18.3705
FOCAL_PLANE_TEMPERATURE = 8.7872
INST_CMPRS_NAME = "DISCRETE COSINE TRANSFORMATION (DCT)"
INST_CMPRS_RATIO = 6.77932
INST_CMPRS_QUALITY = 0
INST_CMPRS_QUANTZ_TBL_ID = 0
INSTRUMENT_TEMPERATURE = 11.234
LENS_TEMPERATURE = 8.9911
MACROPIXEL_SIZE = 1
MISSING_FRAMES = 0
PIXEL_SUBSAMPLING_FLAG = N
SIGNAL_CHAIN_ID = 0
/* RADIOMETRIC DATA ELEMENTS */
BANDWIDTH = 177.0
CENTER_FILTER_WAVELENGTH = 677.5
RADIANCE_OFFSET = 2.87631
RADIANCE_SCALING_FACTOR = 0.0141393
REFLECTANCE_SCALING_FACTOR = 0.000339676
MEX:REFLECTANCE_OFFSET = 0.0690992
/* IMAGE OBJECT DEFINITIONS */
OBJECT = IMAGE
  INTERCHANGE_FORMAT = BINARY
  LINES = 54675
  LINE_SAMPLES = 6935
  SAMPLE_TYPE = UNSIGNED_INTEGER
  SAMPLE_BITS = 8
  BANDS = 1
  BAND_STORAGE_TYPE = BAND_SEQUENTIAL
  MAXIMUM = 255
  MEAN = 120.644
  MINIMUM = 1
  STANDARD_DEVIATION = 36.215
END_OBJECT = IMAGE
/* MAP OBJECT DEFINITIONS */
OBJECT = IMAGE_MAP_PROJECTION
  ^DATA_SET_MAP_PROJECTION_CATALOG= "DSMAP.CAT"
  A_AXIS_RADIUS = 3396.0
  B_AXIS_RADIUS = 3396.0
  C_AXIS_RADIUS = 3396.0
  CENTER_LATITUDE = 0.0
  CENTER_LONGITUDE = 98.0
  COORDINATE_SYSTEM_NAME = PLANETOGRAPHIC
  COORDINATE_SYSTEM_TYPE = "BODY-FIXED ROTATING"
  EASTERNMOST_LONGITUDE = 98.6388
  FIRST_STANDARD_PARALLEL = "N/A"
  LINE_FIRST_PIXEL = 1
  LINE_LAST_PIXEL = 54675
  LINE_PROJECTION_OFFSET = 149339.0
  MAP_PROJECTION_ROTATION = 0.0
  MAP_PROJECTION_TYPE = SINUSOIDAL
  MAP_RESOLUTION = 4741.71043093333
  MAP_SCALE = 0.0125
  MAXIMUM_LATITUDE = 31.4907
  MINIMUM_LATITUDE = 19.9642
  POSITIVE_LONGITUDE_DIRECTION = EAST
  REFERENCE_LATITUDE = "N/A"
  REFERENCE_LONGITUDE = "N/A"
  SAMPLE_FIRST_PIXEL = 1
  SAMPLE_LAST_PIXEL = 6935
  SAMPLE_PROJECTION_OFFSET = 4042.0
  SECOND_STANDARD_PARALLEL = "N/A"
  WESTERNMOST_LONGITUDE = 97.0467
END_OBJECT = IMAGE_MAP_PROJECTION
/* The JPEG2000 image data file associated with this label. */
OBJECT = COMPRESSED_FILE
  FILE_NAME = "H9441_0000_ND3.JP2"
  RECORD_TYPE = UNDEFINED
  FILE_RECORDS = UNK
  ENCODING_TYPE = "JP2"
  INTERCHANGE_FORMAT = BINARY
  UNCOMPRESSED_FILE_NAME = "H9441_0000_ND3.IMG"
  REQUIRED_STORAGE_BYTES = "379205800"
  ^DESCRIPTION = "JP2INFO.TXT"
END_OBJECT = COMPRESSED_FILE
END
