PDS_VERSION_ID = PDS3
/* FILE DATA ELEMENTS */
RECORD_TYPE = STREAM
/* POINTERS TO DATA OBJECTS */
^COMPRESSED_FILE = "H9442_0000_P23.JP2"
/* IDENTIFICATION DATA ELEMENTS */
DATA_SET_ID = "MEX-M-HRSC-5-REFDR-MAPPROJECTED-V3.0"
DATA_SET_NAME = "MARS EXPRESS HRSC MAP PROJECTED REFDR V3.0"
DETECTOR_ID = MEX_HRSC_P2
EVENT_TYPE = "MARS-REGIONAL-MAPPING-Im-Fl-La"
INSTRUMENT_HOST_ID = MEX
INSTRUMENT_HOST_NAME = "MARS EXPRESS"
INSTRUMENT_ID = HRSC
INSTRUMENT_NAME = "HIGH RESOLUTION STEREO CAMERA"
MISSION_NAME = "MARS EXPRESS"
MISSION_PHASE_NAME = ME_Phase_23
PROCESSING_LEVEL_ID = 3
PRODUCT_CREATION_TIME = 2016-10-26T17:49:15.000Z
PRODUCT_ID = "H9442_0000_P23.JP2"
RELEASE_ID = 0097
REVISION_ID = 0000
/* QUALITY DATA ELEMENTS */
DATA_QUALITY_ID = 1
DATA_QUALITY_DESC = "Data calculated based on original SPICE kernels"
/* TIME DATA ELEMENTS */
SPACECRAFT_CLOCK_START_COUNT = "1/0254441864.08246"
SPACECRAFT_CLOCK_STOP_COUNT = "1/0254442178.12603"
START_TIME = 2011-05-25T22:18:51.452Z
STOP_TIME = 2011-05-25T22:22:36.431Z
/* ORBITAL DATA ELEMENTS */
ASCENDING_NODE_LONGITUDE = 36.97
MAXIMUM_RESOLUTION = 71.8
FOOTPRINT_POINT_LATITUDE = (14.3115,14.3201,14.3289,14.3477, 14.0974,13.7229,13.4744,13.2219,12.9677 ,12.714,12.3333,11.9472,11.6892,11.3025 ,11.0405,10.7782,10.516,10.2534,9.98647 ,9.58612,9.18761,8.922,8.65743,8.26092, 7.99665,7.73352,7.34056,7.07959,6.81912 ,6.55913,6.29947,6.04069,5.78255, 5.52563,5.268,4.88318,4.62773,4.37316, 4.12362,3.73749,3.35908,3.10672,2.85523 ,2.60432,2.35431,2.10535,1.73229, 1.48429,1.46975,1.45837,1.44471,1.43356 ,1.42613,1.79819,2.04734,2.29713, 2.54757,2.79878,3.05045,3.30307,3.68367 ,3.93767,4.19195,4.44756,4.83088, 5.09151,5.47805,5.73364,5.99221,6.25141 ,6.51117,6.90256,7.16418,7.42603, 7.68863,8.08329,8.34725,8.61209,8.87759 ,9.14377,9.40974,9.67632,9.94306, 10.3424,10.6046,10.9984,11.2612,11.5193 ,11.7781,12.0354,12.3014,12.5566, 12.8097,13.065,13.3201,13.5631,13.8115, 14.0613,14.3113,14.3115)
FOOTPRINT_POINT_LONGITUDE = (356.15,355.685,355.216,354.981,354.977 ,354.971,354.966,354.962,354.957, 354.952,354.945,354.937,354.931,354.923 ,354.917,354.911,354.905,354.899, 354.892,354.883,354.872,354.866,354.859 ,354.848,354.842,354.834,354.823, 354.815,354.807,354.799,354.791,354.783 ,354.775,354.766,354.757,354.745, 354.736,354.727,354.715,354.704,354.69, 354.68,354.671,354.661,354.652,354.641, 354.626,354.616,354.886,355.291,355.809 ,356.268,356.573,356.67,356.667,356.664 ,356.661,356.658,356.655,356.652, 356.648,356.646,356.643,356.64,356.636, 356.635,356.631,356.628,356.625,356.623 ,356.62,356.617,356.614,356.612,356.61, 356.606,356.604,356.602,356.6,356.598, 356.595,356.593,356.591,356.588,356.586 ,356.582,356.58,356.578,356.577,356.574 ,356.574,356.573,356.571,356.569, 356.567,356.564,356.562,356.56,356.558, 356.15)
ORBIT_NUMBER = 9442
ORBITAL_ECCENTRICITY = 0.575
ORBITAL_INCLINATION = 86.86
ORBITAL_SEMIMAJOR_AXIS = 8829.23
PERIAPSIS_ALTITUDE = 359.16
PERIAPSIS_ARGUMENT_ANGLE = 148.14
PERIAPSIS_TIME = 2011-05-25T22:13:51.000Z
SPACECRAFT_ORIENTATION = (0.0,-1.0,0.0)
^MEX_ORIENTATION_DESC = "MEX_ORIENTATION_DESC.TXT"
SPACECRAFT_POINTING_MODE = ACROSSTRACK
^MEX_POINTING_DESC = "MEX_POINTING_DESC.TXT"
RIGHT_ASCENSION = -1e+32
DECLINATION = -1e+32
OFFSET_ANGLE = -0.37
SPACECRAFT_SOLAR_DISTANCE = 2.12698e+08
TARGET_NAME = MARS
/* CAMERA DATA ELEMENTS */
DETECTOR_TEMPERATURE = 18.9822
FOCAL_PLANE_TEMPERATURE = 9.3989
INST_CMPRS_NAME = "DISCRETE COSINE TRANSFORMATION (DCT)"
INST_CMPRS_RATIO = 6.68127
INST_CMPRS_QUALITY = 0
INST_CMPRS_QUANTZ_TBL_ID = 0
INSTRUMENT_TEMPERATURE = 11.6418
LENS_TEMPERATURE = 9.6028
MACROPIXEL_SIZE = 4
MISSING_FRAMES = 0
PIXEL_SUBSAMPLING_FLAG = N
SIGNAL_CHAIN_ID = 3
/* RADIOMETRIC DATA ELEMENTS */
BANDWIDTH = 177.0
CENTER_FILTER_WAVELENGTH = 676.5
RADIANCE_OFFSET = 3.6302
RADIANCE_SCALING_FACTOR = 0.0219869
REFLECTANCE_SCALING_FACTOR = 0.000527411
MEX:REFLECTANCE_OFFSET = 0.0870797
/* IMAGE OBJECT DEFINITIONS */
OBJECT = IMAGE
  INTERCHANGE_FORMAT = BINARY
  LINES = 15303
  LINE_SAMPLES = 2398
  SAMPLE_TYPE = UNSIGNED_INTEGER
  SAMPLE_BITS = 8
  BANDS = 1
  BAND_STORAGE_TYPE = BAND_SEQUENTIAL
  MAXIMUM = 255
  MEAN = 124.295
  MINIMUM = 1
  STANDARD_DEVIATION = 26.5297
END_OBJECT = IMAGE
/* MAP OBJECT DEFINITIONS */
OBJECT = IMAGE_MAP_PROJECTION
  ^DATA_SET_MAP_PROJECTION_CATALOG= "DSMAP.CAT"
  A_AXIS_RADIUS = 3396.0
  B_AXIS_RADIUS = 3396.0
  C_AXIS_RADIUS = 3396.0
  CENTER_LATITUDE = 0.0
  CENTER_LONGITUDE = 356.0
  COORDINATE_SYSTEM_NAME = PLANETOGRAPHIC
  COORDINATE_SYSTEM_TYPE = "BODY-FIXED ROTATING"
  EASTERNMOST_LONGITUDE = 356.67
  FIRST_STANDARD_PARALLEL = "N/A"
  LINE_FIRST_PIXEL = 1
  LINE_LAST_PIXEL = 15303
  LINE_PROJECTION_OFFSET = 16992.375
  MAP_PROJECTION_ROTATION = 0.0
  MAP_PROJECTION_TYPE = SINUSOIDAL
  MAP_RESOLUTION = 1185.42760773333
  MAP_SCALE = 0.05
  MAXIMUM_LATITUDE = 14.3477
  MINIMUM_LATITUDE = 1.42613
  POSITIVE_LONGITUDE_DIRECTION = EAST
  REFERENCE_LATITUDE = "N/A"
  REFERENCE_LONGITUDE = "N/A"
  SAMPLE_FIRST_PIXEL = 1
  SAMPLE_LAST_PIXEL = 2398
  SAMPLE_PROJECTION_OFFSET = 1638.125
  SECOND_STANDARD_PARALLEL = "N/A"
  WESTERNMOST_LONGITUDE = 354.616
END_OBJECT = IMAGE_MAP_PROJECTION
/* The JPEG2000 image data file associated with this label. */
OBJECT = COMPRESSED_FILE
  FILE_NAME = "H9442_0000_P23.JP2"
  RECORD_TYPE = UNDEFINED
  FILE_RECORDS = UNK
  ENCODING_TYPE = "JP2"
  INTERCHANGE_FORMAT = BINARY
  UNCOMPRESSED_FILE_NAME = "H9442_0000_P23.IMG"
  REQUIRED_STORAGE_BYTES = "36715778"
  ^DESCRIPTION = "JP2INFO.TXT"
END_OBJECT = COMPRESSED_FILE
END
