PDS_VERSION_ID = PDS3
/* FILE DATA ELEMENTS */
RECORD_TYPE = STREAM
/* POINTERS TO DATA OBJECTS */
^COMPRESSED_FILE = "H9445_0000_ND3.JP2"
/* IDENTIFICATION DATA ELEMENTS */
DATA_SET_ID = "MEX-M-HRSC-5-REFDR-MAPPROJECTED-V3.0"
DATA_SET_NAME = "MARS EXPRESS HRSC MAP PROJECTED REFDR V3.0"
DETECTOR_ID = MEX_HRSC_NADIR
EVENT_TYPE = "MARS-REGIONAL-MAPPING-Im-Fl-La"
INSTRUMENT_HOST_ID = MEX
INSTRUMENT_HOST_NAME = "MARS EXPRESS"
INSTRUMENT_ID = HRSC
INSTRUMENT_NAME = "HIGH RESOLUTION STEREO CAMERA"
MISSION_NAME = "MARS EXPRESS"
MISSION_PHASE_NAME = ME_Phase_23
PROCESSING_LEVEL_ID = 3
PRODUCT_CREATION_TIME = 2016-10-26T17:49:15.000Z
PRODUCT_ID = "H9445_0000_ND3.JP2"
RELEASE_ID = 0097
REVISION_ID = 0000
/* QUALITY DATA ELEMENTS */
DATA_QUALITY_ID = 1
DATA_QUALITY_DESC = "Data calculated based on original SPICE kernels"
/* TIME DATA ELEMENTS */
SPACECRAFT_CLOCK_START_COUNT = "1/0254517250.09053"
SPACECRAFT_CLOCK_STOP_COUNT = "1/0254517509.46805"
START_TIME = 2011-05-26T19:14:45.990Z
STOP_TIME = 2011-05-26T19:17:47.983Z
/* ORBITAL DATA ELEMENTS */
ASCENDING_NODE_LONGITUDE = 36.91
MAXIMUM_RESOLUTION = 14.8
FOOTPRINT_POINT_LATITUDE = (24.9176,24.9175,24.9167,24.914,24.5192 ,24.1252,23.7917,23.5568,23.3221, 23.0875,22.853,22.6186,22.3843,22.1502, 21.9162,21.6822,21.4485,21.2149,20.9814 ,20.7481,20.5147,20.2816,20.0487, 19.8159,19.5833,19.3509,19.1185,18.8864 ,18.6544,18.4226,18.1909,17.9594, 17.7281,17.4969,17.266,17.0352,16.8046, 16.5742,16.3439,15.884,15.6484,15.4127, 15.1773,14.942,14.7071,14.4722,14.1118, 13.8715,13.6313,13.3869,13.3849,13.3822 ,13.3801,13.3773,13.6175,13.858,14.0987 ,14.4597,14.6948,14.9301,15.1656, 15.4014,15.6373,15.8734,16.3338,16.5644 ,16.7951,17.026,17.2571,17.4883,17.7198 ,17.9514,18.1832,18.4152,18.6473, 18.8796,19.112,19.3447,19.5774,19.8104, 20.0434,20.2767,20.51,20.7435,20.9772, 21.211,21.4448,21.6791,21.9133,22.1476, 22.382,22.6165,22.8512,23.0859,23.3208, 23.5558,23.791,24.1255,24.5199,24.9176)
FOOTPRINT_POINT_LONGITUDE = (49.862,49.5433,49.1829,48.6839,48.5875 ,48.5887,48.5908,48.5929,48.5923, 48.5919,48.5918,48.5914,48.5911,48.5908 ,48.5902,48.5901,48.5892,48.5867, 48.5854,48.5843,48.586,48.5845,48.5831, 48.5818,48.5801,48.5773,48.5754,48.573, 48.5705,48.5687,48.5662,48.5639,48.5615 ,48.5591,48.5565,48.5537,48.551,48.5481 ,48.5451,48.5388,48.5355,48.5321, 48.5286,48.5251,48.5202,48.5178,48.5115 ,48.5074,48.5031,48.7115,49.0766, 49.4563,49.7148,50.0418,50.041,50.0399, 50.0392,50.0379,50.0372,50.037,50.0359, 50.0351,50.0344,50.0335,50.0321,50.0314 ,50.0306,50.0299,50.0292,50.0285, 50.0281,50.0276,50.0268,50.0266,50.0256 ,50.025,50.0244,50.0238,50.0238,50.0229 ,50.0218,50.0216,50.021,50.0199,50.0187 ,50.018,50.0164,50.0188,50.0182,50.0175 ,50.0165,50.0146,50.0137,50.0115, 50.0103,50.0094,50.0086,50.0095,50.0068 ,49.862)
ORBIT_NUMBER = 9445
ORBITAL_ECCENTRICITY = 0.576
ORBITAL_INCLINATION = 86.86
ORBITAL_SEMIMAJOR_AXIS = 8834.75
PERIAPSIS_ALTITUDE = 359.15
PERIAPSIS_ARGUMENT_ANGLE = 147.66
PERIAPSIS_TIME = 2011-05-26T19:12:51.000Z
SPACECRAFT_ORIENTATION = (0.0,-1.0,0.0)
^MEX_ORIENTATION_DESC = "MEX_ORIENTATION_DESC.TXT"
SPACECRAFT_POINTING_MODE = NADIR
^MEX_POINTING_DESC = "MEX_POINTING_DESC.TXT"
RIGHT_ASCENSION = -1e+32
DECLINATION = -1e+32
OFFSET_ANGLE = -1e+32
SPACECRAFT_SOLAR_DISTANCE = 2.12826e+08
TARGET_NAME = MARS
/* CAMERA DATA ELEMENTS */
DETECTOR_TEMPERATURE = 18.3705
FOCAL_PLANE_TEMPERATURE = 8.9911
INST_CMPRS_NAME = "DISCRETE COSINE TRANSFORMATION (DCT)"
INST_CMPRS_RATIO = 6.34138
INST_CMPRS_QUALITY = 0
INST_CMPRS_QUANTZ_TBL_ID = 0
INSTRUMENT_TEMPERATURE = 11.234
LENS_TEMPERATURE = 9.3989
MACROPIXEL_SIZE = 1
MISSING_FRAMES = 0
PIXEL_SUBSAMPLING_FLAG = N
SIGNAL_CHAIN_ID = 0
/* RADIOMETRIC DATA ELEMENTS */
BANDWIDTH = 177.0
CENTER_FILTER_WAVELENGTH = 677.5
RADIANCE_OFFSET = 3.36245
RADIANCE_SCALING_FACTOR = 0.0239891
REFLECTANCE_SCALING_FACTOR = 0.000577228
MEX:REFLECTANCE_OFFSET = 0.0809076
/* IMAGE OBJECT DEFINITIONS */
OBJECT = IMAGE
  INTERCHANGE_FORMAT = BINARY
  LINES = 54722
  LINE_SAMPLES = 7498
  SAMPLE_TYPE = UNSIGNED_INTEGER
  SAMPLE_BITS = 8
  BANDS = 1
  BAND_STORAGE_TYPE = BAND_SEQUENTIAL
  MAXIMUM = 255
  MEAN = 121.823
  MINIMUM = 1
  STANDARD_DEVIATION = 27.901
END_OBJECT = IMAGE
/* MAP OBJECT DEFINITIONS */
OBJECT = IMAGE_MAP_PROJECTION
  ^DATA_SET_MAP_PROJECTION_CATALOG= "DSMAP.CAT"
  A_AXIS_RADIUS = 3396.0
  B_AXIS_RADIUS = 3396.0
  C_AXIS_RADIUS = 3396.0
  CENTER_LATITUDE = 0.0
  CENTER_LONGITUDE = 49.0
  COORDINATE_SYSTEM_NAME = PLANETOGRAPHIC
  COORDINATE_SYSTEM_TYPE = "BODY-FIXED ROTATING"
  EASTERNMOST_LONGITUDE = 50.0418
  FIRST_STANDARD_PARALLEL = "N/A"
  LINE_FIRST_PIXEL = 1
  LINE_LAST_PIXEL = 54722
  LINE_PROJECTION_OFFSET = 118152.0
  MAP_PROJECTION_ROTATION = 0.0
  MAP_PROJECTION_TYPE = SINUSOIDAL
  MAP_RESOLUTION = 4741.71043093333
  MAP_SCALE = 0.0125
  MAXIMUM_LATITUDE = 24.9176
  MINIMUM_LATITUDE = 13.3773
  POSITIVE_LONGITUDE_DIRECTION = EAST
  REFERENCE_LATITUDE = "N/A"
  REFERENCE_LONGITUDE = "N/A"
  SAMPLE_FIRST_PIXEL = 1
  SAMPLE_LAST_PIXEL = 7498
  SAMPLE_PROJECTION_OFFSET = 2502.0
  SECOND_STANDARD_PARALLEL = "N/A"
  WESTERNMOST_LONGITUDE = 48.5031
END_OBJECT = IMAGE_MAP_PROJECTION
/* The JPEG2000 image data file associated with this label. */
OBJECT = COMPRESSED_FILE
  FILE_NAME = "H9445_0000_ND3.JP2"
  RECORD_TYPE = UNDEFINED
  FILE_RECORDS = UNK
  ENCODING_TYPE = "JP2"
  INTERCHANGE_FORMAT = BINARY
  UNCOMPRESSED_FILE_NAME = "H9445_0000_ND3.IMG"
  REQUIRED_STORAGE_BYTES = "410335548"
  ^DESCRIPTION = "JP2INFO.TXT"
END_OBJECT = COMPRESSED_FILE
END
