PDS_VERSION_ID = PDS3
/* FILE DATA ELEMENTS */
RECORD_TYPE = STREAM
/* POINTERS TO DATA OBJECTS */
^COMPRESSED_FILE = "H9448_0000_S13.JP2"
/* IDENTIFICATION DATA ELEMENTS */
DATA_SET_ID = "MEX-M-HRSC-5-REFDR-MAPPROJECTED-V3.0"
DATA_SET_NAME = "MARS EXPRESS HRSC MAP PROJECTED REFDR V3.0"
DETECTOR_ID = MEX_HRSC_S1
EVENT_TYPE = "MARS-LOCAL-CARTOGRAPHY-Tc-Ot-Ts"
INSTRUMENT_HOST_ID = MEX
INSTRUMENT_HOST_NAME = "MARS EXPRESS"
INSTRUMENT_ID = HRSC
INSTRUMENT_NAME = "HIGH RESOLUTION STEREO CAMERA"
MISSION_NAME = "MARS EXPRESS"
MISSION_PHASE_NAME = ME_Phase_23
PROCESSING_LEVEL_ID = 3
PRODUCT_CREATION_TIME = 2016-10-26T17:49:15.000Z
PRODUCT_ID = "H9448_0000_S13.JP2"
RELEASE_ID = 0097
REVISION_ID = 0000
/* QUALITY DATA ELEMENTS */
DATA_QUALITY_ID = 1
DATA_QUALITY_DESC = "Data calculated based on original SPICE kernels"
/* TIME DATA ELEMENTS */
SPACECRAFT_CLOCK_START_COUNT = "1/0254592689.07297"
SPACECRAFT_CLOCK_STOP_COUNT = "1/0254592888.48302"
START_TIME = 2011-05-27T16:11:32.083Z
STOP_TIME = 2011-05-27T16:13:41.206Z
/* ORBITAL DATA ELEMENTS */
ASCENDING_NODE_LONGITUDE = 36.85
MAXIMUM_RESOLUTION = 15.4
FOOTPRINT_POINT_LATITUDE = (31.6904,31.6888,31.6861,31.6813, 31.6773,31.4517,31.2026,30.8703,30.7037 ,30.5374,30.3709,30.2043,30.0376,29.871 ,29.7044,29.5376,29.3707,29.1201,28.953 ,28.7858,28.6187,28.4515,28.2845, 28.1171,27.9498,27.7825,27.6151,27.4475 ,27.1963,27.0287,26.7769,26.6091, 26.3572,26.1893,26.0214,25.7695,25.5175 ,25.3494,25.1813,24.9291,24.7609, 24.5927,24.4243,24.256,24.0876,23.9193, 23.7515,23.5805,23.2458,23.2382,23.24, 23.2405,23.2404,23.2396,23.4926,23.6613 ,23.8301,23.9988,24.1675,24.336,24.5044 ,24.6729,24.9255,25.0941,25.3436, 25.5153,25.6835,25.8515,26.0196,26.1877 ,26.3557,26.6077,26.7757,26.9438, 27.1959,27.3637,27.5314,27.699,27.8664, 28.0341,28.2018,28.4533,28.6209,28.7882 ,29.0388,29.2896,29.4568,29.624,29.7911 ,29.958,30.1249,30.2919,30.4587,30.6254 ,30.8754,31.0421,31.2917,31.458,31.6243 ,31.6904)
FOOTPRINT_POINT_LONGITUDE = (102.82,102.604,102.331,101.987,101.756 ,101.648,101.653,101.66,101.663,101.667 ,101.67,101.673,101.676,101.679,101.682 ,101.684,101.687,101.691,101.694, 101.696,101.698,101.701,101.703,101.705 ,101.707,101.709,101.711,101.713, 101.716,101.718,101.72,101.722,101.724, 101.725,101.727,101.729,101.73,101.731, 101.732,101.734,101.735,101.735,101.736 ,101.737,101.737,101.738,101.738, 101.738,101.739,102.006,102.342,102.538 ,102.818,103.162,103.161,103.161, 103.161,103.16,103.16,103.16,103.159, 103.159,103.159,103.158,103.159,103.158 ,103.157,103.157,103.157,103.156, 103.156,103.156,103.155,103.155,103.154 ,103.154,103.154,103.154,103.153, 103.153,103.152,103.152,103.151,103.151 ,103.151,103.15,103.149,103.149,103.149 ,103.148,103.148,103.147,103.147, 103.146,103.146,103.145,103.144,103.144 ,103.143,102.82)
ORBIT_NUMBER = 9448
ORBITAL_ECCENTRICITY = 0.576
ORBITAL_INCLINATION = 86.86
ORBITAL_SEMIMAJOR_AXIS = 8835.2
PERIAPSIS_ALTITUDE = 359.02
PERIAPSIS_ARGUMENT_ANGLE = 147.11
PERIAPSIS_TIME = 2011-05-27T16:11:45.000Z
SPACECRAFT_ORIENTATION = (0.0,-1.0,0.0)
^MEX_ORIENTATION_DESC = "MEX_ORIENTATION_DESC.TXT"
SPACECRAFT_POINTING_MODE = NADIR
^MEX_POINTING_DESC = "MEX_POINTING_DESC.TXT"
RIGHT_ASCENSION = -1e+32
DECLINATION = -1e+32
OFFSET_ANGLE = -1e+32
SPACECRAFT_SOLAR_DISTANCE = 2.12955e+08
TARGET_NAME = MARS
/* CAMERA DATA ELEMENTS */
DETECTOR_TEMPERATURE = 17.7588
FOCAL_PLANE_TEMPERATURE = 8.7872
INST_CMPRS_NAME = "DISCRETE COSINE TRANSFORMATION (DCT)"
INST_CMPRS_RATIO = 7.06454
INST_CMPRS_QUALITY = 0
INST_CMPRS_QUANTZ_TBL_ID = 0
INSTRUMENT_TEMPERATURE = 10.2145
LENS_TEMPERATURE = 9.195
MACROPIXEL_SIZE = 1
MISSING_FRAMES = 0
PIXEL_SUBSAMPLING_FLAG = N
SIGNAL_CHAIN_ID = 2
/* RADIOMETRIC DATA ELEMENTS */
BANDWIDTH = 180.0
CENTER_FILTER_WAVELENGTH = 677.0
RADIANCE_OFFSET = 3.5056
RADIANCE_SCALING_FACTOR = 0.0147916
REFLECTANCE_SCALING_FACTOR = 0.00034997
MEX:REFLECTANCE_OFFSET = 0.0829429
/* IMAGE OBJECT DEFINITIONS */
OBJECT = IMAGE
  INTERCHANGE_FORMAT = BINARY
  LINES = 39755
  LINE_SAMPLES = 6759
  SAMPLE_TYPE = UNSIGNED_INTEGER
  SAMPLE_BITS = 8
  BANDS = 1
  BAND_STORAGE_TYPE = BAND_SEQUENTIAL
  MAXIMUM = 255
  MEAN = 106.572
  MINIMUM = 1
  STANDARD_DEVIATION = 18.4772
END_OBJECT = IMAGE
/* MAP OBJECT DEFINITIONS */
OBJECT = IMAGE_MAP_PROJECTION
  ^DATA_SET_MAP_PROJECTION_CATALOG= "DSMAP.CAT"
  A_AXIS_RADIUS = 3396.0
  B_AXIS_RADIUS = 3396.0
  C_AXIS_RADIUS = 3396.0
  CENTER_LATITUDE = 0.0
  CENTER_LONGITUDE = 102.0
  COORDINATE_SYSTEM_NAME = PLANETOGRAPHIC
  COORDINATE_SYSTEM_TYPE = "BODY-FIXED ROTATING"
  EASTERNMOST_LONGITUDE = 103.162
  FIRST_STANDARD_PARALLEL = "N/A"
  LINE_FIRST_PIXEL = 1
  LINE_LAST_PIXEL = 39755
  LINE_PROJECTION_OFFSET = 150083.0
  MAP_PROJECTION_ROTATION = 0.0
  MAP_PROJECTION_TYPE = SINUSOIDAL
  MAP_RESOLUTION = 4741.71043093333
  MAP_SCALE = 0.0125
  MAXIMUM_LATITUDE = 31.6904
  MINIMUM_LATITUDE = 23.2382
  POSITIVE_LONGITUDE_DIRECTION = EAST
  REFERENCE_LATITUDE = "N/A"
  REFERENCE_LONGITUDE = "N/A"
  SAMPLE_FIRST_PIXEL = 1
  SAMPLE_LAST_PIXEL = 6759
  SAMPLE_PROJECTION_OFFSET = 1537.0
  SECOND_STANDARD_PARALLEL = "N/A"
  WESTERNMOST_LONGITUDE = 101.648
END_OBJECT = IMAGE_MAP_PROJECTION
/* The JPEG2000 image data file associated with this label. */
OBJECT = COMPRESSED_FILE
  FILE_NAME = "H9448_0000_S13.JP2"
  RECORD_TYPE = UNDEFINED
  FILE_RECORDS = UNK
  ENCODING_TYPE = "JP2"
  INTERCHANGE_FORMAT = BINARY
  UNCOMPRESSED_FILE_NAME = "H9448_0000_S13.IMG"
  REQUIRED_STORAGE_BYTES = "268737840"
  ^DESCRIPTION = "JP2INFO.TXT"
END_OBJECT = COMPRESSED_FILE
END
