PDS_VERSION_ID = PDS3
/* FILE DATA ELEMENTS */
RECORD_TYPE = STREAM
/* POINTERS TO DATA OBJECTS */
^COMPRESSED_FILE = "H9451_0000_GR3.JP2"
/* IDENTIFICATION DATA ELEMENTS */
DATA_SET_ID = "MEX-M-HRSC-5-REFDR-MAPPROJECTED-V3.0"
DATA_SET_NAME = "MARS EXPRESS HRSC MAP PROJECTED REFDR V3.0"
DETECTOR_ID = MEX_HRSC_GREEN
EVENT_TYPE = "MARS-REGIONAL-MAPPING-Vo-Pf"
INSTRUMENT_HOST_ID = MEX
INSTRUMENT_HOST_NAME = "MARS EXPRESS"
INSTRUMENT_ID = HRSC
INSTRUMENT_NAME = "HIGH RESOLUTION STEREO CAMERA"
MISSION_NAME = "MARS EXPRESS"
MISSION_PHASE_NAME = ME_Phase_23
PROCESSING_LEVEL_ID = 3
PRODUCT_CREATION_TIME = 2016-10-26T17:49:15.000Z
PRODUCT_ID = "H9451_0000_GR3.JP2"
RELEASE_ID = 0097
REVISION_ID = 0000
/* QUALITY DATA ELEMENTS */
DATA_QUALITY_ID = 1
DATA_QUALITY_DESC = "Data calculated based on original SPICE kernels"
/* TIME DATA ELEMENTS */
SPACECRAFT_CLOCK_START_COUNT = "1/0254668050.09068"
SPACECRAFT_CLOCK_STOP_COUNT = "1/0254668256.09643"
START_TIME = 2011-05-28T13:08:03.695Z
STOP_TIME = 2011-05-28T13:10:19.016Z
/* ORBITAL DATA ELEMENTS */
ASCENDING_NODE_LONGITUDE = 36.79
MAXIMUM_RESOLUTION = 116.7
FOOTPRINT_POINT_LATITUDE = (43.4034,43.3994,43.3945,43.389,43.3836 ,43.3768,43.3533,43.1651,42.9767, 42.7882,42.5996,42.4109,42.2221,42.0332 ,41.8442,41.6551,41.466,41.2767,41.0873 ,40.8979,40.7084,40.5188,40.3291, 40.1394,39.9495,39.7596,39.5696,39.3795 ,39.1033,38.7845,38.3857,38.0664,37.747 ,37.4274,37.0278,36.8678,36.7079, 36.5479,36.3879,36.2278,36.0677,35.8275 ,35.6674,35.5072,35.3469,35.1065,34.866 ,34.6902,34.6939,34.6979,34.7023, 34.7046,34.7061,34.9497,35.1103,35.2708 ,35.4314,35.5919,35.7524,35.9129, 36.0734,36.2338,36.3942,36.5545,36.7149 ,36.8751,37.0354,37.1956,37.3558,37.516 ,37.6761,37.8362,37.9963,38.1563, 38.3163,38.4762,38.7959,39.1155,39.2941 ,39.4847,39.6752,39.8656,40.056,40.2463 ,40.4364,40.7216,40.9116,41.1016, 41.2915,41.4813,41.671,41.8605,42.1448, 42.3342,42.5234,42.7127,42.9018,43.0909 ,43.2798,43.4034)
FOOTPRINT_POINT_LONGITUDE = (155.919,155.667,155.398,155.129, 154.893,154.624,154.298,154.311,154.323 ,154.335,154.347,154.359,154.37,154.382 ,154.393,154.404,154.415,154.426, 154.436,154.447,154.457,154.467,154.477 ,154.487,154.496,154.506,154.515, 154.524,154.537,154.552,154.569,154.583 ,154.596,154.609,154.625,154.631, 154.637,154.643,154.649,154.654,154.66, 154.668,154.674,154.679,154.684,154.692 ,154.699,154.789,155.005,155.278, 155.638,155.882,156.084,156.236,156.235 ,156.234,156.233,156.232,156.231, 156.229,156.228,156.227,156.226,156.225 ,156.224,156.222,156.221,156.22,156.219 ,156.217,156.216,156.215,156.213, 156.212,156.211,156.209,156.206,156.203 ,156.202,156.2,156.198,156.196,156.194, 156.192,156.19,156.187,156.185,156.183, 156.181,156.179,156.177,156.175,156.171 ,156.169,156.167,156.164,156.162, 156.159,156.157,155.919)
ORBIT_NUMBER = 9451
ORBITAL_ECCENTRICITY = 0.575
ORBITAL_INCLINATION = 86.86
ORBITAL_SEMIMAJOR_AXIS = 8826.75
PERIAPSIS_ALTITUDE = 360.62
PERIAPSIS_ARGUMENT_ANGLE = 146.62
PERIAPSIS_TIME = 2011-05-28T13:10:45.000Z
SPACECRAFT_ORIENTATION = (0.0,-1.0,0.0)
^MEX_ORIENTATION_DESC = "MEX_ORIENTATION_DESC.TXT"
SPACECRAFT_POINTING_MODE = NADIR
^MEX_POINTING_DESC = "MEX_POINTING_DESC.TXT"
RIGHT_ASCENSION = -1e+32
DECLINATION = -1e+32
OFFSET_ANGLE = -1e+32
SPACECRAFT_SOLAR_DISTANCE = 2.13085e+08
TARGET_NAME = MARS
/* CAMERA DATA ELEMENTS */
DETECTOR_TEMPERATURE = 18.5744
FOCAL_PLANE_TEMPERATURE = 9.195
INST_CMPRS_NAME = "DISCRETE COSINE TRANSFORMATION (DCT)"
INST_CMPRS_RATIO = 8.12115
INST_CMPRS_QUALITY = 0
INST_CMPRS_QUANTZ_TBL_ID = 0
INSTRUMENT_TEMPERATURE = 11.6418
LENS_TEMPERATURE = 9.6028
MACROPIXEL_SIZE = 8
MISSING_FRAMES = 0
PIXEL_SUBSAMPLING_FLAG = N
SIGNAL_CHAIN_ID = 2
/* RADIOMETRIC DATA ELEMENTS */
BANDWIDTH = 88.0
CENTER_FILTER_WAVELENGTH = 538.0
RADIANCE_OFFSET = 0.967689
RADIANCE_SCALING_FACTOR = 0.0036923
REFLECTANCE_SCALING_FACTOR = 0.000144341
MEX:REFLECTANCE_OFFSET = 0.0378295
/* IMAGE OBJECT DEFINITIONS */
OBJECT = IMAGE
  INTERCHANGE_FORMAT = BINARY
  LINES = 5165
  LINE_SAMPLES = 927
  SAMPLE_TYPE = UNSIGNED_INTEGER
  SAMPLE_BITS = 8
  BANDS = 1
  BAND_STORAGE_TYPE = BAND_SEQUENTIAL
  MAXIMUM = 255
  MEAN = 89.373
  MINIMUM = 1
  STANDARD_DEVIATION = 20.7264
END_OBJECT = IMAGE
/* MAP OBJECT DEFINITIONS */
OBJECT = IMAGE_MAP_PROJECTION
  ^DATA_SET_MAP_PROJECTION_CATALOG= "DSMAP.CAT"
  A_AXIS_RADIUS = 3396.0
  B_AXIS_RADIUS = 3396.0
  C_AXIS_RADIUS = 3396.0
  CENTER_LATITUDE = 0.0
  CENTER_LONGITUDE = 155.0
  COORDINATE_SYSTEM_NAME = PLANETOGRAPHIC
  COORDINATE_SYSTEM_TYPE = "BODY-FIXED ROTATING"
  EASTERNMOST_LONGITUDE = 156.236
  FIRST_STANDARD_PARALLEL = "N/A"
  LINE_FIRST_PIXEL = 1
  LINE_LAST_PIXEL = 5165
  LINE_PROJECTION_OFFSET = 25728.3125
  MAP_PROJECTION_ROTATION = 0.0
  MAP_PROJECTION_TYPE = SINUSOIDAL
  MAP_RESOLUTION = 592.713803866667
  MAP_SCALE = 0.1
  MAXIMUM_LATITUDE = 43.4034
  MINIMUM_LATITUDE = 34.6902
  POSITIVE_LONGITUDE_DIRECTION = EAST
  REFERENCE_LATITUDE = "N/A"
  REFERENCE_LONGITUDE = "N/A"
  SAMPLE_FIRST_PIXEL = 1
  SAMPLE_LAST_PIXEL = 927
  SAMPLE_PROJECTION_OFFSET = 312.6875
  SECOND_STANDARD_PARALLEL = "N/A"
  WESTERNMOST_LONGITUDE = 154.298
END_OBJECT = IMAGE_MAP_PROJECTION
/* The JPEG2000 image data file associated with this label. */
OBJECT = COMPRESSED_FILE
  FILE_NAME = "H9451_0000_GR3.JP2"
  RECORD_TYPE = UNDEFINED
  FILE_RECORDS = UNK
  ENCODING_TYPE = "JP2"
  INTERCHANGE_FORMAT = BINARY
  UNCOMPRESSED_FILE_NAME = "H9451_0000_GR3.IMG"
  REQUIRED_STORAGE_BYTES = "4805568"
  ^DESCRIPTION = "JP2INFO.TXT"
END_OBJECT = COMPRESSED_FILE
END
