PDS_VERSION_ID = PDS3
/* FILE DATA ELEMENTS */
RECORD_TYPE = STREAM
/* POINTERS TO DATA OBJECTS */
^COMPRESSED_FILE = "H9453_0000_BL3.JP2"
/* IDENTIFICATION DATA ELEMENTS */
DATA_SET_ID = "MEX-M-HRSC-5-REFDR-MAPPROJECTED-V3.0"
DATA_SET_NAME = "MARS EXPRESS HRSC MAP PROJECTED REFDR V3.0"
DETECTOR_ID = MEX_HRSC_BLUE
EVENT_TYPE = "MARS-REGIONAL-MAPPING-Im-Fl"
INSTRUMENT_HOST_ID = MEX
INSTRUMENT_HOST_NAME = "MARS EXPRESS"
INSTRUMENT_ID = HRSC
INSTRUMENT_NAME = "HIGH RESOLUTION STEREO CAMERA"
MISSION_NAME = "MARS EXPRESS"
MISSION_PHASE_NAME = ME_Phase_23
PROCESSING_LEVEL_ID = 3
PRODUCT_CREATION_TIME = 2016-10-26T17:49:15.000Z
PRODUCT_ID = "H9453_0000_BL3.JP2"
RELEASE_ID = 0097
REVISION_ID = 0000
/* QUALITY DATA ELEMENTS */
DATA_QUALITY_ID = 1
DATA_QUALITY_DESC = "Data calculated based on original SPICE kernels"
/* TIME DATA ELEMENTS */
SPACECRAFT_CLOCK_START_COUNT = "1/0254718844.08257"
SPACECRAFT_CLOCK_STOP_COUNT = "1/0254718984.29769"
START_TIME = 2011-05-29T03:14:52.045Z
STOP_TIME = 2011-05-29T03:15:46.705Z
/* ORBITAL DATA ELEMENTS */
ASCENDING_NODE_LONGITUDE = 36.76
MAXIMUM_RESOLUTION = 138.7
FOOTPRINT_POINT_LATITUDE = (15.4303,15.431,15.432,15.4333,15.4341, 15.435,15.4357,15.4365,15.4372,15.4379, 15.4385,15.4389,15.4394,15.4123,15.2892 ,15.1662,15.0406,14.8831,14.7572, 14.6314,14.5056,14.4113,14.2543,14.1287 ,14.0346,13.9079,13.8436,13.7793,13.715 ,13.6509,13.5867,13.5226,13.4584, 13.3944,13.2985,13.2345,13.0747,12.9469 ,12.851,12.786,12.7204,12.6545,12.5888, 12.5234,12.4584,12.3931,12.3275,12.2622 ,12.1969,12.101,12.1006,12.1001,12.0996 ,12.0986,12.0977,12.0965,12.0957, 12.0947,12.0931,12.0917,12.0896,12.0888 ,12.0875,12.1214,12.2195,12.3185, 12.3846,12.4503,12.5159,12.614,12.6794, 12.7771,12.8416,12.9689,13.033,13.1291, 13.1935,13.2577,13.3219,13.4183,13.4825 ,13.5467,13.611,13.6753,13.7395,13.836, 13.9004,14.0271,14.1213,14.2156,14.3413 ,14.4672,14.5931,14.7191,14.8452, 14.9714,15.1602,15.3142,15.4066, 15.4303)
FOOTPRINT_POINT_LONGITUDE = (311.713,311.641,311.526,311.368, 311.253,311.138,311.022,310.907,310.792 ,310.663,310.548,310.447,310.332, 310.229,310.227,310.225,310.223,310.22, 310.218,310.215,310.213,310.211,310.208 ,310.206,310.204,310.202,310.201,310.2, 310.199,310.198,310.196,310.195,310.194 ,310.192,310.19,310.189,310.185,310.183 ,310.181,310.179,310.178,310.178, 310.177,310.175,310.173,310.172,310.171 ,310.17,310.168,310.194,310.271,310.347 ,310.423,310.561,310.668,310.82,310.912 ,311.034,311.202,311.324,311.507, 311.599,311.721,311.793,311.792,311.793 ,311.794,311.795,311.795,311.794, 311.794,311.792,311.791,311.789,311.789 ,311.789,311.789,311.789,311.789, 311.789,311.788,311.788,311.788,311.788 ,311.787,311.787,311.787,311.786, 311.786,311.785,311.785,311.784,311.784 ,311.783,311.783,311.782,311.782, 311.781,311.78,311.713)
ORBIT_NUMBER = 9453
ORBITAL_ECCENTRICITY = 0.575
ORBITAL_INCLINATION = 86.87
ORBITAL_SEMIMAJOR_AXIS = 8825.32
PERIAPSIS_ALTITUDE = 360.36
PERIAPSIS_ARGUMENT_ANGLE = 146.27
PERIAPSIS_TIME = 2011-05-29T03:09:59.000Z
SPACECRAFT_ORIENTATION = (0.0,-1.0,0.0)
^MEX_ORIENTATION_DESC = "MEX_ORIENTATION_DESC.TXT"
SPACECRAFT_POINTING_MODE = NADIR
^MEX_POINTING_DESC = "MEX_POINTING_DESC.TXT"
RIGHT_ASCENSION = -1e+32
DECLINATION = -1e+32
OFFSET_ANGLE = -1e+32
SPACECRAFT_SOLAR_DISTANCE = 2.13172e+08
TARGET_NAME = MARS
/* CAMERA DATA ELEMENTS */
DETECTOR_TEMPERATURE = 18.3705
FOCAL_PLANE_TEMPERATURE = 8.9911
INST_CMPRS_NAME = "DISCRETE COSINE TRANSFORMATION (DCT)"
INST_CMPRS_RATIO = 13.8512
INST_CMPRS_QUALITY = 0
INST_CMPRS_QUANTZ_TBL_ID = 0
INSTRUMENT_TEMPERATURE = 11.4379
LENS_TEMPERATURE = 9.195
MACROPIXEL_SIZE = 8
MISSING_FRAMES = 0
PIXEL_SUBSAMPLING_FLAG = N
SIGNAL_CHAIN_ID = 2
/* RADIOMETRIC DATA ELEMENTS */
BANDWIDTH = 76.0
CENTER_FILTER_WAVELENGTH = 444.0
RADIANCE_OFFSET = 0.591041
RADIANCE_SCALING_FACTOR = 0.00165558
REFLECTANCE_SCALING_FACTOR = 7.72981e-05
MEX:REFLECTANCE_OFFSET = 0.0275954
/* IMAGE OBJECT DEFINITIONS */
OBJECT = IMAGE
  INTERCHANGE_FORMAT = BINARY
  LINES = 1980
  LINE_SAMPLES = 983
  SAMPLE_TYPE = UNSIGNED_INTEGER
  SAMPLE_BITS = 8
  BANDS = 1
  BAND_STORAGE_TYPE = BAND_SEQUENTIAL
  MAXIMUM = 254
  MEAN = 144.118
  MINIMUM = 2
  STANDARD_DEVIATION = 16.5748
END_OBJECT = IMAGE
/* MAP OBJECT DEFINITIONS */
OBJECT = IMAGE_MAP_PROJECTION
  ^DATA_SET_MAP_PROJECTION_CATALOG= "DSMAP.CAT"
  A_AXIS_RADIUS = 3396.0
  B_AXIS_RADIUS = 3396.0
  C_AXIS_RADIUS = 3396.0
  CENTER_LATITUDE = 0.0
  CENTER_LONGITUDE = 311.0
  COORDINATE_SYSTEM_NAME = PLANETOGRAPHIC
  COORDINATE_SYSTEM_TYPE = "BODY-FIXED ROTATING"
  EASTERNMOST_LONGITUDE = 311.795
  FIRST_STANDARD_PARALLEL = "N/A"
  LINE_FIRST_PIXEL = 1
  LINE_LAST_PIXEL = 1980
  LINE_PROJECTION_OFFSET = 9151.6875
  MAP_PROJECTION_ROTATION = 0.0
  MAP_PROJECTION_TYPE = SINUSOIDAL
  MAP_RESOLUTION = 592.713803866667
  MAP_SCALE = 0.1
  MAXIMUM_LATITUDE = 15.4394
  MINIMUM_LATITUDE = 12.0875
  POSITIVE_LONGITUDE_DIRECTION = EAST
  REFERENCE_LATITUDE = "N/A"
  REFERENCE_LONGITUDE = "N/A"
  SAMPLE_FIRST_PIXEL = 1
  SAMPLE_LAST_PIXEL = 983
  SAMPLE_PROJECTION_OFFSET = 506.6875
  SECOND_STANDARD_PARALLEL = "N/A"
  WESTERNMOST_LONGITUDE = 310.168
END_OBJECT = IMAGE_MAP_PROJECTION
/* The JPEG2000 image data file associated with this label. */
OBJECT = COMPRESSED_FILE
  FILE_NAME = "H9453_0000_BL3.JP2"
  RECORD_TYPE = UNDEFINED
  FILE_RECORDS = UNK
  ENCODING_TYPE = "JP2"
  INTERCHANGE_FORMAT = BINARY
  UNCOMPRESSED_FILE_NAME = "H9453_0000_BL3.IMG"
  REQUIRED_STORAGE_BYTES = "1965017"
  ^DESCRIPTION = "JP2INFO.TXT"
END_OBJECT = COMPRESSED_FILE
END
