PDS_VERSION_ID = PDS3
/* FILE DATA ELEMENTS */
RECORD_TYPE = STREAM
/* POINTERS TO DATA OBJECTS */
^COMPRESSED_FILE = "H9456_0000_IR3.JP2"
/* IDENTIFICATION DATA ELEMENTS */
DATA_SET_ID = "MEX-M-HRSC-5-REFDR-MAPPROJECTED-V3.0"
DATA_SET_NAME = "MARS EXPRESS HRSC MAP PROJECTED REFDR V3.0"
DETECTOR_ID = MEX_HRSC_IR
EVENT_TYPE = "MARS-REGIONAL-MAPPING-Im-Fl-La"
INSTRUMENT_HOST_ID = MEX
INSTRUMENT_HOST_NAME = "MARS EXPRESS"
INSTRUMENT_ID = HRSC
INSTRUMENT_NAME = "HIGH RESOLUTION STEREO CAMERA"
MISSION_NAME = "MARS EXPRESS"
MISSION_PHASE_NAME = ME_Phase_23
PROCESSING_LEVEL_ID = 3
PRODUCT_CREATION_TIME = 2016-10-26T17:49:15.000Z
PRODUCT_ID = "H9456_0000_IR3.JP2"
RELEASE_ID = 0097
REVISION_ID = 0000
/* QUALITY DATA ELEMENTS */
DATA_QUALITY_ID = 1
DATA_QUALITY_DESC = "Data calculated based on original SPICE kernels"
/* TIME DATA ELEMENTS */
SPACECRAFT_CLOCK_START_COUNT = "1/0254794214.09059"
SPACECRAFT_CLOCK_STOP_COUNT = "1/0254794410.18178"
START_TIME = 2011-05-30T00:10:22.730Z
STOP_TIME = 2011-05-30T00:12:20.898Z
/* ORBITAL DATA ELEMENTS */
ASCENDING_NODE_LONGITUDE = 36.7
MAXIMUM_RESOLUTION = 123.2
FOOTPRINT_POINT_LATITUDE = (26.5177,26.5098,26.5015,26.4926, 26.4831,26.4731,26.4624,26.2283,25.9668 ,25.7708,25.575,25.4195,25.2635,25.1072 ,24.9513,24.7957,24.6398,24.4841, 24.3285,24.1727,24.0185,23.8623,23.7052 ,23.5499,23.3915,23.1544,22.9209,22.765 ,22.6121,22.4568,22.2229,22.0667, 21.9102,21.754,21.5197,21.3637,21.208, 21.0513,20.8953,20.7393,20.5052,20.349, 20.1152,19.8813,19.7254,19.4916,19.336, 19.1799,19.024,18.7444,18.7538,18.7615, 18.7714,18.7788,18.784,18.7921,18.9537, 19.1094,19.3432,19.5777,19.8117,19.9677 ,20.1241,20.2806,20.4371,20.5935, 20.7501,20.9061,21.0573,21.2133,21.3721 ,21.6096,21.8444,22.0007,22.2352, 22.3916,22.5475,22.7817,22.9367,23.0943 ,23.2502,23.4066,23.5608,23.7183, 23.8758,24.0298,24.1886,24.3444,24.5006 ,24.6571,24.8137,25.0489,25.2049, 25.3603,25.5168,25.6661,25.797,26.0583, 26.3198,26.5177)
FOOTPRINT_POINT_LONGITUDE = (3.99702,3.78717,3.57555,3.36223, 3.14734,2.93063,2.71189,2.65202,2.65554 ,2.65815,2.66086,2.66285,2.6647,2.66627 ,2.66813,2.67021,2.67196,2.67382, 2.67566,2.67735,2.68024,2.68143,2.68185 ,2.68371,2.683,2.68224,2.68422,2.68528, 2.68863,2.69004,2.69126,2.69183,2.69206 ,2.69249,2.69301,2.69345,2.69399, 2.69376,2.69401,2.69415,2.69421,2.69411 ,2.69413,2.69395,2.69376,2.69343, 2.69327,2.69268,2.69223,2.69073,2.92949 ,3.12663,3.40554,3.62696,3.77828, 4.03749,4.1674,4.16626,4.16454,4.1628, 4.16103,4.15985,4.15865,4.15745,4.15624 ,4.15502,4.15379,4.15254,4.15122, 4.14995,4.14871,4.14683,4.14488,4.14356 ,4.14156,4.14022,4.13886,4.1368,4.13538 ,4.13401,4.13259,4.13117,4.12969, 4.12827,4.12684,4.12531,4.12389,4.12238 ,4.12087,4.11935,4.11782,4.11552, 4.11394,4.11233,4.11074,4.10917,4.10781 ,4.10504,4.10225,3.99702)
ORBIT_NUMBER = 9456
ORBITAL_ECCENTRICITY = 0.575
ORBITAL_INCLINATION = 86.86
ORBITAL_SEMIMAJOR_AXIS = 8826.35
PERIAPSIS_ALTITUDE = 360.83
PERIAPSIS_ARGUMENT_ANGLE = 145.72
PERIAPSIS_TIME = 2011-05-30T00:08:50.000Z
SPACECRAFT_ORIENTATION = (0.0,-1.0,0.0)
^MEX_ORIENTATION_DESC = "MEX_ORIENTATION_DESC.TXT"
SPACECRAFT_POINTING_MODE = ACROSSTRACK
^MEX_POINTING_DESC = "MEX_POINTING_DESC.TXT"
RIGHT_ASCENSION = -1e+32
DECLINATION = -1e+32
OFFSET_ANGLE = -0.687
SPACECRAFT_SOLAR_DISTANCE = 2.13304e+08
TARGET_NAME = MARS
/* CAMERA DATA ELEMENTS */
DETECTOR_TEMPERATURE = 17.7588
FOCAL_PLANE_TEMPERATURE = 8.7872
INST_CMPRS_NAME = "DISCRETE COSINE TRANSFORMATION (DCT)"
INST_CMPRS_RATIO = 13.0077
INST_CMPRS_QUALITY = 0
INST_CMPRS_QUANTZ_TBL_ID = 0
INSTRUMENT_TEMPERATURE = 11.234
LENS_TEMPERATURE = 9.3989
MACROPIXEL_SIZE = 8
MISSING_FRAMES = 0
PIXEL_SUBSAMPLING_FLAG = N
SIGNAL_CHAIN_ID = 2
/* RADIOMETRIC DATA ELEMENTS */
BANDWIDTH = 81.0
CENTER_FILTER_WAVELENGTH = 955.5
RADIANCE_OFFSET = 1.02442
RADIANCE_SCALING_FACTOR = 0.00525798
REFLECTANCE_SCALING_FACTOR = 0.000516113
MEX:REFLECTANCE_OFFSET = 0.100555
/* IMAGE OBJECT DEFINITIONS */
OBJECT = IMAGE
  INTERCHANGE_FORMAT = BINARY
  LINES = 4566
  LINE_SAMPLES = 897
  SAMPLE_TYPE = UNSIGNED_INTEGER
  SAMPLE_BITS = 8
  BANDS = 1
  BAND_STORAGE_TYPE = BAND_SEQUENTIAL
  MAXIMUM = 255
  MEAN = 98.7576
  MINIMUM = 1
  STANDARD_DEVIATION = 23.7435
END_OBJECT = IMAGE
/* MAP OBJECT DEFINITIONS */
OBJECT = IMAGE_MAP_PROJECTION
  ^DATA_SET_MAP_PROJECTION_CATALOG= "DSMAP.CAT"
  A_AXIS_RADIUS = 3396.0
  B_AXIS_RADIUS = 3396.0
  C_AXIS_RADIUS = 3396.0
  CENTER_LATITUDE = 0.0
  CENTER_LONGITUDE = 3.0
  COORDINATE_SYSTEM_NAME = PLANETOGRAPHIC
  COORDINATE_SYSTEM_TYPE = "BODY-FIXED ROTATING"
  EASTERNMOST_LONGITUDE = 4.1674
  FIRST_STANDARD_PARALLEL = "N/A"
  LINE_FIRST_PIXEL = 1
  LINE_LAST_PIXEL = 4566
  LINE_PROJECTION_OFFSET = 15693.1875
  MAP_PROJECTION_ROTATION = 0.0
  MAP_PROJECTION_TYPE = SINUSOIDAL
  MAP_RESOLUTION = 592.713803866667
  MAP_SCALE = 0.1
  MAXIMUM_LATITUDE = 26.5177
  MINIMUM_LATITUDE = 18.7444
  POSITIVE_LONGITUDE_DIRECTION = EAST
  REFERENCE_LATITUDE = "N/A"
  REFERENCE_LONGITUDE = "N/A"
  SAMPLE_FIRST_PIXEL = 1
  SAMPLE_LAST_PIXEL = 897
  SAMPLE_PROJECTION_OFFSET = 228.1875
  SECOND_STANDARD_PARALLEL = "N/A"
  WESTERNMOST_LONGITUDE = 2.65202
END_OBJECT = IMAGE_MAP_PROJECTION
/* The JPEG2000 image data file associated with this label. */
OBJECT = COMPRESSED_FILE
  FILE_NAME = "H9456_0000_IR3.JP2"
  RECORD_TYPE = UNDEFINED
  FILE_RECORDS = UNK
  ENCODING_TYPE = "JP2"
  INTERCHANGE_FORMAT = BINARY
  UNCOMPRESSED_FILE_NAME = "H9456_0000_IR3.IMG"
  REQUIRED_STORAGE_BYTES = "4113642"
  ^DESCRIPTION = "JP2INFO.TXT"
END_OBJECT = COMPRESSED_FILE
END
