PDS_VERSION_ID = PDS3
/* FILE DATA ELEMENTS */
RECORD_TYPE = STREAM
/* POINTERS TO DATA OBJECTS */
^COMPRESSED_FILE = "H9459_0000_ND3.JP2"
/* IDENTIFICATION DATA ELEMENTS */
DATA_SET_ID = "MEX-M-HRSC-5-REFDR-MAPPROJECTED-V3.0"
DATA_SET_NAME = "MARS EXPRESS HRSC MAP PROJECTED REFDR V3.0"
DETECTOR_ID = MEX_HRSC_NADIR
EVENT_TYPE = "MARS-REGIONAL-MAPPING-Im-Fl"
INSTRUMENT_HOST_ID = MEX
INSTRUMENT_HOST_NAME = "MARS EXPRESS"
INSTRUMENT_ID = HRSC
INSTRUMENT_NAME = "HIGH RESOLUTION STEREO CAMERA"
MISSION_NAME = "MARS EXPRESS"
MISSION_PHASE_NAME = ME_Phase_23
PROCESSING_LEVEL_ID = 3
PRODUCT_CREATION_TIME = 2016-10-26T17:49:15.000Z
PRODUCT_ID = "H9459_0000_ND3.JP2"
RELEASE_ID = 0097
REVISION_ID = 0000
/* QUALITY DATA ELEMENTS */
DATA_QUALITY_ID = 1
DATA_QUALITY_DESC = "Data calculated based on original SPICE kernels"
/* TIME DATA ELEMENTS */
SPACECRAFT_CLOCK_START_COUNT = "1/0254869816.08248"
SPACECRAFT_CLOCK_STOP_COUNT = "1/0254870108.38947"
START_TIME = 2011-05-30T21:10:53.602Z
STOP_TIME = 2011-05-30T21:14:18.590Z
/* ORBITAL DATA ELEMENTS */
ASCENDING_NODE_LONGITUDE = 36.64
MAXIMUM_RESOLUTION = 15.4
FOOTPRINT_POINT_LATITUDE = (22.6362,22.6369,22.6368,22.6361, 22.3912,22.1476,21.9041,21.6608,21.4176 ,21.1746,20.9319,20.6892,20.4468, 20.2046,19.9626,19.7207,19.4791,19.2377 ,18.9965,18.5145,18.2676,17.8973, 17.6508,17.4045,17.1584,16.7821,16.5301 ,16.2785,16.0272,15.776,15.5189,15.1335 ,14.8769,14.6206,14.229,13.967,13.7055, 13.4442,13.1777,12.9107,12.6442,12.3779 ,12.1061,11.6985,11.4272,11.0133, 10.7367,10.4606,10.1848,9.90384,9.90023 ,9.89467,9.89147,10.0254,10.3014, 10.5777,10.8545,11.1317,11.4079,11.6796 ,12.0878,12.36,12.6267,12.8937,13.161, 13.4281,13.6897,13.9517,14.214,14.6064, 14.863,15.12,15.3772,15.6347,16.015, 16.2667,16.5188,16.771,17.1479,17.3943, 17.641,17.8879,18.2587,18.5061,18.9886, 19.2302,19.472,19.714,19.9561,20.1985, 20.4411,20.6838,20.9269,21.17,21.4133, 21.6568,21.9003,22.1441,22.3881, 22.6362)
FOOTPRINT_POINT_LONGITUDE = (57.9024,57.572,57.0836,56.8106,56.5851 ,56.584,56.5825,56.5815,56.5801,56.5787 ,56.5769,56.5755,56.5731,56.5707, 56.5689,56.566,56.5629,56.56,56.5567, 56.5525,56.5501,56.5453,56.5422,56.5386 ,56.5349,56.5307,56.5272,56.5225,56.517 ,56.5131,56.5094,56.5024,56.4974, 56.4927,56.4848,56.4796,56.4742,56.4688 ,56.4631,56.4573,56.4505,56.4452,56.439 ,56.4299,56.4239,56.4127,56.4056, 56.3984,56.3925,56.5877,56.9773,57.502, 57.773,58.1029,58.1008,58.0992,58.0973, 58.0957,58.099,58.0961,58.0934,58.0921, 58.0916,58.0911,58.0884,58.0872,58.086, 58.0848,58.0836,58.0821,58.0809,58.0798 ,58.0789,58.0776,58.076,58.0748,58.0736 ,58.0726,58.0713,58.0703,58.0695, 58.0684,58.067,58.0677,58.0639,58.0637, 58.063,58.0626,58.061,58.06,58.0588, 58.0574,58.0593,58.0589,58.0584,58.0564 ,58.0518,58.0511,58.0505,57.9024)
ORBIT_NUMBER = 9459
ORBITAL_ECCENTRICITY = 0.575
ORBITAL_INCLINATION = 86.88
ORBITAL_SEMIMAJOR_AXIS = 8830.71
PERIAPSIS_ALTITUDE = 360.61
PERIAPSIS_ARGUMENT_ANGLE = 145.23
PERIAPSIS_TIME = 2011-05-30T21:07:45.000Z
SPACECRAFT_ORIENTATION = (0.0,-1.0,0.0)
^MEX_ORIENTATION_DESC = "MEX_ORIENTATION_DESC.TXT"
SPACECRAFT_POINTING_MODE = NADIR
^MEX_POINTING_DESC = "MEX_POINTING_DESC.TXT"
RIGHT_ASCENSION = -1e+32
DECLINATION = -1e+32
OFFSET_ANGLE = -1e+32
SPACECRAFT_SOLAR_DISTANCE = 2.13437e+08
TARGET_NAME = MARS
/* CAMERA DATA ELEMENTS */
DETECTOR_TEMPERATURE = 18.9822
FOCAL_PLANE_TEMPERATURE = 9.195
INST_CMPRS_NAME = "DISCRETE COSINE TRANSFORMATION (DCT)"
INST_CMPRS_RATIO = 6.6066
INST_CMPRS_QUALITY = 0
INST_CMPRS_QUANTZ_TBL_ID = 0
INSTRUMENT_TEMPERATURE = 11.4379
LENS_TEMPERATURE = 9.3989
MACROPIXEL_SIZE = 1
MISSING_FRAMES = 0
PIXEL_SUBSAMPLING_FLAG = N
SIGNAL_CHAIN_ID = 0
/* RADIOMETRIC DATA ELEMENTS */
BANDWIDTH = 177.0
CENTER_FILTER_WAVELENGTH = 677.5
RADIANCE_OFFSET = 3.35476
RADIANCE_SCALING_FACTOR = 0.0247641
REFLECTANCE_SCALING_FACTOR = 0.000599301
MEX:REFLECTANCE_OFFSET = 0.0811866
/* IMAGE OBJECT DEFINITIONS */
OBJECT = IMAGE
  INTERCHANGE_FORMAT = BINARY
  LINES = 60455
  LINE_SAMPLES = 8440
  SAMPLE_TYPE = UNSIGNED_INTEGER
  SAMPLE_BITS = 8
  BANDS = 1
  BAND_STORAGE_TYPE = BAND_SEQUENTIAL
  MAXIMUM = 255
  MEAN = 124.61
  MINIMUM = 1
  STANDARD_DEVIATION = 28.0595
END_OBJECT = IMAGE
/* MAP OBJECT DEFINITIONS */
OBJECT = IMAGE_MAP_PROJECTION
  ^DATA_SET_MAP_PROJECTION_CATALOG= "DSMAP.CAT"
  A_AXIS_RADIUS = 3396.0
  B_AXIS_RADIUS = 3396.0
  C_AXIS_RADIUS = 3396.0
  CENTER_LATITUDE = 0.0
  CENTER_LONGITUDE = 57.0
  COORDINATE_SYSTEM_NAME = PLANETOGRAPHIC
  COORDINATE_SYSTEM_TYPE = "BODY-FIXED ROTATING"
  EASTERNMOST_LONGITUDE = 58.1029
  FIRST_STANDARD_PARALLEL = "N/A"
  LINE_FIRST_PIXEL = 1
  LINE_LAST_PIXEL = 60455
  LINE_PROJECTION_OFFSET = 107338.0
  MAP_PROJECTION_ROTATION = 0.0
  MAP_PROJECTION_TYPE = SINUSOIDAL
  MAP_RESOLUTION = 4741.71043093333
  MAP_SCALE = 0.0125
  MAXIMUM_LATITUDE = 22.6369
  MINIMUM_LATITUDE = 9.89147
  POSITIVE_LONGITUDE_DIRECTION = EAST
  REFERENCE_LATITUDE = "N/A"
  REFERENCE_LONGITUDE = "N/A"
  SAMPLE_FIRST_PIXEL = 1
  SAMPLE_LAST_PIXEL = 8440
  SAMPLE_PROJECTION_OFFSET = 3074.0
  SECOND_STANDARD_PARALLEL = "N/A"
  WESTERNMOST_LONGITUDE = 56.3925
END_OBJECT = IMAGE_MAP_PROJECTION
/* The JPEG2000 image data file associated with this label. */
OBJECT = COMPRESSED_FILE
  FILE_NAME = "H9459_0000_ND3.JP2"
  RECORD_TYPE = UNDEFINED
  FILE_RECORDS = UNK
  ENCODING_TYPE = "JP2"
  INTERCHANGE_FORMAT = BINARY
  UNCOMPRESSED_FILE_NAME = "H9459_0000_ND3.IMG"
  REQUIRED_STORAGE_BYTES = "510273960"
  ^DESCRIPTION = "JP2INFO.TXT"
END_OBJECT = COMPRESSED_FILE
END
