PDS_VERSION_ID = PDS3
/* FILE DATA ELEMENTS */
RECORD_TYPE = STREAM
/* POINTERS TO DATA OBJECTS */
^COMPRESSED_FILE = "H9464_0000_ND3.JP2"
/* IDENTIFICATION DATA ELEMENTS */
DATA_SET_ID = "MEX-M-HRSC-5-REFDR-MAPPROJECTED-V3.0"
DATA_SET_NAME = "MARS EXPRESS HRSC MAP PROJECTED REFDR V3.0"
DETECTOR_ID = MEX_HRSC_NADIR
EVENT_TYPE = "MARS-REGIONAL-MAPPING-Vo-Te"
INSTRUMENT_HOST_ID = MEX
INSTRUMENT_HOST_NAME = "MARS EXPRESS"
INSTRUMENT_ID = HRSC
INSTRUMENT_NAME = "HIGH RESOLUTION STEREO CAMERA"
MISSION_NAME = "MARS EXPRESS"
MISSION_PHASE_NAME = ME_Phase_23
PROCESSING_LEVEL_ID = 3
PRODUCT_CREATION_TIME = 2016-10-26T17:49:15.000Z
PRODUCT_ID = "H9464_0000_ND3.JP2"
RELEASE_ID = 0097
REVISION_ID = 0000
/* QUALITY DATA ELEMENTS */
DATA_QUALITY_ID = 1
DATA_QUALITY_DESC = "Data calculated based on original SPICE kernels"
/* TIME DATA ELEMENTS */
SPACECRAFT_CLOCK_START_COUNT = "1/0254995332.08262"
SPACECRAFT_CLOCK_STOP_COUNT = "1/0254995588.33234"
START_TIME = 2011-06-01T08:02:52.606Z
STOP_TIME = 2011-06-01T08:05:56.602Z
/* ORBITAL DATA ELEMENTS */
ASCENDING_NODE_LONGITUDE = 36.55
MAXIMUM_RESOLUTION = 14.4
FOOTPRINT_POINT_LATITUDE = (47.3409,47.3258,47.3061,47.1632, 46.9067,46.6499,46.393,46.1359,45.8786, 45.6211,45.3635,45.1057,44.8478,44.5897 ,44.3314,44.073,43.8145,43.5558,43.297, 43.0381,42.779,42.5198,42.2605,42.0011, 41.7415,41.4958,41.0605,40.6249,40.1891 ,39.7531,39.3168,38.8804,38.6621, 38.4438,38.2255,38.0071,37.7887,37.5702 ,37.3517,37.1332,36.9147,36.6962, 36.4776,36.259,36.0404,35.8218,35.6032, 35.4923,35.498,35.5045,35.6174,35.8364, 36.0555,36.2745,36.4936,36.7126,36.9316 ,37.1506,37.3696,37.5886,37.8075, 38.0264,38.2453,38.4642,38.683,38.9018, 39.1206,39.3393,39.558,39.7766,39.9952, 40.2138,40.4323,40.6507,40.8691,41.0874 ,41.5239,41.7685,42.0288,42.289,42.5491 ,42.8091,43.0689,43.3287,43.5883, 43.8478,44.1072,44.3665,44.6256,44.8846 ,45.1435,45.4022,45.6608,45.9192, 46.1774,46.4355,46.6935,46.9512,47.2088 ,47.3409)
FOOTPRINT_POINT_LONGITUDE = (265.713,265.111,264.467,264.042, 264.066,264.09,264.113,264.135,264.157, 264.179,264.2,264.221,264.242,264.262, 264.281,264.301,264.32,264.338,264.356, 264.374,264.392,264.409,264.426,264.442 ,264.459,264.473,264.499,264.524, 264.547,264.57,264.592,264.613,264.623, 264.633,264.643,264.653,264.662,264.671 ,264.681,264.689,264.698,264.707, 264.715,264.723,264.731,264.739,264.746 ,265.164,265.5,265.986,266.294,266.291, 266.289,266.286,266.283,266.279,266.276 ,266.273,266.27,266.267,266.264,266.26, 266.257,266.253,266.25,266.246,266.243, 266.239,266.235,266.232,266.228,266.224 ,266.22,266.216,266.212,266.208,266.199 ,266.195,266.189,266.184,266.179, 266.173,266.168,266.162,266.157,266.151 ,266.145,266.139,266.133,266.127, 266.121,266.115,266.108,266.101,266.094 ,266.087,266.08,266.073,266.066, 265.713)
ORBIT_NUMBER = 9464
ORBITAL_ECCENTRICITY = 0.575
ORBITAL_INCLINATION = 86.86
ORBITAL_SEMIMAJOR_AXIS = 8833.12
PERIAPSIS_ALTITUDE = 361.15
PERIAPSIS_ARGUMENT_ANGLE = 144.34
PERIAPSIS_TIME = 2011-06-01T08:05:54.000Z
SPACECRAFT_ORIENTATION = (0.0,-1.0,0.0)
^MEX_ORIENTATION_DESC = "MEX_ORIENTATION_DESC.TXT"
SPACECRAFT_POINTING_MODE = ACROSSTRACK
^MEX_POINTING_DESC = "MEX_POINTING_DESC.TXT"
RIGHT_ASCENSION = -1e+32
DECLINATION = -1e+32
OFFSET_ANGLE = -0.2
SPACECRAFT_SOLAR_DISTANCE = 2.1366e+08
TARGET_NAME = MARS
/* CAMERA DATA ELEMENTS */
DETECTOR_TEMPERATURE = 18.3705
FOCAL_PLANE_TEMPERATURE = 9.195
INST_CMPRS_NAME = "DISCRETE COSINE TRANSFORMATION (DCT)"
INST_CMPRS_RATIO = 6.75546
INST_CMPRS_QUALITY = 0
INST_CMPRS_QUANTZ_TBL_ID = 0
INSTRUMENT_TEMPERATURE = 11.4379
LENS_TEMPERATURE = 9.6028
MACROPIXEL_SIZE = 1
MISSING_FRAMES = 0
PIXEL_SUBSAMPLING_FLAG = N
SIGNAL_CHAIN_ID = 0
/* RADIOMETRIC DATA ELEMENTS */
BANDWIDTH = 177.0
CENTER_FILTER_WAVELENGTH = 677.5
RADIANCE_OFFSET = 2.18762
RADIANCE_SCALING_FACTOR = 0.0138215
REFLECTANCE_SCALING_FACTOR = 0.000335185
MEX:REFLECTANCE_OFFSET = 0.0530517
/* IMAGE OBJECT DEFINITIONS */
OBJECT = IMAGE
  INTERCHANGE_FORMAT = BINARY
  LINES = 56252
  LINE_SAMPLES = 8268
  SAMPLE_TYPE = UNSIGNED_INTEGER
  SAMPLE_BITS = 8
  BANDS = 1
  BAND_STORAGE_TYPE = BAND_SEQUENTIAL
  MAXIMUM = 255
  MEAN = 80.4351
  MINIMUM = 1
  STANDARD_DEVIATION = 30.3583
END_OBJECT = IMAGE
/* MAP OBJECT DEFINITIONS */
OBJECT = IMAGE_MAP_PROJECTION
  ^DATA_SET_MAP_PROJECTION_CATALOG= "DSMAP.CAT"
  A_AXIS_RADIUS = 3396.0
  B_AXIS_RADIUS = 3396.0
  C_AXIS_RADIUS = 3396.0
  CENTER_LATITUDE = 0.0
  CENTER_LONGITUDE = 265.0
  COORDINATE_SYSTEM_NAME = PLANETOGRAPHIC
  COORDINATE_SYSTEM_TYPE = "BODY-FIXED ROTATING"
  EASTERNMOST_LONGITUDE = 266.294
  FIRST_STANDARD_PARALLEL = "N/A"
  LINE_FIRST_PIXEL = 1
  LINE_LAST_PIXEL = 56252
  LINE_PROJECTION_OFFSET = 224509.0
  MAP_PROJECTION_ROTATION = 0.0
  MAP_PROJECTION_TYPE = SINUSOIDAL
  MAP_RESOLUTION = 4741.71043093333
  MAP_SCALE = 0.0125
  MAXIMUM_LATITUDE = 47.3409
  MINIMUM_LATITUDE = 35.4923
  POSITIVE_LONGITUDE_DIRECTION = EAST
  REFERENCE_LATITUDE = "N/A"
  REFERENCE_LONGITUDE = "N/A"
  SAMPLE_FIRST_PIXEL = 1
  SAMPLE_LAST_PIXEL = 8268
  SAMPLE_PROJECTION_OFFSET = 3184.0
  SECOND_STANDARD_PARALLEL = "N/A"
  WESTERNMOST_LONGITUDE = 264.042
END_OBJECT = IMAGE_MAP_PROJECTION
/* The JPEG2000 image data file associated with this label. */
OBJECT = COMPRESSED_FILE
  FILE_NAME = "H9464_0000_ND3.JP2"
  RECORD_TYPE = UNDEFINED
  FILE_RECORDS = UNK
  ENCODING_TYPE = "JP2"
  INTERCHANGE_FORMAT = BINARY
  UNCOMPRESSED_FILE_NAME = "H9464_0000_ND3.IMG"
  REQUIRED_STORAGE_BYTES = "465124608"
  ^DESCRIPTION = "JP2INFO.TXT"
END_OBJECT = COMPRESSED_FILE
END
