PDS_VERSION_ID = PDS3
/* FILE DATA ELEMENTS */
RECORD_TYPE = STREAM
/* POINTERS TO DATA OBJECTS */
^COMPRESSED_FILE = "H9468_0000_BL3.JP2"
/* IDENTIFICATION DATA ELEMENTS */
DATA_SET_ID = "MEX-M-HRSC-5-REFDR-MAPPROJECTED-V3.0"
DATA_SET_NAME = "MARS EXPRESS HRSC MAP PROJECTED REFDR V3.0"
DETECTOR_ID = MEX_HRSC_BLUE
EVENT_TYPE = "MARS-REGIONAL-MAPPING-Te-Mw"
INSTRUMENT_HOST_ID = MEX
INSTRUMENT_HOST_NAME = "MARS EXPRESS"
INSTRUMENT_ID = HRSC
INSTRUMENT_NAME = "HIGH RESOLUTION STEREO CAMERA"
MISSION_NAME = "MARS EXPRESS"
MISSION_PHASE_NAME = ME_Phase_23
PROCESSING_LEVEL_ID = 3
PRODUCT_CREATION_TIME = 2016-10-26T17:49:15.000Z
PRODUCT_ID = "H9468_0000_BL3.JP2"
RELEASE_ID = 0097
REVISION_ID = 0000
/* QUALITY DATA ELEMENTS */
DATA_QUALITY_ID = 1
DATA_QUALITY_DESC = "Data calculated based on original SPICE kernels"
/* TIME DATA ELEMENTS */
SPACECRAFT_CLOCK_START_COUNT = "1/0255096209.07300"
SPACECRAFT_CLOCK_STOP_COUNT = "1/0255096379.13222"
START_TIME = 2011-06-02T12:04:10.771Z
STOP_TIME = 2011-06-02T12:05:51.709Z
/* ORBITAL DATA ELEMENTS */
ASCENDING_NODE_LONGITUDE = 36.47
MAXIMUM_RESOLUTION = 58.5
FOOTPRINT_POINT_LATITUDE = (36.855,36.8523,36.8493,36.8457,36.8418 ,36.8387,36.7814,36.6517,36.4571, 36.3274,36.1978,36.0681,35.8735,35.7439 ,35.6142,35.4845,35.3549,35.2252, 35.0956,34.966,34.7716,34.642,34.5124, 34.3828,34.2532,34.1237,33.9294,33.7999 ,33.6704,33.541,33.4115,33.282,33.0876, 32.958,32.8286,32.699,32.5696,32.3755, 32.2463,32.0523,31.9232,31.794,31.6649, 31.4712,31.3419,31.2129,31.0193,30.8902 ,30.7602,30.5671,30.4384,30.3496, 30.3519,30.354,30.3559,30.357,30.3574, 30.4234,30.5524,30.6818,30.8112,30.9401 ,31.0698,31.1993,31.3932,31.5227, 31.7168,31.9108,32.1699,32.3642,32.5586 ,32.7528,32.9473,33.1419,33.2718, 33.4015,33.5317,33.6615,33.7915,33.9863 ,34.1809,34.3108,34.5056,34.6354, 34.7653,34.8952,35.0251,35.155,35.3498, 35.4798,35.6097,35.7397,35.8697,35.9996 ,36.1946,36.3246,36.4546,36.5846, 36.7796,36.855)
FOOTPRINT_POINT_LONGITUDE = (216.512,216.282,216.051,215.819, 215.586,215.424,215.23,215.235,215.243, 215.249,215.254,215.259,215.267,215.272 ,215.276,215.281,215.286,215.291, 215.296,215.3,215.307,215.312,215.316, 215.32,215.325,215.329,215.335,215.339, 215.343,215.347,215.351,215.355,215.362 ,215.366,215.37,215.375,215.378,215.384 ,215.387,215.393,215.396,215.399, 215.402,215.406,215.41,215.413,215.417, 215.42,215.426,215.429,215.431,215.532, 215.775,216.043,216.338,216.616,216.837 ,216.937,216.935,216.934,216.932,216.93 ,216.928,216.926,216.923,216.922, 216.919,216.916,216.912,216.909,216.906 ,216.903,216.899,216.896,216.894, 216.892,216.89,216.888,216.886,216.883, 216.879,216.877,216.874,216.872,216.869 ,216.867,216.865,216.862,216.859, 216.856,216.854,216.851,216.849,216.846 ,216.843,216.84,216.838,216.835,216.831 ,216.512)
ORBIT_NUMBER = 9468
ORBITAL_ECCENTRICITY = 0.575
ORBITAL_INCLINATION = 86.88
ORBITAL_SEMIMAJOR_AXIS = 8823.94
PERIAPSIS_ALTITUDE = 361.49
PERIAPSIS_ARGUMENT_ANGLE = 143.63
PERIAPSIS_TIME = 2011-06-02T12:04:13.000Z
SPACECRAFT_ORIENTATION = (0.0,-1.0,0.0)
^MEX_ORIENTATION_DESC = "MEX_ORIENTATION_DESC.TXT"
SPACECRAFT_POINTING_MODE = ACROSSTRACK
^MEX_POINTING_DESC = "MEX_POINTING_DESC.TXT"
RIGHT_ASCENSION = -1e+32
DECLINATION = -1e+32
OFFSET_ANGLE = -0.5
SPACECRAFT_SOLAR_DISTANCE = 2.1384e+08
TARGET_NAME = MARS
/* CAMERA DATA ELEMENTS */
DETECTOR_TEMPERATURE = 16.7393
FOCAL_PLANE_TEMPERATURE = 8.5833
INST_CMPRS_NAME = "DISCRETE COSINE TRANSFORMATION (DCT)"
INST_CMPRS_RATIO = 5.69581
INST_CMPRS_QUALITY = 0
INST_CMPRS_QUANTZ_TBL_ID = 0
INSTRUMENT_TEMPERATURE = 11.234
LENS_TEMPERATURE = 8.7872
MACROPIXEL_SIZE = 4
MISSING_FRAMES = 0
PIXEL_SUBSAMPLING_FLAG = N
SIGNAL_CHAIN_ID = 2
/* RADIOMETRIC DATA ELEMENTS */
BANDWIDTH = 76.0
CENTER_FILTER_WAVELENGTH = 444.0
RADIANCE_OFFSET = 0.437998
RADIANCE_SCALING_FACTOR = 0.00213404
REFLECTANCE_SCALING_FACTOR = 0.000100262
MEX:REFLECTANCE_OFFSET = 0.0205782
/* IMAGE OBJECT DEFINITIONS */
OBJECT = IMAGE
  INTERCHANGE_FORMAT = BINARY
  LINES = 7752
  LINE_SAMPLES = 1743
  SAMPLE_TYPE = UNSIGNED_INTEGER
  SAMPLE_BITS = 8
  BANDS = 1
  BAND_STORAGE_TYPE = BAND_SEQUENTIAL
  MAXIMUM = 255
  MEAN = 104.749
  MINIMUM = 1
  STANDARD_DEVIATION = 28.6269
END_OBJECT = IMAGE
/* MAP OBJECT DEFINITIONS */
OBJECT = IMAGE_MAP_PROJECTION
  ^DATA_SET_MAP_PROJECTION_CATALOG= "DSMAP.CAT"
  A_AXIS_RADIUS = 3396.0
  B_AXIS_RADIUS = 3396.0
  C_AXIS_RADIUS = 3396.0
  CENTER_LATITUDE = 0.0
  CENTER_LONGITUDE = 216.0
  COORDINATE_SYSTEM_NAME = PLANETOGRAPHIC
  COORDINATE_SYSTEM_TYPE = "BODY-FIXED ROTATING"
  EASTERNMOST_LONGITUDE = 216.937
  FIRST_STANDARD_PARALLEL = "N/A"
  LINE_FIRST_PIXEL = 1
  LINE_LAST_PIXEL = 7752
  LINE_PROJECTION_OFFSET = 43715.625
  MAP_PROJECTION_ROTATION = 0.0
  MAP_PROJECTION_TYPE = SINUSOIDAL
  MAP_RESOLUTION = 1185.42760773333
  MAP_SCALE = 0.05
  MAXIMUM_LATITUDE = 36.855
  MINIMUM_LATITUDE = 30.3496
  POSITIVE_LONGITUDE_DIRECTION = EAST
  REFERENCE_LATITUDE = "N/A"
  REFERENCE_LONGITUDE = "N/A"
  SAMPLE_FIRST_PIXEL = 1
  SAMPLE_LAST_PIXEL = 1743
  SAMPLE_PROJECTION_OFFSET = 780.125
  SECOND_STANDARD_PARALLEL = "N/A"
  WESTERNMOST_LONGITUDE = 215.23
END_OBJECT = IMAGE_MAP_PROJECTION
/* The JPEG2000 image data file associated with this label. */
OBJECT = COMPRESSED_FILE
  FILE_NAME = "H9468_0000_BL3.JP2"
  RECORD_TYPE = UNDEFINED
  FILE_RECORDS = UNK
  ENCODING_TYPE = "JP2"
  INTERCHANGE_FORMAT = BINARY
  UNCOMPRESSED_FILE_NAME = "H9468_0000_BL3.IMG"
  REQUIRED_STORAGE_BYTES = "13530909"
  ^DESCRIPTION = "JP2INFO.TXT"
END_OBJECT = COMPRESSED_FILE
END
