PDS_VERSION_ID = PDS3
/* FILE DATA ELEMENTS */
RECORD_TYPE = STREAM
/* POINTERS TO DATA OBJECTS */
^COMPRESSED_FILE = "H9468_0000_GR3.JP2"
/* IDENTIFICATION DATA ELEMENTS */
DATA_SET_ID = "MEX-M-HRSC-5-REFDR-MAPPROJECTED-V3.0"
DATA_SET_NAME = "MARS EXPRESS HRSC MAP PROJECTED REFDR V3.0"
DETECTOR_ID = MEX_HRSC_GREEN
EVENT_TYPE = "MARS-REGIONAL-MAPPING-Te-Mw"
INSTRUMENT_HOST_ID = MEX
INSTRUMENT_HOST_NAME = "MARS EXPRESS"
INSTRUMENT_ID = HRSC
INSTRUMENT_NAME = "HIGH RESOLUTION STEREO CAMERA"
MISSION_NAME = "MARS EXPRESS"
MISSION_PHASE_NAME = ME_Phase_23
PROCESSING_LEVEL_ID = 3
PRODUCT_CREATION_TIME = 2016-10-26T17:49:15.000Z
PRODUCT_ID = "H9468_0000_GR3.JP2"
RELEASE_ID = 0097
REVISION_ID = 0000
/* QUALITY DATA ELEMENTS */
DATA_QUALITY_ID = 1
DATA_QUALITY_DESC = "Data calculated based on original SPICE kernels"
/* TIME DATA ELEMENTS */
SPACECRAFT_CLOCK_START_COUNT = "1/0255096209.07300"
SPACECRAFT_CLOCK_STOP_COUNT = "1/0255096379.13222"
START_TIME = 2011-06-02T12:03:59.660Z
STOP_TIME = 2011-06-02T12:05:40.493Z
/* ORBITAL DATA ELEMENTS */
ASCENDING_NODE_LONGITUDE = 36.47
MAXIMUM_RESOLUTION = 58.4
FOOTPRINT_POINT_LATITUDE = (36.877,36.8727,36.8678,36.8624,36.8566 ,36.8502,36.8318,36.7022,36.5726,36.443 ,36.3134,36.1838,35.9893,35.8596,35.73, 35.6003,35.4706,35.3409,35.2113,35.0815 ,34.8222,34.6276,34.4979,34.3033, 34.1736,34.0439,33.9142,33.7845,33.6547 ,33.4601,33.3304,33.2009,33.0713, 32.9417,32.8121,32.6178,32.4813,32.2868 ,32.0923,31.9626,31.768,31.6383,31.5086 ,31.3142,31.1846,30.9901,30.8607, 30.6666,30.5371,30.3426,30.3341,30.3391 ,30.3425,30.3455,30.3485,30.351,30.3536 ,30.4208,30.5506,30.68,30.8101,31.0051, 31.2642,31.459,31.5888,31.7188,31.9138, 32.0438,32.2386,32.3685,32.4984,32.6354 ,32.8304,33.0252,33.155,33.3499,33.5444 ,33.6743,33.8692,34.0642,34.1943, 34.3241,34.4541,34.5841,34.7141,34.844, 34.974,35.104,35.299,35.429,35.6239, 35.8188,35.9488,36.0787,36.2736,36.4035 ,36.5984,36.7283,36.8582,36.877)
FOOTPRINT_POINT_LONGITUDE = (216.625,216.396,216.166,215.934, 215.701,215.467,215.226,215.231,215.237 ,215.242,215.248,215.253,215.261, 215.266,215.271,215.276,215.281,215.286 ,215.291,215.295,215.305,215.312, 215.316,215.323,215.327,215.332,215.336 ,215.34,215.344,215.35,215.354,215.359, 215.363,215.367,215.372,215.378,215.382 ,215.387,215.393,215.396,215.401, 215.404,215.407,215.412,215.415,215.419 ,215.423,215.429,215.432,215.435, 215.591,215.832,216.015,216.197,216.419 ,216.586,216.792,216.933,216.931,216.93 ,216.928,216.925,216.922,216.919, 216.917,216.915,216.912,216.91,216.908, 216.906,216.904,216.902,216.899,216.896 ,216.894,216.891,216.888,216.886, 216.883,216.88,216.877,216.875,216.873, 216.871,216.869,216.866,216.864,216.862 ,216.858,216.856,216.853,216.849, 216.847,216.844,216.841,216.838,216.835 ,216.832,216.83,216.625)
ORBIT_NUMBER = 9468
ORBITAL_ECCENTRICITY = 0.575
ORBITAL_INCLINATION = 86.88
ORBITAL_SEMIMAJOR_AXIS = 8823.94
PERIAPSIS_ALTITUDE = 361.49
PERIAPSIS_ARGUMENT_ANGLE = 143.63
PERIAPSIS_TIME = 2011-06-02T12:04:13.000Z
SPACECRAFT_ORIENTATION = (0.0,-1.0,0.0)
^MEX_ORIENTATION_DESC = "MEX_ORIENTATION_DESC.TXT"
SPACECRAFT_POINTING_MODE = ACROSSTRACK
^MEX_POINTING_DESC = "MEX_POINTING_DESC.TXT"
RIGHT_ASCENSION = -1e+32
DECLINATION = -1e+32
OFFSET_ANGLE = -0.5
SPACECRAFT_SOLAR_DISTANCE = 2.1384e+08
TARGET_NAME = MARS
/* CAMERA DATA ELEMENTS */
DETECTOR_TEMPERATURE = 16.7393
FOCAL_PLANE_TEMPERATURE = 8.5833
INST_CMPRS_NAME = "DISCRETE COSINE TRANSFORMATION (DCT)"
INST_CMPRS_RATIO = 6.89865
INST_CMPRS_QUALITY = 0
INST_CMPRS_QUANTZ_TBL_ID = 0
INSTRUMENT_TEMPERATURE = 11.234
LENS_TEMPERATURE = 8.7872
MACROPIXEL_SIZE = 4
MISSING_FRAMES = 1
PIXEL_SUBSAMPLING_FLAG = N
SIGNAL_CHAIN_ID = 2
/* RADIOMETRIC DATA ELEMENTS */
BANDWIDTH = 88.0
CENTER_FILTER_WAVELENGTH = 538.0
RADIANCE_OFFSET = 1.18238
RADIANCE_SCALING_FACTOR = 0.00589617
REFLECTANCE_SCALING_FACTOR = 0.000232134
MEX:REFLECTANCE_OFFSET = 0.0465507
/* IMAGE OBJECT DEFINITIONS */
OBJECT = IMAGE
  INTERCHANGE_FORMAT = BINARY
  LINES = 7752
  LINE_SAMPLES = 1743
  SAMPLE_TYPE = UNSIGNED_INTEGER
  SAMPLE_BITS = 8
  BANDS = 1
  BAND_STORAGE_TYPE = BAND_SEQUENTIAL
  MAXIMUM = 255
  MEAN = 93.2397
  MINIMUM = 1
  STANDARD_DEVIATION = 29.8527
END_OBJECT = IMAGE
/* MAP OBJECT DEFINITIONS */
OBJECT = IMAGE_MAP_PROJECTION
  ^DATA_SET_MAP_PROJECTION_CATALOG= "DSMAP.CAT"
  A_AXIS_RADIUS = 3396.0
  B_AXIS_RADIUS = 3396.0
  C_AXIS_RADIUS = 3396.0
  CENTER_LATITUDE = 0.0
  CENTER_LONGITUDE = 216.0
  COORDINATE_SYSTEM_NAME = PLANETOGRAPHIC
  COORDINATE_SYSTEM_TYPE = "BODY-FIXED ROTATING"
  EASTERNMOST_LONGITUDE = 216.933
  FIRST_STANDARD_PARALLEL = "N/A"
  LINE_FIRST_PIXEL = 1
  LINE_LAST_PIXEL = 7752
  LINE_PROJECTION_OFFSET = 43715.625
  MAP_PROJECTION_ROTATION = 0.0
  MAP_PROJECTION_TYPE = SINUSOIDAL
  MAP_RESOLUTION = 1185.42760773333
  MAP_SCALE = 0.05
  MAXIMUM_LATITUDE = 36.877
  MINIMUM_LATITUDE = 30.3341
  POSITIVE_LONGITUDE_DIRECTION = EAST
  REFERENCE_LATITUDE = "N/A"
  REFERENCE_LONGITUDE = "N/A"
  SAMPLE_FIRST_PIXEL = 1
  SAMPLE_LAST_PIXEL = 1743
  SAMPLE_PROJECTION_OFFSET = 780.125
  SECOND_STANDARD_PARALLEL = "N/A"
  WESTERNMOST_LONGITUDE = 215.226
END_OBJECT = IMAGE_MAP_PROJECTION
/* The JPEG2000 image data file associated with this label. */
OBJECT = COMPRESSED_FILE
  FILE_NAME = "H9468_0000_GR3.JP2"
  RECORD_TYPE = UNDEFINED
  FILE_RECORDS = UNK
  ENCODING_TYPE = "JP2"
  INTERCHANGE_FORMAT = BINARY
  UNCOMPRESSED_FILE_NAME = "H9468_0000_GR3.IMG"
  REQUIRED_STORAGE_BYTES = "13532652"
  ^DESCRIPTION = "JP2INFO.TXT"
END_OBJECT = COMPRESSED_FILE
END
