PDS_VERSION_ID = PDS3
/* FILE DATA ELEMENTS */
RECORD_TYPE = STREAM
/* POINTERS TO DATA OBJECTS */
^COMPRESSED_FILE = "H9472_0000_ND3.JP2"
/* IDENTIFICATION DATA ELEMENTS */
DATA_SET_ID = "MEX-M-HRSC-5-REFDR-MAPPROJECTED-V3.0"
DATA_SET_NAME = "MARS EXPRESS HRSC MAP PROJECTED REFDR V3.0"
DETECTOR_ID = MEX_HRSC_NADIR
EVENT_TYPE = "MARS-REGIONAL-MAPPING-Vo-Te-Pf"
INSTRUMENT_HOST_ID = MEX
INSTRUMENT_HOST_NAME = "MARS EXPRESS"
INSTRUMENT_ID = HRSC
INSTRUMENT_NAME = "HIGH RESOLUTION STEREO CAMERA"
MISSION_NAME = "MARS EXPRESS"
MISSION_PHASE_NAME = ME_Phase_23
PROCESSING_LEVEL_ID = 3
PRODUCT_CREATION_TIME = 2016-10-26T17:49:15.000Z
PRODUCT_ID = "H9472_0000_ND3.JP2"
RELEASE_ID = 0097
REVISION_ID = 0000
/* QUALITY DATA ELEMENTS */
DATA_QUALITY_ID = 1
DATA_QUALITY_DESC = "Data calculated based on original SPICE kernels"
/* TIME DATA ELEMENTS */
SPACECRAFT_CLOCK_START_COUNT = "1/0255196922.09047"
SPACECRAFT_CLOCK_STOP_COUNT = "1/0255197141.41242"
START_TIME = 2011-06-03T16:02:38.243Z
STOP_TIME = 2011-06-03T16:05:07.253Z
/* ORBITAL DATA ELEMENTS */
ASCENDING_NODE_LONGITUDE = 36.39
MAXIMUM_RESOLUTION = 14.6
FOOTPRINT_POINT_LATITUDE = (37.9139,37.9101,37.9058,37.9009, 37.8955,37.8875,37.79,37.6045,37.4191, 37.2336,37.0482,36.8627,36.6773,36.4918 ,36.3063,36.1209,35.9354,35.6572, 35.4717,35.2863,35.1009,34.9154,34.73, 34.5446,34.3592,34.1739,33.9885,33.8032 ,33.6179,33.4326,33.2473,33.0621, 32.8769,32.6917,32.5065,32.1363,31.7662 ,31.3963,31.0265,30.6569,30.2875, 30.0744,29.8541,29.6339,29.4137,29.1937 ,28.9737,28.7538,28.534,28.3143,28.3015 ,28.3041,28.3076,28.3094,28.3117, 28.5318,28.752,28.9722,29.1926,29.4131, 29.6336,29.8542,30.0749,30.2911,30.6612 ,31.124,31.5872,31.7725,31.9579,32.1433 ,32.3288,32.5143,32.6998,32.8853, 33.0709,33.2565,33.4422,33.6278,33.8135 ,33.9992,34.185,34.3707,34.5565,34.7423 ,34.9281,35.1139,35.2998,35.4856, 35.6715,35.8573,36.0432,36.2291,36.415, 36.6939,36.8797,37.0656,37.2515,37.4374 ,37.6233,37.9139)
FOOTPRINT_POINT_LONGITUDE = (167.598,167.351,167.103,166.853, 166.603,166.271,166.062,166.07,166.078, 166.087,166.095,166.103,166.111,166.118 ,166.126,166.133,166.14,166.151,166.158 ,166.164,166.171,166.177,166.184,166.19 ,166.196,166.202,166.208,166.213, 166.219,166.225,166.23,166.235,166.24, 166.245,166.253,166.26,166.269,166.278, 166.286,166.294,166.301,166.305,166.309 ,166.313,166.317,166.321,166.324, 166.327,166.331,166.334,166.622,166.848 ,167.208,167.461,167.852,167.849, 167.846,167.844,167.841,167.838,167.835 ,167.832,167.829,167.827,167.822, 167.815,167.808,167.805,167.803,167.8, 167.797,167.795,167.792,167.789,167.786 ,167.783,167.78,167.777,167.774,167.771 ,167.768,167.765,167.761,167.758, 167.755,167.752,167.748,167.745,167.742 ,167.738,167.735,167.731,167.728, 167.722,167.719,167.715,167.711,167.708 ,167.704,167.598)
ORBIT_NUMBER = 9472
ORBITAL_ECCENTRICITY = 0.575
ORBITAL_INCLINATION = 86.87
ORBITAL_SEMIMAJOR_AXIS = 8818.59
PERIAPSIS_ALTITUDE = 362.8
PERIAPSIS_ARGUMENT_ANGLE = 142.96
PERIAPSIS_TIME = 2011-06-03T16:02:52.000Z
SPACECRAFT_ORIENTATION = (0.0,-1.0,0.0)
^MEX_ORIENTATION_DESC = "MEX_ORIENTATION_DESC.TXT"
SPACECRAFT_POINTING_MODE = ACROSSTRACK
^MEX_POINTING_DESC = "MEX_POINTING_DESC.TXT"
RIGHT_ASCENSION = -1e+32
DECLINATION = -1e+32
OFFSET_ANGLE = -0.45
SPACECRAFT_SOLAR_DISTANCE = 2.14023e+08
TARGET_NAME = MARS
/* CAMERA DATA ELEMENTS */
DETECTOR_TEMPERATURE = 18.5744
FOCAL_PLANE_TEMPERATURE = 9.8067
INST_CMPRS_NAME = "DISCRETE COSINE TRANSFORMATION (DCT)"
INST_CMPRS_RATIO = 6.06229
INST_CMPRS_QUALITY = 0
INST_CMPRS_QUANTZ_TBL_ID = 0
INSTRUMENT_TEMPERATURE = 11.8457
LENS_TEMPERATURE = 10.0106
MACROPIXEL_SIZE = 1
MISSING_FRAMES = 0
PIXEL_SUBSAMPLING_FLAG = N
SIGNAL_CHAIN_ID = 0
/* RADIOMETRIC DATA ELEMENTS */
BANDWIDTH = 177.0
CENTER_FILTER_WAVELENGTH = 677.5
RADIANCE_OFFSET = 2.34966
RADIANCE_SCALING_FACTOR = 0.0227181
REFLECTANCE_SCALING_FACTOR = 0.00055281
MEX:REFLECTANCE_OFFSET = 0.0571752
/* IMAGE OBJECT DEFINITIONS */
OBJECT = IMAGE
  INTERCHANGE_FORMAT = BINARY
  LINES = 45605
  LINE_SAMPLES = 7221
  SAMPLE_TYPE = UNSIGNED_INTEGER
  SAMPLE_BITS = 8
  BANDS = 1
  BAND_STORAGE_TYPE = BAND_SEQUENTIAL
  MAXIMUM = 255
  MEAN = 90.0203
  MINIMUM = 1
  STANDARD_DEVIATION = 35.9377
END_OBJECT = IMAGE
/* MAP OBJECT DEFINITIONS */
OBJECT = IMAGE_MAP_PROJECTION
  ^DATA_SET_MAP_PROJECTION_CATALOG= "DSMAP.CAT"
  A_AXIS_RADIUS = 3396.0
  B_AXIS_RADIUS = 3396.0
  C_AXIS_RADIUS = 3396.0
  CENTER_LATITUDE = 0.0
  CENTER_LONGITUDE = 167.0
  COORDINATE_SYSTEM_NAME = PLANETOGRAPHIC
  COORDINATE_SYSTEM_TYPE = "BODY-FIXED ROTATING"
  EASTERNMOST_LONGITUDE = 167.852
  FIRST_STANDARD_PARALLEL = "N/A"
  LINE_FIRST_PIXEL = 1
  LINE_LAST_PIXEL = 45605
  LINE_PROJECTION_OFFSET = 179782.0
  MAP_PROJECTION_ROTATION = 0.0
  MAP_PROJECTION_TYPE = SINUSOIDAL
  MAP_RESOLUTION = 4741.71043093333
  MAP_SCALE = 0.0125
  MAXIMUM_LATITUDE = 37.9139
  MINIMUM_LATITUDE = 28.3015
  POSITIVE_LONGITUDE_DIRECTION = EAST
  REFERENCE_LATITUDE = "N/A"
  REFERENCE_LONGITUDE = "N/A"
  SAMPLE_FIRST_PIXEL = 1
  SAMPLE_LAST_PIXEL = 7221
  SAMPLE_PROJECTION_OFFSET = 3638.0
  SECOND_STANDARD_PARALLEL = "N/A"
  WESTERNMOST_LONGITUDE = 166.062
END_OBJECT = IMAGE_MAP_PROJECTION
/* The JPEG2000 image data file associated with this label. */
OBJECT = COMPRESSED_FILE
  FILE_NAME = "H9472_0000_ND3.JP2"
  RECORD_TYPE = UNDEFINED
  FILE_RECORDS = UNK
  ENCODING_TYPE = "JP2"
  INTERCHANGE_FORMAT = BINARY
  UNCOMPRESSED_FILE_NAME = "H9472_0000_ND3.IMG"
  REQUIRED_STORAGE_BYTES = "329342589"
  ^DESCRIPTION = "JP2INFO.TXT"
END_OBJECT = COMPRESSED_FILE
END
