PDS_VERSION_ID = PDS3
/* FILE DATA ELEMENTS */
RECORD_TYPE = STREAM
/* POINTERS TO DATA OBJECTS */
^COMPRESSED_FILE = "H9479_0000_S23.JP2"
/* IDENTIFICATION DATA ELEMENTS */
DATA_SET_ID = "MEX-M-HRSC-5-REFDR-MAPPROJECTED-V3.0"
DATA_SET_NAME = "MARS EXPRESS HRSC MAP PROJECTED REFDR V3.0"
DETECTOR_ID = MEX_HRSC_S2
EVENT_TYPE = "MARS-REGIONAL-MAPPING-Vo-Te"
INSTRUMENT_HOST_ID = MEX
INSTRUMENT_HOST_NAME = "MARS EXPRESS"
INSTRUMENT_ID = HRSC
INSTRUMENT_NAME = "HIGH RESOLUTION STEREO CAMERA"
MISSION_NAME = "MARS EXPRESS"
MISSION_PHASE_NAME = ME_Phase_23
PROCESSING_LEVEL_ID = 3
PRODUCT_CREATION_TIME = 2016-10-26T17:49:15.000Z
PRODUCT_ID = "H9479_0000_S23.JP2"
RELEASE_ID = 0097
REVISION_ID = 0000
/* QUALITY DATA ELEMENTS */
DATA_QUALITY_ID = 1
DATA_QUALITY_DESC = "Data calculated based on original SPICE kernels"
/* TIME DATA ELEMENTS */
SPACECRAFT_CLOCK_START_COUNT = "1/0255373418.09043"
SPACECRAFT_CLOCK_STOP_COUNT = "1/0255373643.41607"
START_TIME = 2011-06-05T17:04:57.784Z
STOP_TIME = 2011-06-05T17:07:24.660Z
/* ORBITAL DATA ELEMENTS */
ASCENDING_NODE_LONGITUDE = 36.25
MAXIMUM_RESOLUTION = 36.8
FOOTPRINT_POINT_LATITUDE = (22.7413,22.7338,22.7264,22.7191, 22.7119,22.7046,22.5043,22.1816,22.0176 ,21.8538,21.6903,21.4453,21.2822, 21.1192,20.954,20.7874,20.621,20.4548, 20.2889,20.1232,19.9578,19.7889,19.6198 ,19.451,19.2827,19.114,18.9459,18.6886, 18.5168,18.2605,18.0894,17.9157,17.6543 ,17.3926,17.2183,17.049,16.8743,16.7058 ,16.5334,16.2751,16.0156,15.7594, 15.5035,15.3328,15.1623,14.9922,14.8204 ,14.567,14.2853,14.2942,14.2961,14.3001 ,14.3053,14.3102,14.3154,14.3239, 14.4935,14.7462,14.9148,15.0872,15.2572 ,15.5129,15.7702,15.9426,16.1144,16.285 ,16.4586,16.6315,16.8901,17.1505, 17.4085,17.6725,17.846,18.1012,18.2724, 18.4457,18.6177,18.7891,18.9627,19.1243 ,19.2941,19.4646,19.6348,19.8032, 19.9717,20.1368,20.3827,20.5467,20.7971 ,20.9648,21.1324,21.3797,21.6273, 21.7927,21.9569,22.2032,22.3665,22.527, 22.6874,22.7413)
FOOTPRINT_POINT_LONGITUDE = (172.956,172.699,172.444,172.191,171.94 ,171.69,171.618,171.613,171.611,171.608 ,171.605,171.601,171.598,171.595, 171.592,171.589,171.585,171.582,171.579 ,171.576,171.572,171.569,171.565, 171.561,171.558,171.554,171.55,171.545, 171.541,171.535,171.53,171.526,171.52, 171.514,171.509,171.505,171.5,171.495, 171.491,171.484,171.477,171.47,171.462, 171.457,171.452,171.447,171.442,171.435 ,171.534,171.842,172.024,172.224, 172.518,172.777,173.056,173.326,173.325 ,173.323,173.321,173.322,173.321, 173.319,173.318,173.318,173.317,173.315 ,173.315,173.314,173.313,173.312, 173.309,173.31,173.308,173.305,173.304, 173.305,173.305,173.304,173.304,173.299 ,173.3,173.3,173.3,173.299,173.298, 173.297,173.294,173.292,173.292,173.292 ,173.293,173.294,173.294,173.295, 173.295,173.294,173.294,173.294,173.293 ,172.956)
ORBIT_NUMBER = 9479
ORBITAL_ECCENTRICITY = 0.574
ORBITAL_INCLINATION = 86.87
ORBITAL_SEMIMAJOR_AXIS = 8816.34
PERIAPSIS_ALTITUDE = 363.53
PERIAPSIS_ARGUMENT_ANGLE = 141.75
PERIAPSIS_TIME = 2011-06-05T17:00:16.000Z
SPACECRAFT_ORIENTATION = (0.0,-1.0,0.0)
^MEX_ORIENTATION_DESC = "MEX_ORIENTATION_DESC.TXT"
SPACECRAFT_POINTING_MODE = ACROSSTRACK
^MEX_POINTING_DESC = "MEX_POINTING_DESC.TXT"
RIGHT_ASCENSION = -1e+32
DECLINATION = -1e+32
OFFSET_ANGLE = 0.7
SPACECRAFT_SOLAR_DISTANCE = 2.14345e+08
TARGET_NAME = MARS
/* CAMERA DATA ELEMENTS */
DETECTOR_TEMPERATURE = 18.5744
FOCAL_PLANE_TEMPERATURE = 8.5833
INST_CMPRS_NAME = "DISCRETE COSINE TRANSFORMATION (DCT)"
INST_CMPRS_RATIO = 7.80988
INST_CMPRS_QUALITY = 0
INST_CMPRS_QUANTZ_TBL_ID = 0
INSTRUMENT_TEMPERATURE = 11.234
LENS_TEMPERATURE = 8.7872
MACROPIXEL_SIZE = 2
MISSING_FRAMES = 0
PIXEL_SUBSAMPLING_FLAG = N
SIGNAL_CHAIN_ID = 1
/* RADIOMETRIC DATA ELEMENTS */
BANDWIDTH = 178.0
CENTER_FILTER_WAVELENGTH = 679.0
RADIANCE_OFFSET = 5.2789
RADIANCE_SCALING_FACTOR = 0.019562
REFLECTANCE_SCALING_FACTOR = 0.000475965
MEX:REFLECTANCE_OFFSET = 0.128441
/* IMAGE OBJECT DEFINITIONS */
OBJECT = IMAGE
  INTERCHANGE_FORMAT = BINARY
  LINES = 20118
  LINE_SAMPLES = 4192
  SAMPLE_TYPE = UNSIGNED_INTEGER
  SAMPLE_BITS = 8
  BANDS = 1
  BAND_STORAGE_TYPE = BAND_SEQUENTIAL
  MAXIMUM = 255
  MEAN = 131.929
  MINIMUM = 1
  STANDARD_DEVIATION = 24.9488
END_OBJECT = IMAGE
/* MAP OBJECT DEFINITIONS */
OBJECT = IMAGE_MAP_PROJECTION
  ^DATA_SET_MAP_PROJECTION_CATALOG= "DSMAP.CAT"
  A_AXIS_RADIUS = 3396.0
  B_AXIS_RADIUS = 3396.0
  C_AXIS_RADIUS = 3396.0
  CENTER_LATITUDE = 0.0
  CENTER_LONGITUDE = 172.0
  COORDINATE_SYSTEM_NAME = PLANETOGRAPHIC
  COORDINATE_SYSTEM_TYPE = "BODY-FIXED ROTATING"
  EASTERNMOST_LONGITUDE = 173.326
  FIRST_STANDARD_PARALLEL = "N/A"
  LINE_FIRST_PIXEL = 1
  LINE_LAST_PIXEL = 20118
  LINE_PROJECTION_OFFSET = 53917.25
  MAP_PROJECTION_ROTATION = 0.0
  MAP_PROJECTION_TYPE = SINUSOIDAL
  MAP_RESOLUTION = 2370.85521546667
  MAP_SCALE = 0.025
  MAXIMUM_LATITUDE = 22.7413
  MINIMUM_LATITUDE = 14.2853
  POSITIVE_LONGITUDE_DIRECTION = EAST
  REFERENCE_LATITUDE = "N/A"
  REFERENCE_LONGITUDE = "N/A"
  SAMPLE_FIRST_PIXEL = 1
  SAMPLE_LAST_PIXEL = 4192
  SAMPLE_PROJECTION_OFFSET = 1179.75
  SECOND_STANDARD_PARALLEL = "N/A"
  WESTERNMOST_LONGITUDE = 171.435
END_OBJECT = IMAGE_MAP_PROJECTION
/* The JPEG2000 image data file associated with this label. */
OBJECT = COMPRESSED_FILE
  FILE_NAME = "H9479_0000_S23.JP2"
  RECORD_TYPE = UNDEFINED
  FILE_RECORDS = UNK
  ENCODING_TYPE = "JP2"
  INTERCHANGE_FORMAT = BINARY
  UNCOMPRESSED_FILE_NAME = "H9479_0000_S23.IMG"
  REQUIRED_STORAGE_BYTES = "84359808"
  ^DESCRIPTION = "JP2INFO.TXT"
END_OBJECT = COMPRESSED_FILE
END
