PDS_VERSION_ID = PDS3
/* FILE DATA ELEMENTS */
RECORD_TYPE = STREAM
/* POINTERS TO DATA OBJECTS */
^COMPRESSED_FILE = "H9480_0000_ND3.JP2"
/* IDENTIFICATION DATA ELEMENTS */
DATA_SET_ID = "MEX-M-HRSC-5-REFDR-MAPPROJECTED-V3.0"
DATA_SET_NAME = "MARS EXPRESS HRSC MAP PROJECTED REFDR V3.0"
DETECTOR_ID = MEX_HRSC_NADIR
EVENT_TYPE = "MARS-REGIONAL-MAPPING-Vo-Fl-Eo"
INSTRUMENT_HOST_ID = MEX
INSTRUMENT_HOST_NAME = "MARS EXPRESS"
INSTRUMENT_ID = HRSC
INSTRUMENT_NAME = "HIGH RESOLUTION STEREO CAMERA"
MISSION_NAME = "MARS EXPRESS"
MISSION_PHASE_NAME = ME_Phase_23
PROCESSING_LEVEL_ID = 3
PRODUCT_CREATION_TIME = 2016-10-26T17:49:15.000Z
PRODUCT_ID = "H9480_0000_ND3.JP2"
RELEASE_ID = 0097
REVISION_ID = 0000
/* QUALITY DATA ELEMENTS */
DATA_QUALITY_ID = 1
DATA_QUALITY_DESC = "Data calculated based on original SPICE kernels"
/* TIME DATA ELEMENTS */
SPACECRAFT_CLOCK_START_COUNT = "1/0255398546.09087"
SPACECRAFT_CLOCK_STOP_COUNT = "1/0255398799.23210"
START_TIME = 2011-06-06T00:03:04.129Z
STOP_TIME = 2011-06-06T00:05:52.134Z
/* ORBITAL DATA ELEMENTS */
ASCENDING_NODE_LONGITUDE = 36.24
MAXIMUM_RESOLUTION = 15.6
FOOTPRINT_POINT_LATITUDE = (26.0274,26.0283,26.0288,26.0289, 26.0286,26.0279,25.7243,25.5224,25.3206 ,25.119,24.9174,24.716,24.5147,24.3135, 23.9115,23.51,23.1091,22.7087,22.4028, 22.1976,21.9926,21.7878,21.5831,21.3785 ,21.1742,20.9657,20.7562,20.5469, 20.3379,20.1291,19.9204,19.7097,19.4961 ,19.2826,19.0693,18.8562,18.6433, 18.3186,18.1009,17.8835,17.6662,17.4492 ,17.2284,17.0065,16.7849,16.5635, 16.3424,16.117,15.8911,15.5493,15.5476, 15.5448,15.5417,15.5372,15.6473,15.8733 ,16.0995,16.3252,16.5467,16.7684, 16.9903,17.2125,17.4337,17.6511,17.8686 ,18.0864,18.3044,18.6297,18.8429, 19.0562,19.2698,19.4836,19.8041,20.013, 20.2221,20.4313,20.6408,20.8504,21.1641 ,21.3688,21.5736,21.7786,21.9837,22.189 ,22.3944,22.7008,23.1017,23.5032, 23.9052,24.1064,24.3077,24.5092,24.7107 ,24.9124,25.1143,25.3162,25.5183, 25.7205,25.9228,26.0274)
FOOTPRINT_POINT_LONGITUDE = (70.5579,70.3157,70.075,69.836,69.5986, 69.3623,69.2498,69.2486,69.2473,69.2459 ,69.2444,69.2429,69.2413,69.2396,69.236 ,69.2321,69.2279,69.2233,69.2195, 69.2171,69.2144,69.2116,69.2087,69.2062 ,69.2029,69.1998,69.1968,69.1939, 69.1902,69.1863,69.183,69.1802,69.1765, 69.1726,69.1687,69.1648,69.1608,69.1545 ,69.1502,69.1458,69.1414,69.1369, 69.1322,69.1274,69.1226,69.1177,69.1127 ,69.1075,69.1022,69.2094,69.4746, 69.8243,70.1433,70.5493,70.7964,70.796, 70.7955,70.795,70.7943,70.7938,70.7936, 70.7933,70.7927,70.7922,70.7919,70.7916 ,70.7912,70.7906,70.7905,70.7898, 70.7905,70.79,70.7903,70.7901,70.7896, 70.7891,70.7883,70.7873,70.7858,70.7869 ,70.7885,70.7847,70.784,70.7837,70.7836 ,70.7841,70.7835,70.785,70.783,70.7832, 70.7831,70.783,70.783,70.7831,70.7834, 70.7828,70.7825,70.7822,70.7822, 70.5579)
ORBIT_NUMBER = 9480
ORBITAL_ECCENTRICITY = 0.575
ORBITAL_INCLINATION = 86.88
ORBITAL_SEMIMAJOR_AXIS = 8825.03
PERIAPSIS_ALTITUDE = 362.57
PERIAPSIS_ARGUMENT_ANGLE = 141.56
PERIAPSIS_TIME = 2011-06-05T23:59:52.000Z
SPACECRAFT_ORIENTATION = (0.0,-1.0,0.0)
^MEX_ORIENTATION_DESC = "MEX_ORIENTATION_DESC.TXT"
SPACECRAFT_POINTING_MODE = ACROSSTRACK
^MEX_POINTING_DESC = "MEX_POINTING_DESC.TXT"
RIGHT_ASCENSION = -1e+32
DECLINATION = -1e+32
OFFSET_ANGLE = 0.55
SPACECRAFT_SOLAR_DISTANCE = 2.14392e+08
TARGET_NAME = MARS
/* CAMERA DATA ELEMENTS */
DETECTOR_TEMPERATURE = 18.7783
FOCAL_PLANE_TEMPERATURE = 9.8067
INST_CMPRS_NAME = "DISCRETE COSINE TRANSFORMATION (DCT)"
INST_CMPRS_RATIO = 7.25829
INST_CMPRS_QUALITY = 0
INST_CMPRS_QUANTZ_TBL_ID = 0
INSTRUMENT_TEMPERATURE = 11.0301
LENS_TEMPERATURE = 10.4184
MACROPIXEL_SIZE = 1
MISSING_FRAMES = 0
PIXEL_SUBSAMPLING_FLAG = N
SIGNAL_CHAIN_ID = 0
/* RADIOMETRIC DATA ELEMENTS */
BANDWIDTH = 177.0
CENTER_FILTER_WAVELENGTH = 677.5
RADIANCE_OFFSET = 2.22121
RADIANCE_SCALING_FACTOR = 0.0197969
REFLECTANCE_SCALING_FACTOR = 0.000483392
MEX:REFLECTANCE_OFFSET = 0.0542366
/* IMAGE OBJECT DEFINITIONS */
OBJECT = IMAGE
  INTERCHANGE_FORMAT = BINARY
  LINES = 49770
  LINE_SAMPLES = 8100
  SAMPLE_TYPE = UNSIGNED_INTEGER
  SAMPLE_BITS = 8
  BANDS = 1
  BAND_STORAGE_TYPE = BAND_SEQUENTIAL
  MAXIMUM = 255
  MEAN = 92.812
  MINIMUM = 1
  STANDARD_DEVIATION = 35.2652
END_OBJECT = IMAGE
/* MAP OBJECT DEFINITIONS */
OBJECT = IMAGE_MAP_PROJECTION
  ^DATA_SET_MAP_PROJECTION_CATALOG= "DSMAP.CAT"
  A_AXIS_RADIUS = 3396.0
  B_AXIS_RADIUS = 3396.0
  C_AXIS_RADIUS = 3396.0
  CENTER_LATITUDE = 0.0
  CENTER_LONGITUDE = 70.0
  COORDINATE_SYSTEM_NAME = PLANETOGRAPHIC
  COORDINATE_SYSTEM_TYPE = "BODY-FIXED ROTATING"
  EASTERNMOST_LONGITUDE = 70.79640000000001
  FIRST_STANDARD_PARALLEL = "N/A"
  LINE_FIRST_PIXEL = 1
  LINE_LAST_PIXEL = 49770
  LINE_PROJECTION_OFFSET = 123430.0
  MAP_PROJECTION_ROTATION = 0.0
  MAP_PROJECTION_TYPE = SINUSOIDAL
  MAP_RESOLUTION = 4741.71043093333
  MAP_SCALE = 0.0125
  MAXIMUM_LATITUDE = 26.0289
  MINIMUM_LATITUDE = 15.5372
  POSITIVE_LONGITUDE_DIRECTION = EAST
  REFERENCE_LATITUDE = "N/A"
  REFERENCE_LONGITUDE = "N/A"
  SAMPLE_FIRST_PIXEL = 1
  SAMPLE_LAST_PIXEL = 8100
  SAMPLE_PROJECTION_OFFSET = 4147.0
  SECOND_STANDARD_PARALLEL = "N/A"
  WESTERNMOST_LONGITUDE = 69.1022
END_OBJECT = IMAGE_MAP_PROJECTION
/* The JPEG2000 image data file associated with this label. */
OBJECT = COMPRESSED_FILE
  FILE_NAME = "H9480_0000_ND3.JP2"
  RECORD_TYPE = UNDEFINED
  FILE_RECORDS = UNK
  ENCODING_TYPE = "JP2"
  INTERCHANGE_FORMAT = BINARY
  UNCOMPRESSED_FILE_NAME = "H9480_0000_ND3.IMG"
  REQUIRED_STORAGE_BYTES = "403169400"
  ^DESCRIPTION = "JP2INFO.TXT"
END_OBJECT = COMPRESSED_FILE
END
