PDS_VERSION_ID = PDS3
/* FILE DATA ELEMENTS */
RECORD_TYPE = STREAM
/* POINTERS TO DATA OBJECTS */
^COMPRESSED_FILE = "H9480_0000_P23.JP2"
/* IDENTIFICATION DATA ELEMENTS */
DATA_SET_ID = "MEX-M-HRSC-5-REFDR-MAPPROJECTED-V3.0"
DATA_SET_NAME = "MARS EXPRESS HRSC MAP PROJECTED REFDR V3.0"
DETECTOR_ID = MEX_HRSC_P2
EVENT_TYPE = "MARS-REGIONAL-MAPPING-Vo-Fl-Eo"
INSTRUMENT_HOST_ID = MEX
INSTRUMENT_HOST_NAME = "MARS EXPRESS"
INSTRUMENT_ID = HRSC
INSTRUMENT_NAME = "HIGH RESOLUTION STEREO CAMERA"
MISSION_NAME = "MARS EXPRESS"
MISSION_PHASE_NAME = ME_Phase_23
PROCESSING_LEVEL_ID = 3
PRODUCT_CREATION_TIME = 2016-10-26T17:49:15.000Z
PRODUCT_ID = "H9480_0000_P23.JP2"
RELEASE_ID = 0097
REVISION_ID = 0000
/* QUALITY DATA ELEMENTS */
DATA_QUALITY_ID = 1
DATA_QUALITY_DESC = "Data calculated based on original SPICE kernels"
/* TIME DATA ELEMENTS */
SPACECRAFT_CLOCK_START_COUNT = "1/0255398546.09087"
SPACECRAFT_CLOCK_STOP_COUNT = "1/0255398799.23210"
START_TIME = 2011-06-06T00:03:28.404Z
STOP_TIME = 2011-06-06T00:06:23.019Z
/* ORBITAL DATA ELEMENTS */
ASCENDING_NODE_LONGITUDE = 36.24
MAXIMUM_RESOLUTION = 65.7
FOOTPRINT_POINT_LATITUDE = (26.0232,26.0197,26.0159,26.0121, 26.0081,26.004,25.9997,25.7118,25.4166, 25.1219,24.7296,24.3379,24.0398,23.8391 ,23.6386,23.3383,23.1385,22.9395, 22.7402,22.5379,22.3325,22.0263,21.824, 21.6225,21.3131,21.1072,20.8997,20.6913 ,20.3776,20.1746,19.8559,19.642,19.3274 ,19.0103,18.7955,18.5811,18.3669, 18.1528,17.8272,17.6092,17.3913,17.065, 16.732,16.5105,16.2893,15.9581,15.7377, 15.5292,15.5317,15.534,15.5364,15.5384, 15.5402,15.5445,15.7647,15.9853,16.206, 16.4273,16.6485,16.8711,17.093,17.3107, 17.5285,17.7469,17.9657,18.2893,18.5035 ,18.7184,18.9337,19.1478,19.3595, 19.5704,19.7826,20.0996,20.3102,20.5166 ,20.7228,20.9299,21.1368,21.3446,21.553 ,21.7536,22.0585,22.2619,22.4668, 22.7733,22.9726,23.1729,23.3749,23.5764 ,23.775,23.9748,24.2754,24.4714,24.6677 ,24.963,25.16,25.4549,25.6518,26.0232)
FOOTPRINT_POINT_LONGITUDE = (70.7336,70.4982,70.2645,70.0321, 69.8012,69.5718,69.3434,69.2372,69.2349 ,69.2325,69.229,69.2252,69.2222,69.22, 69.2178,69.2143,69.2119,69.2093,69.2067 ,69.2038,69.2011,69.1968,69.1937, 69.1904,69.1858,69.1823,69.1788,69.1755 ,69.1705,69.1662,69.1606,69.157,69.1507 ,69.1443,69.14,69.1355,69.1309,69.1264, 69.1192,69.1142,69.1093,69.1017,69.0937 ,69.0883,69.0828,69.0745,69.0688, 69.0635,69.323,69.6015,69.9473,70.1796, 70.446,70.8382,70.8372,70.8362,70.835, 70.8341,70.8327,70.8322,70.8313,70.8304 ,70.8293,70.8286,70.8278,70.8265, 70.8256,70.8249,70.8243,70.8228,70.823, 70.8224,70.8226,70.8214,70.8207,70.8197 ,70.8181,70.8171,70.8157,70.8149, 70.8165,70.8135,70.8121,70.811,70.811, 70.8103,70.8095,70.8093,70.8105,70.8112 ,70.8089,70.8076,70.8074,70.807,70.8066 ,70.8065,70.8063,70.8052,70.8045, 70.7336)
ORBIT_NUMBER = 9480
ORBITAL_ECCENTRICITY = 0.575
ORBITAL_INCLINATION = 86.88
ORBITAL_SEMIMAJOR_AXIS = 8825.03
PERIAPSIS_ALTITUDE = 362.57
PERIAPSIS_ARGUMENT_ANGLE = 141.56
PERIAPSIS_TIME = 2011-06-05T23:59:52.000Z
SPACECRAFT_ORIENTATION = (0.0,-1.0,0.0)
^MEX_ORIENTATION_DESC = "MEX_ORIENTATION_DESC.TXT"
SPACECRAFT_POINTING_MODE = ACROSSTRACK
^MEX_POINTING_DESC = "MEX_POINTING_DESC.TXT"
RIGHT_ASCENSION = -1e+32
DECLINATION = -1e+32
OFFSET_ANGLE = 0.55
SPACECRAFT_SOLAR_DISTANCE = 2.14392e+08
TARGET_NAME = MARS
/* CAMERA DATA ELEMENTS */
DETECTOR_TEMPERATURE = 19.1861
FOCAL_PLANE_TEMPERATURE = 9.8067
INST_CMPRS_NAME = "DISCRETE COSINE TRANSFORMATION (DCT)"
INST_CMPRS_RATIO = 8.92626
INST_CMPRS_QUALITY = 0
INST_CMPRS_QUANTZ_TBL_ID = 0
INSTRUMENT_TEMPERATURE = 11.0301
LENS_TEMPERATURE = 10.4184
MACROPIXEL_SIZE = 4
MISSING_FRAMES = 0
PIXEL_SUBSAMPLING_FLAG = N
SIGNAL_CHAIN_ID = 3
/* RADIOMETRIC DATA ELEMENTS */
BANDWIDTH = 177.0
CENTER_FILTER_WAVELENGTH = 676.5
RADIANCE_OFFSET = 2.58148
RADIANCE_SCALING_FACTOR = 0.0191396
REFLECTANCE_SCALING_FACTOR = 0.000466454
MEX:REFLECTANCE_OFFSET = 0.0629135
/* IMAGE OBJECT DEFINITIONS */
OBJECT = IMAGE
  INTERCHANGE_FORMAT = BINARY
  LINES = 12443
  LINE_SAMPLES = 2025
  SAMPLE_TYPE = UNSIGNED_INTEGER
  SAMPLE_BITS = 8
  BANDS = 1
  BAND_STORAGE_TYPE = BAND_SEQUENTIAL
  MAXIMUM = 255
  MEAN = 95.4807
  MINIMUM = 1
  STANDARD_DEVIATION = 38.3912
END_OBJECT = IMAGE
/* MAP OBJECT DEFINITIONS */
OBJECT = IMAGE_MAP_PROJECTION
  ^DATA_SET_MAP_PROJECTION_CATALOG= "DSMAP.CAT"
  A_AXIS_RADIUS = 3396.0
  B_AXIS_RADIUS = 3396.0
  C_AXIS_RADIUS = 3396.0
  CENTER_LATITUDE = 0.0
  CENTER_LONGITUDE = 70.0
  COORDINATE_SYSTEM_NAME = PLANETOGRAPHIC
  COORDINATE_SYSTEM_TYPE = "BODY-FIXED ROTATING"
  EASTERNMOST_LONGITUDE = 70.8382
  FIRST_STANDARD_PARALLEL = "N/A"
  LINE_FIRST_PIXEL = 1
  LINE_LAST_PIXEL = 12443
  LINE_PROJECTION_OFFSET = 30857.125
  MAP_PROJECTION_ROTATION = 0.0
  MAP_PROJECTION_TYPE = SINUSOIDAL
  MAP_RESOLUTION = 1185.42760773333
  MAP_SCALE = 0.05
  MAXIMUM_LATITUDE = 26.0232
  MINIMUM_LATITUDE = 15.5292
  POSITIVE_LONGITUDE_DIRECTION = EAST
  REFERENCE_LATITUDE = "N/A"
  REFERENCE_LONGITUDE = "N/A"
  SAMPLE_FIRST_PIXEL = 1
  SAMPLE_LAST_PIXEL = 2025
  SAMPLE_PROJECTION_OFFSET = 1036.375
  SECOND_STANDARD_PARALLEL = "N/A"
  WESTERNMOST_LONGITUDE = 69.0635
END_OBJECT = IMAGE_MAP_PROJECTION
/* The JPEG2000 image data file associated with this label. */
OBJECT = COMPRESSED_FILE
  FILE_NAME = "H9480_0000_P23.JP2"
  RECORD_TYPE = UNDEFINED
  FILE_RECORDS = UNK
  ENCODING_TYPE = "JP2"
  INTERCHANGE_FORMAT = BINARY
  UNCOMPRESSED_FILE_NAME = "H9480_0000_P23.IMG"
  REQUIRED_STORAGE_BYTES = "25217325"
  ^DESCRIPTION = "JP2INFO.TXT"
END_OBJECT = COMPRESSED_FILE
END
