PDS_VERSION_ID = PDS3
/* FILE DATA ELEMENTS */
RECORD_TYPE = STREAM
/* POINTERS TO DATA OBJECTS */
^COMPRESSED_FILE = "H9481_0000_BL3.JP2"
/* IDENTIFICATION DATA ELEMENTS */
DATA_SET_ID = "MEX-M-HRSC-5-REFDR-MAPPROJECTED-V3.0"
DATA_SET_NAME = "MARS EXPRESS HRSC MAP PROJECTED REFDR V3.0"
DETECTOR_ID = MEX_HRSC_BLUE
EVENT_TYPE = "MARS-REGIONAL-MAPPING-Vo-Te-Fl"
INSTRUMENT_HOST_ID = MEX
INSTRUMENT_HOST_NAME = "MARS EXPRESS"
INSTRUMENT_ID = HRSC
INSTRUMENT_NAME = "HIGH RESOLUTION STEREO CAMERA"
MISSION_NAME = "MARS EXPRESS"
MISSION_PHASE_NAME = ME_Phase_23
PROCESSING_LEVEL_ID = 3
PRODUCT_CREATION_TIME = 2016-10-26T17:49:15.000Z
PRODUCT_ID = "H9481_0000_BL3.JP2"
RELEASE_ID = 0097
REVISION_ID = 0000
/* QUALITY DATA ELEMENTS */
DATA_QUALITY_ID = 1
DATA_QUALITY_DESC = "Data calculated based on original SPICE kernels"
/* TIME DATA ELEMENTS */
SPACECRAFT_CLOCK_START_COUNT = "1/0255423610.09085"
SPACECRAFT_CLOCK_STOP_COUNT = "1/0255423829.49526"
START_TIME = 2011-06-06T07:00:52.200Z
STOP_TIME = 2011-06-06T07:03:17.805Z
/* ORBITAL DATA ELEMENTS */
ASCENDING_NODE_LONGITUDE = 36.22
MAXIMUM_RESOLUTION = 59.7
FOOTPRINT_POINT_LATITUDE = (33.4452,33.4439,33.4421,33.4399, 33.4373,33.4326,33.3467,33.1606,32.9746 ,32.7885,32.6026,32.4167,32.2309, 32.0451,31.8594,31.6738,31.4882,31.3027 ,31.1173,30.9319,30.7467,30.5615, 30.3763,30.1913,30.0063,29.8214,29.6366 ,29.4518,29.2672,29.0826,28.8982, 28.7138,28.5294,28.3453,28.1612,27.9772 ,27.7933,27.6095,27.4258,27.2421, 27.0586,26.8752,26.6919,26.5088,26.3256 ,25.9598,25.5943,25.2293,24.8647, 24.5006,24.2063,24.2067,24.2067,24.2065 ,24.2057,24.2047,24.2045,24.5689, 24.9338,25.2992,25.4822,25.848,26.0312, 26.398,26.6733,26.8568,27.0406,27.2246, 27.4086,27.5927,27.7769,27.9612,28.1456 ,28.3301,28.5146,28.6992,28.884,29.0688 ,29.3461,29.5312,29.7164,29.9016,30.087 ,30.2723,30.4578,30.6434,30.829,31.0147 ,31.2005,31.3863,31.5722,31.7583, 31.9443,32.1305,32.3167,32.5029,32.6892 ,32.8756,33.1553,33.4452)
FOOTPRINT_POINT_LONGITUDE = (326.619,326.394,326.167,325.937, 325.705,325.352,325.13,325.137,325.143, 325.149,325.155,325.16,325.166,325.172, 325.177,325.183,325.188,325.193,325.198 ,325.203,325.207,325.212,325.217, 325.221,325.225,325.229,325.234,325.238 ,325.241,325.245,325.248,325.252, 325.256,325.258,325.262,325.265,325.268 ,325.27,325.273,325.276,325.278,325.28, 325.283,325.285,325.287,325.291,325.294 ,325.298,325.301,325.304,325.396, 325.671,325.882,326.15,326.43,326.678, 326.9,326.894,326.889,326.883,326.88, 326.874,326.871,326.864,326.86,326.857, 326.853,326.85,326.847,326.844,326.84, 326.837,326.833,326.83,326.827,326.823, 326.819,326.816,326.811,326.807,326.803 ,326.799,326.796,326.792,326.788, 326.784,326.78,326.776,326.772,326.768, 326.764,326.76,326.756,326.752,326.747, 326.743,326.739,326.734,326.728, 326.619)
ORBIT_NUMBER = 9481
ORBITAL_ECCENTRICITY = 0.574
ORBITAL_INCLINATION = 86.88
ORBITAL_SEMIMAJOR_AXIS = 8816.18
PERIAPSIS_ALTITUDE = 363.37
PERIAPSIS_ARGUMENT_ANGLE = 141.39
PERIAPSIS_TIME = 2011-06-06T06:59:27.000Z
SPACECRAFT_ORIENTATION = (0.0,-1.0,0.0)
^MEX_ORIENTATION_DESC = "MEX_ORIENTATION_DESC.TXT"
SPACECRAFT_POINTING_MODE = ACROSSTRACK
^MEX_POINTING_DESC = "MEX_POINTING_DESC.TXT"
RIGHT_ASCENSION = -1e+32
DECLINATION = -1e+32
OFFSET_ANGLE = -0.9
SPACECRAFT_SOLAR_DISTANCE = 2.14439e+08
TARGET_NAME = MARS
/* CAMERA DATA ELEMENTS */
DETECTOR_TEMPERATURE = 18.5744
FOCAL_PLANE_TEMPERATURE = 10.2145
INST_CMPRS_NAME = "DISCRETE COSINE TRANSFORMATION (DCT)"
INST_CMPRS_RATIO = 6.54589
INST_CMPRS_QUALITY = 0
INST_CMPRS_QUANTZ_TBL_ID = 0
INSTRUMENT_TEMPERATURE = 11.6418
LENS_TEMPERATURE = 10.4184
MACROPIXEL_SIZE = 4
MISSING_FRAMES = 0
PIXEL_SUBSAMPLING_FLAG = N
SIGNAL_CHAIN_ID = 2
/* RADIOMETRIC DATA ELEMENTS */
BANDWIDTH = 76.0
CENTER_FILTER_WAVELENGTH = 444.0
RADIANCE_OFFSET = 0.550468
RADIANCE_SCALING_FACTOR = 0.00146094
REFLECTANCE_SCALING_FACTOR = 6.90229e-05
MEX:REFLECTANCE_OFFSET = 0.0260072
/* IMAGE OBJECT DEFINITIONS */
OBJECT = IMAGE
  INTERCHANGE_FORMAT = BINARY
  LINES = 10992
  LINE_SAMPLES = 1902
  SAMPLE_TYPE = UNSIGNED_INTEGER
  SAMPLE_BITS = 8
  BANDS = 1
  BAND_STORAGE_TYPE = BAND_SEQUENTIAL
  MAXIMUM = 255
  MEAN = 138.445
  MINIMUM = 1
  STANDARD_DEVIATION = 28.399
END_OBJECT = IMAGE
/* MAP OBJECT DEFINITIONS */
OBJECT = IMAGE_MAP_PROJECTION
  ^DATA_SET_MAP_PROJECTION_CATALOG= "DSMAP.CAT"
  A_AXIS_RADIUS = 3396.0
  B_AXIS_RADIUS = 3396.0
  C_AXIS_RADIUS = 3396.0
  CENTER_LATITUDE = 0.0
  CENTER_LONGITUDE = 326.0
  COORDINATE_SYSTEM_NAME = PLANETOGRAPHIC
  COORDINATE_SYSTEM_TYPE = "BODY-FIXED ROTATING"
  EASTERNMOST_LONGITUDE = 326.9
  FIRST_STANDARD_PARALLEL = "N/A"
  LINE_FIRST_PIXEL = 1
  LINE_LAST_PIXEL = 10992
  LINE_PROJECTION_OFFSET = 39673.375
  MAP_PROJECTION_ROTATION = 0.0
  MAP_PROJECTION_TYPE = SINUSOIDAL
  MAP_RESOLUTION = 1185.42760773333
  MAP_SCALE = 0.05
  MAXIMUM_LATITUDE = 33.4452
  MINIMUM_LATITUDE = 24.2045
  POSITIVE_LONGITUDE_DIRECTION = EAST
  REFERENCE_LATITUDE = "N/A"
  REFERENCE_LONGITUDE = "N/A"
  SAMPLE_FIRST_PIXEL = 1
  SAMPLE_LAST_PIXEL = 1902
  SAMPLE_PROJECTION_OFFSET = 928.375
  SECOND_STANDARD_PARALLEL = "N/A"
  WESTERNMOST_LONGITUDE = 325.13
END_OBJECT = IMAGE_MAP_PROJECTION
/* The JPEG2000 image data file associated with this label. */
OBJECT = COMPRESSED_FILE
  FILE_NAME = "H9481_0000_BL3.JP2"
  RECORD_TYPE = UNDEFINED
  FILE_RECORDS = UNK
  ENCODING_TYPE = "JP2"
  INTERCHANGE_FORMAT = BINARY
  UNCOMPRESSED_FILE_NAME = "H9481_0000_BL3.IMG"
  REQUIRED_STORAGE_BYTES = "20925804"
  ^DESCRIPTION = "JP2INFO.TXT"
END_OBJECT = COMPRESSED_FILE
END
