PDS_VERSION_ID = PDS3
/* FILE DATA ELEMENTS */
RECORD_TYPE = STREAM
/* POINTERS TO DATA OBJECTS */
^COMPRESSED_FILE = "H9487_0009_IR3.JP2"
/* IDENTIFICATION DATA ELEMENTS */
DATA_SET_ID = "MEX-M-HRSC-5-REFDR-MAPPROJECTED-V3.0"
DATA_SET_NAME = "MARS EXPRESS HRSC MAP PROJECTED REFDR V3.0"
DETECTOR_ID = MEX_HRSC_IR
EVENT_TYPE = "MARS-REGIONAL-MAPPING-Vo-Eo"
INSTRUMENT_HOST_ID = MEX
INSTRUMENT_HOST_NAME = "MARS EXPRESS"
INSTRUMENT_ID = HRSC
INSTRUMENT_NAME = "HIGH RESOLUTION STEREO CAMERA"
MISSION_NAME = "MARS EXPRESS"
MISSION_PHASE_NAME = ME_Phase_23
PROCESSING_LEVEL_ID = 3
PRODUCT_CREATION_TIME = 2016-10-26T17:49:15.000Z
PRODUCT_ID = "H9487_0009_IR3.JP2"
RELEASE_ID = 0097
REVISION_ID = 0000
/* QUALITY DATA ELEMENTS */
DATA_QUALITY_ID = 1
DATA_QUALITY_DESC = "Data calculated based on original SPICE kernels"
/* TIME DATA ELEMENTS */
SPACECRAFT_CLOCK_START_COUNT = "1/0255574936.08248"
SPACECRAFT_CLOCK_STOP_COUNT = "1/0255575166.08551"
START_TIME = 2011-06-08T01:02:25.745Z
STOP_TIME = 2011-06-08T01:04:26.330Z
/* ORBITAL DATA ELEMENTS */
ASCENDING_NODE_LONGITUDE = 36.1
MAXIMUM_RESOLUTION = 73.3
FOOTPRINT_POINT_LATITUDE = (17.9444,17.9489,17.9517,17.9552, 17.9582,17.9606,17.9621,17.954,17.6682, 17.4546,17.2357,17.0163,16.8697,16.5776 ,16.3588,16.0671,15.7726,15.5484, 15.3975,15.2479,15.1002,14.9485,14.7963 ,14.5681,14.4159,14.2639,14.1121, 13.9591,13.8036,13.6486,13.4937,13.3386 ,13.1835,13.0256,12.7915,12.6329, 12.4744,12.3163,12.1584,11.9996,11.8381 ,11.5963,11.435,11.274,11.1131,10.949, 10.7026,10.5388,10.3752,10.2744,10.2757 ,10.2731,10.2688,10.265,10.26,10.2567, 10.2515,10.244,10.4908,10.6553,10.816, 10.9819,11.2273,11.4696,11.6312,11.7923 ,12.0338,12.192,12.3505,12.5887,12.8258 ,12.9844,13.1398,13.3724,13.5279, 13.6835,13.9168,14.07,14.222,14.45, 14.6023,14.7544,14.9065,15.0585,15.2075 ,15.3564,15.5053,15.6542,15.8033, 16.0268,16.1761,16.3223,16.5418,16.8341 ,16.9807,17.1272,17.2735,17.4906, 17.7767,17.9444)
FOOTPRINT_POINT_LONGITUDE = (74.2834,74.0429,73.8777,73.6379, 73.3987,73.16,72.9661,72.7962,72.7912, 72.7875,72.7832,72.7791,72.7762,72.7705 ,72.7661,72.761,72.756,72.7511,72.7474, 72.7439,72.741,72.7377,72.7343,72.7292, 72.7256,72.7221,72.7186,72.7149,72.7111 ,72.7074,72.7037,72.6998,72.6959, 72.6912,72.6859,72.6817,72.6775,72.6733 ,72.6692,72.6648,72.6604,72.6537, 72.6492,72.6447,72.6401,72.6354,72.6282 ,72.6235,72.6188,72.7311,72.8835, 73.0858,73.3554,73.5242,73.7442,73.8967 ,74.1171,74.4292,74.4283,74.4278,74.429 ,74.428,74.4264,74.4256,74.4251,74.4248 ,74.4242,74.4238,74.4233,74.4225, 74.4221,74.4216,74.4211,74.4206,74.4202 ,74.4198,74.4192,74.4188,74.4185,74.418 ,74.4177,74.4174,74.4172,74.417,74.4167 ,74.4164,74.4162,74.416,74.4157,74.4154 ,74.415,74.4145,74.4137,74.4129,74.4124 ,74.4119,74.4115,74.4107,74.4098, 74.2834)
ORBIT_NUMBER = 9487
ORBITAL_ECCENTRICITY = 0.575
ORBITAL_INCLINATION = 86.88
ORBITAL_SEMIMAJOR_AXIS = 8823.15
PERIAPSIS_ALTITUDE = 363.3
PERIAPSIS_ARGUMENT_ANGLE = 140.35
PERIAPSIS_TIME = 2011-06-08T00:57:19.000Z
SPACECRAFT_ORIENTATION = (0.0,-1.0,0.0)
^MEX_ORIENTATION_DESC = "MEX_ORIENTATION_DESC.TXT"
SPACECRAFT_POINTING_MODE = ACROSSTRACK
^MEX_POINTING_DESC = "MEX_POINTING_DESC.TXT"
RIGHT_ASCENSION = -1e+32
DECLINATION = -1e+32
OFFSET_ANGLE = 0.2
SPACECRAFT_SOLAR_DISTANCE = 2.1472e+08
TARGET_NAME = MARS
/* CAMERA DATA ELEMENTS */
DETECTOR_TEMPERATURE = 17.9627
FOCAL_PLANE_TEMPERATURE = 9.8067
INST_CMPRS_NAME = "DISCRETE COSINE TRANSFORMATION (DCT)"
INST_CMPRS_RATIO = 10.2556
INST_CMPRS_QUALITY = 0
INST_CMPRS_QUANTZ_TBL_ID = 0
INSTRUMENT_TEMPERATURE = 11.6418
LENS_TEMPERATURE = 10.2145
MACROPIXEL_SIZE = 4
MISSING_FRAMES = 0
PIXEL_SUBSAMPLING_FLAG = N
SIGNAL_CHAIN_ID = 2
/* RADIOMETRIC DATA ELEMENTS */
BANDWIDTH = 81.0
CENTER_FILTER_WAVELENGTH = 955.5
RADIANCE_OFFSET = 0.596634
RADIANCE_SCALING_FACTOR = 0.00380781
REFLECTANCE_SCALING_FACTOR = 0.000378747
MEX:REFLECTANCE_OFFSET = 0.0593446
/* IMAGE OBJECT DEFINITIONS */
OBJECT = IMAGE
  INTERCHANGE_FORMAT = BINARY
  LINES = 9137
  LINE_SAMPLES = 2329
  SAMPLE_TYPE = UNSIGNED_INTEGER
  SAMPLE_BITS = 8
  BANDS = 1
  BAND_STORAGE_TYPE = BAND_SEQUENTIAL
  MAXIMUM = 255
  MEAN = 111.383
  MINIMUM = 1
  STANDARD_DEVIATION = 15.8898
END_OBJECT = IMAGE
/* MAP OBJECT DEFINITIONS */
OBJECT = IMAGE_MAP_PROJECTION
  ^DATA_SET_MAP_PROJECTION_CATALOG= "DSMAP.CAT"
  A_AXIS_RADIUS = 3396.0
  B_AXIS_RADIUS = 3396.0
  C_AXIS_RADIUS = 3396.0
  CENTER_LATITUDE = 0.0
  CENTER_LONGITUDE = 74.0
  COORDINATE_SYSTEM_NAME = PLANETOGRAPHIC
  COORDINATE_SYSTEM_TYPE = "BODY-FIXED ROTATING"
  EASTERNMOST_LONGITUDE = 74.42919999999999
  FIRST_STANDARD_PARALLEL = "N/A"
  LINE_FIRST_PIXEL = 1
  LINE_LAST_PIXEL = 9137
  LINE_PROJECTION_OFFSET = 21286.875
  MAP_PROJECTION_ROTATION = 0.0
  MAP_PROJECTION_TYPE = SINUSOIDAL
  MAP_RESOLUTION = 1185.42760773333
  MAP_SCALE = 0.05
  MAXIMUM_LATITUDE = 17.9621
  MINIMUM_LATITUDE = 10.244
  POSITIVE_LONGITUDE_DIRECTION = EAST
  REFERENCE_LATITUDE = "N/A"
  REFERENCE_LONGITUDE = "N/A"
  SAMPLE_FIRST_PIXEL = 1
  SAMPLE_LAST_PIXEL = 2329
  SAMPLE_PROJECTION_OFFSET = 1714.625
  SECOND_STANDARD_PARALLEL = "N/A"
  WESTERNMOST_LONGITUDE = 72.61879999999999
END_OBJECT = IMAGE_MAP_PROJECTION
/* The JPEG2000 image data file associated with this label. */
OBJECT = COMPRESSED_FILE
  FILE_NAME = "H9487_0009_IR3.JP2"
  RECORD_TYPE = UNDEFINED
  FILE_RECORDS = UNK
  ENCODING_TYPE = "JP2"
  INTERCHANGE_FORMAT = BINARY
  UNCOMPRESSED_FILE_NAME = "H9487_0009_IR3.IMG"
  REQUIRED_STORAGE_BYTES = "21298705"
  ^DESCRIPTION = "JP2INFO.TXT"
END_OBJECT = COMPRESSED_FILE
END
