PDS_VERSION_ID = PDS3
/* FILE DATA ELEMENTS */
RECORD_TYPE = STREAM
/* POINTERS TO DATA OBJECTS */
^COMPRESSED_FILE = "H9490_0000_GR3.JP2"
/* IDENTIFICATION DATA ELEMENTS */
DATA_SET_ID = "MEX-M-HRSC-5-REFDR-MAPPROJECTED-V3.0"
DATA_SET_NAME = "MARS EXPRESS HRSC MAP PROJECTED REFDR V3.0"
DETECTOR_ID = MEX_HRSC_GREEN
EVENT_TYPE = "MARS-REGIONAL-MAPPING-Vo-Fl-Pf"
INSTRUMENT_HOST_ID = MEX
INSTRUMENT_HOST_NAME = "MARS EXPRESS"
INSTRUMENT_ID = HRSC
INSTRUMENT_NAME = "HIGH RESOLUTION STEREO CAMERA"
MISSION_NAME = "MARS EXPRESS"
MISSION_PHASE_NAME = ME_Phase_23
PROCESSING_LEVEL_ID = 3
PRODUCT_CREATION_TIME = 2016-10-26T17:49:15.000Z
PRODUCT_ID = "H9490_0000_GR3.JP2"
RELEASE_ID = 0097
REVISION_ID = 0000
/* QUALITY DATA ELEMENTS */
DATA_QUALITY_ID = 1
DATA_QUALITY_DESC = "Data calculated based on original SPICE kernels"
/* TIME DATA ELEMENTS */
SPACECRAFT_CLOCK_START_COUNT = "1/0255650336.08247"
SPACECRAFT_CLOCK_STOP_COUNT = "1/0255650504.15661"
START_TIME = 2011-06-08T21:59:28.236Z
STOP_TIME = 2011-06-08T22:00:55.583Z
/* ORBITAL DATA ELEMENTS */
ASCENDING_NODE_LONGITUDE = 36.05
MAXIMUM_RESOLUTION = 63.6
FOOTPRINT_POINT_LATITUDE = (27.1744,27.1725,27.1703,27.1676, 27.1645,27.1609,27.1465,27.0379,26.9294 ,26.8209,26.6581,26.5497,26.4413, 26.3329,26.2246,26.1163,26.008,25.8997, 25.7915,25.6833,25.5751,25.467,25.3589, 25.2508,25.0347,24.8728,24.6031,24.3874 ,24.1719,23.9027,23.738,23.6276,23.5172 ,23.4068,23.2964,23.1861,23.0208, 22.9105,22.8004,22.6903,22.5802,22.4701 ,22.3036,22.1908,22.078,21.9653,21.8525 ,21.7399,21.6273,21.6286,21.6301, 21.6312,21.6322,21.6331,21.6339,21.6346 ,21.6353,21.6358,21.6362,21.6364, 21.6377,21.7505,21.8634,21.9763,22.1458 ,22.2588,22.3719,22.4821,22.6475,22.813 ,22.9786,23.1442,23.2547,23.3653, 23.4759,23.6418,23.7524,23.9174,24.1331 ,24.403,24.6731,24.8352,24.9974,25.1056 ,25.268,25.4304,25.5387,25.6471,25.7555 ,25.8639,26.0266,26.1893,26.3521,26.515 ,26.6236,26.7866,26.8953,27.0041, 27.1128,27.1744)
FOOTPRINT_POINT_LONGITUDE = (126.57,126.344,126.117,125.889,125.66, 125.429,125.117,125.118,125.119,125.12, 125.122,125.122,125.123,125.124,125.125 ,125.125,125.126,125.126,125.127, 125.128,125.128,125.129,125.129,125.129 ,125.13,125.131,125.131,125.132,125.132 ,125.132,125.132,125.132,125.132, 125.132,125.132,125.132,125.132,125.132 ,125.132,125.131,125.131,125.131,125.13 ,125.13,125.129,125.129,125.128,125.128 ,125.127,125.249,125.404,125.526, 125.649,125.771,125.892,126.013,126.165 ,126.285,126.406,126.525,126.755, 126.753,126.752,126.751,126.749,126.748 ,126.746,126.745,126.743,126.741, 126.739,126.737,126.736,126.735,126.734 ,126.732,126.73,126.728,126.726,126.722 ,126.719,126.717,126.715,126.713, 126.711,126.709,126.708,126.706,126.705 ,126.704,126.701,126.699,126.697, 126.695,126.693,126.691,126.689,126.688 ,126.686,126.57)
ORBIT_NUMBER = 9490
ORBITAL_ECCENTRICITY = 0.575
ORBITAL_INCLINATION = 86.86
ORBITAL_SEMIMAJOR_AXIS = 8821.62
PERIAPSIS_ALTITUDE = 364.34
PERIAPSIS_ARGUMENT_ANGLE = 139.84
PERIAPSIS_TIME = 2011-06-08T21:56:13.000Z
SPACECRAFT_ORIENTATION = (0.0,-1.0,0.0)
^MEX_ORIENTATION_DESC = "MEX_ORIENTATION_DESC.TXT"
SPACECRAFT_POINTING_MODE = NADIR
^MEX_POINTING_DESC = "MEX_POINTING_DESC.TXT"
RIGHT_ASCENSION = -1e+32
DECLINATION = -1e+32
OFFSET_ANGLE = -1e+32
SPACECRAFT_SOLAR_DISTANCE = 2.14862e+08
TARGET_NAME = MARS
/* CAMERA DATA ELEMENTS */
DETECTOR_TEMPERATURE = 18.5744
FOCAL_PLANE_TEMPERATURE = 8.7872
INST_CMPRS_NAME = "DISCRETE COSINE TRANSFORMATION (DCT)"
INST_CMPRS_RATIO = 11.6502
INST_CMPRS_QUALITY = 0
INST_CMPRS_QUANTZ_TBL_ID = 0
INSTRUMENT_TEMPERATURE = 11.234
LENS_TEMPERATURE = 9.195
MACROPIXEL_SIZE = 4
MISSING_FRAMES = 0
PIXEL_SUBSAMPLING_FLAG = N
SIGNAL_CHAIN_ID = 2
/* RADIOMETRIC DATA ELEMENTS */
BANDWIDTH = 88.0
CENTER_FILTER_WAVELENGTH = 538.0
RADIANCE_OFFSET = 1.33989
RADIANCE_SCALING_FACTOR = 0.00467063
REFLECTANCE_SCALING_FACTOR = 0.000185646
MEX:REFLECTANCE_OFFSET = 0.0532573
/* IMAGE OBJECT DEFINITIONS */
OBJECT = IMAGE
  INTERCHANGE_FORMAT = BINARY
  LINES = 6558
  LINE_SAMPLES = 1875
  SAMPLE_TYPE = UNSIGNED_INTEGER
  SAMPLE_BITS = 8
  BANDS = 1
  BAND_STORAGE_TYPE = BAND_SEQUENTIAL
  MAXIMUM = 255
  MEAN = 119.616
  MINIMUM = 1
  STANDARD_DEVIATION = 21.5234
END_OBJECT = IMAGE
/* MAP OBJECT DEFINITIONS */
OBJECT = IMAGE_MAP_PROJECTION
  ^DATA_SET_MAP_PROJECTION_CATALOG= "DSMAP.CAT"
  A_AXIS_RADIUS = 3396.0
  B_AXIS_RADIUS = 3396.0
  C_AXIS_RADIUS = 3396.0
  CENTER_LATITUDE = 0.0
  CENTER_LONGITUDE = 126.0
  COORDINATE_SYSTEM_NAME = PLANETOGRAPHIC
  COORDINATE_SYSTEM_TYPE = "BODY-FIXED ROTATING"
  EASTERNMOST_LONGITUDE = 126.755
  FIRST_STANDARD_PARALLEL = "N/A"
  LINE_FIRST_PIXEL = 1
  LINE_LAST_PIXEL = 6558
  LINE_PROJECTION_OFFSET = 32205.875
  MAP_PROJECTION_ROTATION = 0.0
  MAP_PROJECTION_TYPE = SINUSOIDAL
  MAP_RESOLUTION = 1185.42760773333
  MAP_SCALE = 0.05
  MAXIMUM_LATITUDE = 27.1744
  MINIMUM_LATITUDE = 21.6273
  POSITIVE_LONGITUDE_DIRECTION = EAST
  REFERENCE_LATITUDE = "N/A"
  REFERENCE_LONGITUDE = "N/A"
  SAMPLE_FIRST_PIXEL = 1
  SAMPLE_LAST_PIXEL = 1875
  SAMPLE_PROJECTION_OFFSET = 1031.875
  SECOND_STANDARD_PARALLEL = "N/A"
  WESTERNMOST_LONGITUDE = 125.117
END_OBJECT = IMAGE_MAP_PROJECTION
/* The JPEG2000 image data file associated with this label. */
OBJECT = COMPRESSED_FILE
  FILE_NAME = "H9490_0000_GR3.JP2"
  RECORD_TYPE = UNDEFINED
  FILE_RECORDS = UNK
  ENCODING_TYPE = "JP2"
  INTERCHANGE_FORMAT = BINARY
  UNCOMPRESSED_FILE_NAME = "H9490_0000_GR3.IMG"
  REQUIRED_STORAGE_BYTES = "12315000"
  ^DESCRIPTION = "JP2INFO.TXT"
END_OBJECT = COMPRESSED_FILE
END
