PDS_VERSION_ID = PDS3
/* FILE DATA ELEMENTS */
RECORD_TYPE = STREAM
/* POINTERS TO DATA OBJECTS */
^COMPRESSED_FILE = "H9492_0000_S13.JP2"
/* IDENTIFICATION DATA ELEMENTS */
DATA_SET_ID = "MEX-M-HRSC-5-REFDR-MAPPROJECTED-V3.0"
DATA_SET_NAME = "MARS EXPRESS HRSC MAP PROJECTED REFDR V3.0"
DETECTOR_ID = MEX_HRSC_S1
EVENT_TYPE = "MARS-LOCAL-STEREO-Vo-Te"
INSTRUMENT_HOST_ID = MEX
INSTRUMENT_HOST_NAME = "MARS EXPRESS"
INSTRUMENT_ID = HRSC
INSTRUMENT_NAME = "HIGH RESOLUTION STEREO CAMERA"
MISSION_NAME = "MARS EXPRESS"
MISSION_PHASE_NAME = ME_Phase_23
PROCESSING_LEVEL_ID = 3
PRODUCT_CREATION_TIME = 2016-10-26T17:49:15.000Z
PRODUCT_ID = "H9492_0000_S13.JP2"
RELEASE_ID = 0097
REVISION_ID = 0000
/* QUALITY DATA ELEMENTS */
DATA_QUALITY_ID = 1
DATA_QUALITY_DESC = "Data calculated based on original SPICE kernels"
/* TIME DATA ELEMENTS */
SPACECRAFT_CLOCK_START_COUNT = "1/0255700466.09033"
SPACECRAFT_CLOCK_STOP_COUNT = "1/0255700590.51649"
START_TIME = 2011-06-09T11:54:29.139Z
STOP_TIME = 2011-06-09T11:55:25.617Z
/* ORBITAL DATA ELEMENTS */
ASCENDING_NODE_LONGITUDE = 36.01
MAXIMUM_RESOLUTION = 15.4
FOOTPRINT_POINT_LATITUDE = (42.5341,42.5315,42.5288,42.5268, 42.5242,42.5215,42.5173,42.514,42.5105, 42.5068,42.5023,42.4987,42.4503,42.3783 ,42.3066,42.1992,42.0206,41.8774, 41.7699,41.5909,41.4479,41.3761,41.2685 ,41.1968,41.1244,41.0175,40.9457, 40.8735,40.7659,40.6223,40.5144,40.442, 40.37,40.1908,40.0828,40.0107,39.9386, 39.8663,39.7579,39.6857,39.6133,39.541, 39.4327,39.3595,39.2512,39.179,39.1068, 39.0345,38.9617,38.8351,38.8393,38.8438 ,38.8497,38.8532,38.8576,38.8598, 38.8609,38.8618,38.8653,38.8651,38.9, 38.9738,39.1206,39.2303,39.3036,39.3765 ,39.4491,39.5221,39.6309,39.7034, 39.7757,39.8479,39.9201,40.0285,40.1008 ,40.173,40.245,40.353,40.425,40.5332, 40.6053,40.6773,40.7492,40.8572,40.929, 41.0369,41.1091,41.1812,41.253,41.3608, 41.4326,41.5044,41.6111,41.7854,41.8968 ,41.9711,42.1135,42.2565,42.364, 42.5341)
FOOTPRINT_POINT_LONGITUDE = (282.505,282.319,282.149,282.031, 281.896,281.761,281.575,281.44,281.305, 281.169,281.017,280.899,280.774,280.778 ,280.782,280.787,280.797,280.805, 280.811,280.82,280.828,280.832,280.837, 280.841,280.844,280.85,280.854,280.857, 280.862,280.869,280.874,280.878,280.881 ,280.89,280.895,280.898,280.901,280.904 ,280.909,280.912,280.915,280.918, 280.923,280.926,280.93,280.933,280.936, 280.939,280.942,280.946,281.092,281.189 ,281.351,281.496,281.706,281.851, 281.996,282.158,282.287,282.481,282.587 ,282.585,282.582,282.58,282.579,282.577 ,282.576,282.575,282.573,282.572,282.57 ,282.569,282.568,282.567,282.565, 282.564,282.563,282.561,282.56,282.559, 282.557,282.556,282.555,282.553,282.552 ,282.55,282.549,282.548,282.547,282.545 ,282.543,282.542,282.541,282.54,282.536 ,282.534,282.532,282.529,282.527, 282.505)
ORBIT_NUMBER = 9492
ORBITAL_ECCENTRICITY = 0.575
ORBITAL_INCLINATION = 86.86
ORBITAL_SEMIMAJOR_AXIS = 8820.88
PERIAPSIS_ALTITUDE = 364.48
PERIAPSIS_ARGUMENT_ANGLE = 139.5
PERIAPSIS_TIME = 2011-06-09T11:55:34.000Z
SPACECRAFT_ORIENTATION = (0.0,-1.0,0.0)
^MEX_ORIENTATION_DESC = "MEX_ORIENTATION_DESC.TXT"
SPACECRAFT_POINTING_MODE = NADIR
^MEX_POINTING_DESC = "MEX_POINTING_DESC.TXT"
RIGHT_ASCENSION = -1e+32
DECLINATION = -1e+32
OFFSET_ANGLE = -1e+32
SPACECRAFT_SOLAR_DISTANCE = 2.14958e+08
TARGET_NAME = MARS
/* CAMERA DATA ELEMENTS */
DETECTOR_TEMPERATURE = 17.5549
FOCAL_PLANE_TEMPERATURE = 9.195
INST_CMPRS_NAME = "DISCRETE COSINE TRANSFORMATION (DCT)"
INST_CMPRS_RATIO = 5.32943
INST_CMPRS_QUALITY = 0
INST_CMPRS_QUANTZ_TBL_ID = 0
INSTRUMENT_TEMPERATURE = 11.4379
LENS_TEMPERATURE = 9.6028
MACROPIXEL_SIZE = 1
MISSING_FRAMES = 0
PIXEL_SUBSAMPLING_FLAG = N
SIGNAL_CHAIN_ID = 2
/* RADIOMETRIC DATA ELEMENTS */
BANDWIDTH = 180.0
CENTER_FILTER_WAVELENGTH = 677.0
RADIANCE_OFFSET = 3.63873
RADIANCE_SCALING_FACTOR = 0.018446
REFLECTANCE_SCALING_FACTOR = 0.00044468
MEX:REFLECTANCE_OFFSET = 0.0877195
/* IMAGE OBJECT DEFINITIONS */
OBJECT = IMAGE
  INTERCHANGE_FORMAT = BINARY
  LINES = 17297
  LINE_SAMPLES = 6610
  SAMPLE_TYPE = UNSIGNED_INTEGER
  SAMPLE_BITS = 8
  BANDS = 1
  BAND_STORAGE_TYPE = BAND_SEQUENTIAL
  MAXIMUM = 255
  MEAN = 101.166
  MINIMUM = 1
  STANDARD_DEVIATION = 20.5679
END_OBJECT = IMAGE
/* MAP OBJECT DEFINITIONS */
OBJECT = IMAGE_MAP_PROJECTION
  ^DATA_SET_MAP_PROJECTION_CATALOG= "DSMAP.CAT"
  A_AXIS_RADIUS = 3396.0
  B_AXIS_RADIUS = 3396.0
  C_AXIS_RADIUS = 3396.0
  CENTER_LATITUDE = 0.0
  CENTER_LONGITUDE = 282.0
  COORDINATE_SYSTEM_NAME = PLANETOGRAPHIC
  COORDINATE_SYSTEM_TYPE = "BODY-FIXED ROTATING"
  EASTERNMOST_LONGITUDE = 282.587
  FIRST_STANDARD_PARALLEL = "N/A"
  LINE_FIRST_PIXEL = 1
  LINE_LAST_PIXEL = 17297
  LINE_PROJECTION_OFFSET = 201414.0
  MAP_PROJECTION_ROTATION = 0.0
  MAP_PROJECTION_TYPE = SINUSOIDAL
  MAP_RESOLUTION = 4741.71043093333
  MAP_SCALE = 0.0125
  MAXIMUM_LATITUDE = 42.5341
  MINIMUM_LATITUDE = 38.8351
  POSITIVE_LONGITUDE_DIRECTION = EAST
  REFERENCE_LATITUDE = "N/A"
  REFERENCE_LONGITUDE = "N/A"
  SAMPLE_FIRST_PIXEL = 1
  SAMPLE_LAST_PIXEL = 6610
  SAMPLE_PROJECTION_OFFSET = 4350.0
  SECOND_STANDARD_PARALLEL = "N/A"
  WESTERNMOST_LONGITUDE = 280.774
END_OBJECT = IMAGE_MAP_PROJECTION
/* The JPEG2000 image data file associated with this label. */
OBJECT = COMPRESSED_FILE
  FILE_NAME = "H9492_0000_S13.JP2"
  RECORD_TYPE = UNDEFINED
  FILE_RECORDS = UNK
  ENCODING_TYPE = "JP2"
  INTERCHANGE_FORMAT = BINARY
  UNCOMPRESSED_FILE_NAME = "H9492_0000_S13.IMG"
  REQUIRED_STORAGE_BYTES = "114366220"
  ^DESCRIPTION = "JP2INFO.TXT"
END_OBJECT = COMPRESSED_FILE
END
