PDS_VERSION_ID = PDS3
/* FILE DATA ELEMENTS */
RECORD_TYPE = STREAM
/* POINTERS TO DATA OBJECTS */
^COMPRESSED_FILE = "H9493_0000_RE3.JP2"
/* IDENTIFICATION DATA ELEMENTS */
DATA_SET_ID = "MEX-M-HRSC-5-REFDR-MAPPROJECTED-V3.0"
DATA_SET_NAME = "MARS EXPRESS HRSC MAP PROJECTED REFDR V3.0"
DETECTOR_ID = MEX_HRSC_RED
EVENT_TYPE = "MARS-REGIONAL-MAPPING-Vo-Te-Pf"
INSTRUMENT_HOST_ID = MEX
INSTRUMENT_HOST_NAME = "MARS EXPRESS"
INSTRUMENT_ID = HRSC
INSTRUMENT_NAME = "HIGH RESOLUTION STEREO CAMERA"
MISSION_NAME = "MARS EXPRESS"
MISSION_PHASE_NAME = ME_Phase_23
PROCESSING_LEVEL_ID = 3
PRODUCT_CREATION_TIME = 2016-10-26T17:49:15.000Z
PRODUCT_ID = "H9493_0000_RE3.JP2"
RELEASE_ID = 0097
REVISION_ID = 0000
/* QUALITY DATA ELEMENTS */
DATA_QUALITY_ID = 1
DATA_QUALITY_DESC = "Data calculated based on original SPICE kernels"
/* TIME DATA ELEMENTS */
SPACECRAFT_CLOCK_START_COUNT = "1/0255725796.08246"
SPACECRAFT_CLOCK_STOP_COUNT = "1/0255726040.29472"
START_TIME = 2011-06-09T18:57:41.510Z
STOP_TIME = 2011-06-09T19:00:33.790Z
/* ORBITAL DATA ELEMENTS */
ASCENDING_NODE_LONGITUDE = 35.99
MAXIMUM_RESOLUTION = 64.8
FOOTPRINT_POINT_LATITUDE = (32.6293,32.6237,32.6178,32.6659, 32.4562,32.2468,31.9329,31.724,31.5152, 31.3068,31.0984,30.8904,30.5786,30.3711 ,30.1635,29.9564,29.6457,29.4391, 29.2327,29.0268,28.718,28.5125,28.2046, 27.9995,27.7946,27.5901,27.3853,27.1818 ,26.9778,26.7703,26.5614,26.3528, 26.1445,25.9365,25.7288,25.521,25.3097, 25.0975,24.8856,24.6738,24.4624,24.2514 ,23.9294,23.7137,23.3905,23.1754,22.851 ,22.6313,22.4124,22.1716,22.1729, 22.1738,22.1745,22.1719,22.5056,22.7254 ,23.0536,23.2686,23.4841,23.8079,24.024 ,24.2389,24.5566,24.7685,24.9807, 25.1931,25.5118,25.8237,26.0317,26.2402 ,26.4489,26.6579,26.9709,27.1749, 27.3792,27.5838,27.8906,28.0956,28.3018 ,28.5069,28.7135,28.9195,29.1261, 29.3327,29.5395,29.7465,30.0576,30.2652 ,30.4731,30.6812,30.8894,31.0979,31.411 ,31.6199,31.8291,32.0384,32.248,32.4577 ,32.6676,32.6293)
FOOTPRINT_POINT_LONGITUDE = (180.154,179.744,179.351,179.039, 179.041,179.043,179.047,179.049,179.05, 179.052,179.054,179.055,179.057,179.059 ,179.06,179.061,179.062,179.063,179.063 ,179.064,179.064,179.064,179.064, 179.064,179.064,179.064,179.064,179.063 ,179.062,179.062,179.061,179.06,179.059 ,179.058,179.057,179.056,179.054, 179.052,179.051,179.049,179.047,179.045 ,179.042,179.04,179.036,179.034,179.03, 179.027,179.024,179.147,179.627,179.9, 180.27,180.575,180.741,180.739,180.737, 180.735,180.733,180.731,180.729,180.727 ,180.725,180.723,180.722,180.72,180.717 ,180.715,180.713,180.711,180.71,180.708 ,180.705,180.704,180.702,180.7,180.697, 180.696,180.694,180.692,180.691,180.689 ,180.687,180.686,180.684,180.682, 180.679,180.677,180.675,180.674,180.672 ,180.67,180.667,180.665,180.663,180.661 ,180.659,180.657,180.654,180.154)
ORBIT_NUMBER = 9493
ORBITAL_ECCENTRICITY = 0.574
ORBITAL_INCLINATION = 86.87
ORBITAL_SEMIMAJOR_AXIS = 8811.93
PERIAPSIS_ALTITUDE = 365.02
PERIAPSIS_ARGUMENT_ANGLE = 139.32
PERIAPSIS_TIME = 2011-06-09T18:55:09.000Z
SPACECRAFT_ORIENTATION = (0.0,-1.0,0.0)
^MEX_ORIENTATION_DESC = "MEX_ORIENTATION_DESC.TXT"
SPACECRAFT_POINTING_MODE = ACROSSTRACK
^MEX_POINTING_DESC = "MEX_POINTING_DESC.TXT"
RIGHT_ASCENSION = -1e+32
DECLINATION = -1e+32
OFFSET_ANGLE = 0.18
SPACECRAFT_SOLAR_DISTANCE = 2.15005e+08
TARGET_NAME = MARS
/* CAMERA DATA ELEMENTS */
DETECTOR_TEMPERATURE = 19.5939
FOCAL_PLANE_TEMPERATURE = 9.3989
INST_CMPRS_NAME = "DISCRETE COSINE TRANSFORMATION (DCT)"
INST_CMPRS_RATIO = 14.1337
INST_CMPRS_QUALITY = 0
INST_CMPRS_QUANTZ_TBL_ID = 0
INSTRUMENT_TEMPERATURE = 11.234
LENS_TEMPERATURE = 9.6028
MACROPIXEL_SIZE = 4
MISSING_FRAMES = 0
PIXEL_SUBSAMPLING_FLAG = N
SIGNAL_CHAIN_ID = 2
/* RADIOMETRIC DATA ELEMENTS */
BANDWIDTH = 48.0
CENTER_FILTER_WAVELENGTH = 748.0
RADIANCE_OFFSET = 1.27365
RADIANCE_SCALING_FACTOR = 0.00552986
REFLECTANCE_SCALING_FACTOR = 0.000583369
MEX:REFLECTANCE_OFFSET = 0.134363
/* IMAGE OBJECT DEFINITIONS */
OBJECT = IMAGE
  INTERCHANGE_FORMAT = BINARY
  LINES = 12459
  LINE_SAMPLES = 1869
  SAMPLE_TYPE = UNSIGNED_INTEGER
  SAMPLE_BITS = 8
  BANDS = 1
  BAND_STORAGE_TYPE = BAND_SEQUENTIAL
  MAXIMUM = 255
  MEAN = 107.531
  MINIMUM = 1
  STANDARD_DEVIATION = 27.9479
END_OBJECT = IMAGE
/* MAP OBJECT DEFINITIONS */
OBJECT = IMAGE_MAP_PROJECTION
  ^DATA_SET_MAP_PROJECTION_CATALOG= "DSMAP.CAT"
  A_AXIS_RADIUS = 3396.0
  B_AXIS_RADIUS = 3396.0
  C_AXIS_RADIUS = 3396.0
  CENTER_LATITUDE = 0.0
  CENTER_LONGITUDE = 180.0
  COORDINATE_SYSTEM_NAME = PLANETOGRAPHIC
  COORDINATE_SYSTEM_TYPE = "BODY-FIXED ROTATING"
  EASTERNMOST_LONGITUDE = 180.741
  FIRST_STANDARD_PARALLEL = "N/A"
  LINE_FIRST_PIXEL = 1
  LINE_LAST_PIXEL = 12459
  LINE_PROJECTION_OFFSET = 38710.375
  MAP_PROJECTION_ROTATION = 0.0
  MAP_PROJECTION_TYPE = SINUSOIDAL
  MAP_RESOLUTION = 1185.42760773333
  MAP_SCALE = 0.05
  MAXIMUM_LATITUDE = 32.6676
  MINIMUM_LATITUDE = 22.1716
  POSITIVE_LONGITUDE_DIRECTION = EAST
  REFERENCE_LATITUDE = "N/A"
  REFERENCE_LONGITUDE = "N/A"
  SAMPLE_FIRST_PIXEL = 1
  SAMPLE_LAST_PIXEL = 1869
  SAMPLE_PROJECTION_OFFSET = 1057.625
  SECOND_STANDARD_PARALLEL = "N/A"
  WESTERNMOST_LONGITUDE = 179.024
END_OBJECT = IMAGE_MAP_PROJECTION
/* The JPEG2000 image data file associated with this label. */
OBJECT = COMPRESSED_FILE
  FILE_NAME = "H9493_0000_RE3.JP2"
  RECORD_TYPE = UNDEFINED
  FILE_RECORDS = UNK
  ENCODING_TYPE = "JP2"
  INTERCHANGE_FORMAT = BINARY
  UNCOMPRESSED_FILE_NAME = "H9493_0000_RE3.IMG"
  REQUIRED_STORAGE_BYTES = "23304561"
  ^DESCRIPTION = "JP2INFO.TXT"
END_OBJECT = COMPRESSED_FILE
END
