PDS_VERSION_ID = PDS3
/* FILE DATA ELEMENTS */
RECORD_TYPE = STREAM
/* POINTERS TO DATA OBJECTS */
^COMPRESSED_FILE = "H9496_0000_S23.JP2"
/* IDENTIFICATION DATA ELEMENTS */
DATA_SET_ID = "MEX-M-HRSC-5-REFDR-MAPPROJECTED-V3.0"
DATA_SET_NAME = "MARS EXPRESS HRSC MAP PROJECTED REFDR V3.0"
DETECTOR_ID = MEX_HRSC_S2
EVENT_TYPE = "MARS-LOCAL-STEREO-Vo-Te"
INSTRUMENT_HOST_ID = MEX
INSTRUMENT_HOST_NAME = "MARS EXPRESS"
INSTRUMENT_ID = HRSC
INSTRUMENT_NAME = "HIGH RESOLUTION STEREO CAMERA"
MISSION_NAME = "MARS EXPRESS"
MISSION_PHASE_NAME = ME_Phase_23
PROCESSING_LEVEL_ID = 3
PRODUCT_CREATION_TIME = 2016-10-26T17:49:15.000Z
PRODUCT_ID = "H9496_0000_S23.JP2"
RELEASE_ID = 0097
REVISION_ID = 0000
/* QUALITY DATA ELEMENTS */
DATA_QUALITY_ID = 1
DATA_QUALITY_DESC = "Data calculated based on original SPICE kernels"
/* TIME DATA ELEMENTS */
SPACECRAFT_CLOCK_START_COUNT = "1/0255801438.09064"
SPACECRAFT_CLOCK_STOP_COUNT = "1/0255801711.57509"
START_TIME = 2011-06-10T15:58:37.523Z
STOP_TIME = 2011-06-10T16:01:52.886Z
/* ORBITAL DATA ELEMENTS */
ASCENDING_NODE_LONGITUDE = 35.94
MAXIMUM_RESOLUTION = 18.2
FOOTPRINT_POINT_LATITUDE = (25.671,25.6683,25.6656,25.6629,25.6601 ,25.6565,25.4677,25.0596,24.8513,24.644 ,24.4352,24.2297,23.9216,23.6033, 23.2879,23.0769,22.8664,22.6523,22.4376 ,22.222,22.0067,21.7914,21.465,21.2469, 21.029,20.7007,20.4789,20.1466,19.9255, 19.7009,19.4766,19.1408,18.9152,18.6875 ,18.4603,18.2335,17.8883,17.6578, 17.4281,17.1948,16.8443,16.6113,16.3742 ,16.1378,15.902,15.6623,15.4229,15.0624 ,14.8199,14.578,14.5575,14.5561,14.5551 ,14.5545,14.554,14.5543,14.7968,15.04, 15.2818,15.5214,15.7615,16.0003,16.2354 ,16.4728,16.826,17.06,17.2937,17.5247, 17.8688,18.1019,18.4454,18.7879,19.0162 ,19.2431,19.4677,19.6923,19.9185, 20.1391,20.3606,20.5826,20.9137,21.1313 ,21.35,21.5684,21.7873,22.109,22.3234, 22.5386,22.8611,23.0719,23.2831,23.4946 ,23.7064,23.9186,24.1263,24.3339,24.646 ,24.8545,25.371,25.671)
FOOTPRINT_POINT_LONGITUDE = (233.795,233.531,233.268,233.006, 232.744,232.418,232.307,232.303,232.301 ,232.299,232.297,232.294,232.29,232.286 ,232.282,232.279,232.276,232.273,232.27 ,232.267,232.264,232.26,232.255,232.251 ,232.247,232.241,232.237,232.231, 232.226,232.222,232.217,232.209,232.204 ,232.199,232.194,232.188,232.18,232.174 ,232.168,232.162,232.152,232.146, 232.139,232.132,232.126,232.118,232.111 ,232.1,232.092,232.085,232.515,232.83, 233.144,233.479,233.816,234.083,234.081 ,234.078,234.075,234.073,234.07,234.068 ,234.065,234.063,234.059,234.057, 234.055,234.052,234.048,234.047,234.044 ,234.041,234.039,234.038,234.037, 234.035,234.033,234.031,234.029,234.028 ,234.025,234.023,234.022,234.02,234.018 ,234.016,234.014,234.012,234.009, 234.008,234.006,234.004,234.003,234.001 ,233.999,233.997,233.995,233.993, 233.989,233.795)
ORBIT_NUMBER = 9496
ORBITAL_ECCENTRICITY = 0.575
ORBITAL_INCLINATION = 86.88
ORBITAL_SEMIMAJOR_AXIS = 8819.9
PERIAPSIS_ALTITUDE = 364.4
PERIAPSIS_ARGUMENT_ANGLE = 138.77
PERIAPSIS_TIME = 2011-06-10T15:53:55.000Z
SPACECRAFT_ORIENTATION = (0.0,-1.0,0.0)
^MEX_ORIENTATION_DESC = "MEX_ORIENTATION_DESC.TXT"
SPACECRAFT_POINTING_MODE = ACROSSTRACK
^MEX_POINTING_DESC = "MEX_POINTING_DESC.TXT"
RIGHT_ASCENSION = -1e+32
DECLINATION = -1e+32
OFFSET_ANGLE = 0.25
SPACECRAFT_SOLAR_DISTANCE = 2.15149e+08
TARGET_NAME = MARS
/* CAMERA DATA ELEMENTS */
DETECTOR_TEMPERATURE = 18.3705
FOCAL_PLANE_TEMPERATURE = 8.1755
INST_CMPRS_NAME = "DISCRETE COSINE TRANSFORMATION (DCT)"
INST_CMPRS_RATIO = 6.71498
INST_CMPRS_QUALITY = 0
INST_CMPRS_QUANTZ_TBL_ID = 0
INSTRUMENT_TEMPERATURE = 11.234
LENS_TEMPERATURE = 8.5833
MACROPIXEL_SIZE = 1
MISSING_FRAMES = 0
PIXEL_SUBSAMPLING_FLAG = N
SIGNAL_CHAIN_ID = 1
/* RADIOMETRIC DATA ELEMENTS */
BANDWIDTH = 178.0
CENTER_FILTER_WAVELENGTH = 679.0
RADIANCE_OFFSET = 4.86154
RADIANCE_SCALING_FACTOR = 0.0303905
REFLECTANCE_SCALING_FACTOR = 0.000744988
MEX:REFLECTANCE_OFFSET = 0.119175
/* IMAGE OBJECT DEFINITIONS */
OBJECT = IMAGE
  INTERCHANGE_FORMAT = BINARY
  LINES = 52780
  LINE_SAMPLES = 8761
  SAMPLE_TYPE = UNSIGNED_INTEGER
  SAMPLE_BITS = 8
  BANDS = 1
  BAND_STORAGE_TYPE = BAND_SEQUENTIAL
  MAXIMUM = 255
  MEAN = 135.49
  MINIMUM = 1
  STANDARD_DEVIATION = 22.6415
END_OBJECT = IMAGE
/* MAP OBJECT DEFINITIONS */
OBJECT = IMAGE_MAP_PROJECTION
  ^DATA_SET_MAP_PROJECTION_CATALOG= "DSMAP.CAT"
  A_AXIS_RADIUS = 3396.0
  B_AXIS_RADIUS = 3396.0
  C_AXIS_RADIUS = 3396.0
  CENTER_LATITUDE = 0.0
  CENTER_LONGITUDE = 233.0
  COORDINATE_SYSTEM_NAME = PLANETOGRAPHIC
  COORDINATE_SYSTEM_TYPE = "BODY-FIXED ROTATING"
  EASTERNMOST_LONGITUDE = 234.083
  FIRST_STANDARD_PARALLEL = "N/A"
  LINE_FIRST_PIXEL = 1
  LINE_LAST_PIXEL = 52780
  LINE_PROJECTION_OFFSET = 121775.0
  MAP_PROJECTION_ROTATION = 0.0
  MAP_PROJECTION_TYPE = SINUSOIDAL
  MAP_RESOLUTION = 4741.71043093333
  MAP_SCALE = 0.0125
  MAXIMUM_LATITUDE = 25.671
  MINIMUM_LATITUDE = 14.554
  POSITIVE_LONGITUDE_DIRECTION = EAST
  REFERENCE_LATITUDE = "N/A"
  REFERENCE_LONGITUDE = "N/A"
  SAMPLE_FIRST_PIXEL = 1
  SAMPLE_LAST_PIXEL = 8761
  SAMPLE_PROJECTION_OFFSET = 3931.0
  SECOND_STANDARD_PARALLEL = "N/A"
  WESTERNMOST_LONGITUDE = 232.085
END_OBJECT = IMAGE_MAP_PROJECTION
/* The JPEG2000 image data file associated with this label. */
OBJECT = COMPRESSED_FILE
  FILE_NAME = "H9496_0000_S23.JP2"
  RECORD_TYPE = UNDEFINED
  FILE_RECORDS = UNK
  ENCODING_TYPE = "JP2"
  INTERCHANGE_FORMAT = BINARY
  UNCOMPRESSED_FILE_NAME = "H9496_0000_S23.IMG"
  REQUIRED_STORAGE_BYTES = "462440624"
  ^DESCRIPTION = "JP2INFO.TXT"
END_OBJECT = COMPRESSED_FILE
END
