PDS_VERSION_ID = PDS3
/* FILE DATA ELEMENTS */
RECORD_TYPE = STREAM
/* POINTERS TO DATA OBJECTS */
^COMPRESSED_FILE = "H9497_0000_BL3.JP2"
/* IDENTIFICATION DATA ELEMENTS */
DATA_SET_ID = "MEX-M-HRSC-5-REFDR-MAPPROJECTED-V3.0"
DATA_SET_NAME = "MARS EXPRESS HRSC MAP PROJECTED REFDR V3.0"
DETECTOR_ID = MEX_HRSC_BLUE
EVENT_TYPE = "MARS-REGIONAL-MAPPING-Te"
INSTRUMENT_HOST_ID = MEX
INSTRUMENT_HOST_NAME = "MARS EXPRESS"
INSTRUMENT_ID = HRSC
INSTRUMENT_NAME = "HIGH RESOLUTION STEREO CAMERA"
MISSION_NAME = "MARS EXPRESS"
MISSION_PHASE_NAME = ME_Phase_23
PROCESSING_LEVEL_ID = 3
PRODUCT_CREATION_TIME = 2016-10-26T17:49:15.000Z
PRODUCT_ID = "H9497_0000_BL3.JP2"
RELEASE_ID = 0097
REVISION_ID = 0000
/* QUALITY DATA ELEMENTS */
DATA_QUALITY_ID = 1
DATA_QUALITY_DESC = "Data calculated based on original SPICE kernels"
/* TIME DATA ELEMENTS */
SPACECRAFT_CLOCK_START_COUNT = "1/0255826542.09071"
SPACECRAFT_CLOCK_STOP_COUNT = "1/0255826818.42380"
START_TIME = 2011-06-10T22:56:25.577Z
STOP_TIME = 2011-06-10T22:59:39.199Z
/* ORBITAL DATA ELEMENTS */
ASCENDING_NODE_LONGITUDE = 35.91
MAXIMUM_RESOLUTION = 62.5
FOOTPRINT_POINT_LATITUDE = (30.9316,30.9296,30.926,30.8138,30.5819 ,30.3501,30.1186,29.8871,29.6558, 29.4247,29.1938,28.9629,28.7324,28.5019 ,28.2717,27.8118,27.3526,26.8942, 26.4365,26.0868,25.8525,25.6183,25.3844 ,25.1507,24.9172,24.6804,24.4413, 24.2023,23.9637,23.7253,23.4872,23.244, 23.0003,22.7569,22.5137,22.2708,22.0241 ,21.7757,21.5276,21.2799,21.0325, 20.7797,20.5269,20.2745,20.0223,19.7671 ,19.5097,19.2527,18.996,18.9343,18.9327 ,18.9308,18.9286,18.9261,18.9244, 19.1816,19.4392,19.6971,19.9542,20.2069 ,20.4597,20.713,21.0914,21.3395,21.5877 ,21.8364,22.2095,22.4527,22.6963, 22.9402,23.1843,23.5486,23.7873,24.0263 ,24.2655,24.5049,24.8634,25.0972, 25.3314,25.5657,25.8003,26.035,26.3868, 26.8452,27.3045,27.5344,27.7645,27.9948 ,28.2253,28.4559,28.6868,28.9178,29.149 ,29.3804,29.6119,29.8436,30.0755, 30.3075,30.5396,30.9316)
FOOTPRINT_POINT_LONGITUDE = (130.364,129.904,129.437,128.936,128.94 ,128.945,128.949,128.952,128.956,128.96 ,128.963,128.967,128.97,128.973,128.975 ,128.98,128.984,128.988,128.991,128.993 ,128.994,128.995,128.996,128.997, 128.997,128.997,128.998,128.998,128.998 ,128.997,128.997,128.997,128.996, 128.995,128.994,128.993,128.992,128.991 ,128.989,128.988,128.986,128.984, 128.981,128.979,128.977,128.974,128.971 ,128.968,128.965,129.428,129.692, 129.954,130.215,130.474,130.72,130.717, 130.714,130.711,130.708,130.705,130.701 ,130.698,130.693,130.69,130.687,130.684 ,130.679,130.675,130.672,130.669, 130.665,130.66,130.657,130.653,130.65, 130.646,130.641,130.637,130.634,130.63, 130.627,130.623,130.617,130.61,130.602, 130.598,130.594,130.59,130.586,130.582, 130.578,130.574,130.57,130.566,130.561, 130.557,130.553,130.548,130.544, 130.364)
ORBIT_NUMBER = 9497
ORBITAL_ECCENTRICITY = 0.574
ORBITAL_INCLINATION = 86.86
ORBITAL_SEMIMAJOR_AXIS = 8818.73
PERIAPSIS_ALTITUDE = 365.25
PERIAPSIS_ARGUMENT_ANGLE = 138.63
PERIAPSIS_TIME = 2011-06-10T22:53:38.000Z
SPACECRAFT_ORIENTATION = (0.0,-1.0,0.0)
^MEX_ORIENTATION_DESC = "MEX_ORIENTATION_DESC.TXT"
SPACECRAFT_POINTING_MODE = ACROSSTRACK
^MEX_POINTING_DESC = "MEX_POINTING_DESC.TXT"
RIGHT_ASCENSION = -1e+32
DECLINATION = -1e+32
OFFSET_ANGLE = -0.64
SPACECRAFT_SOLAR_DISTANCE = 2.15197e+08
TARGET_NAME = MARS
/* CAMERA DATA ELEMENTS */
DETECTOR_TEMPERATURE = 18.3705
FOCAL_PLANE_TEMPERATURE = 8.9911
INST_CMPRS_NAME = "DISCRETE COSINE TRANSFORMATION (DCT)"
INST_CMPRS_RATIO = 9.66111
INST_CMPRS_QUALITY = 0
INST_CMPRS_QUANTZ_TBL_ID = 0
INSTRUMENT_TEMPERATURE = 10.6223
LENS_TEMPERATURE = 9.3989
MACROPIXEL_SIZE = 4
MISSING_FRAMES = 0
PIXEL_SUBSAMPLING_FLAG = N
SIGNAL_CHAIN_ID = 2
/* RADIOMETRIC DATA ELEMENTS */
BANDWIDTH = 76.0
CENTER_FILTER_WAVELENGTH = 444.0
RADIANCE_OFFSET = 0.549864
RADIANCE_SCALING_FACTOR = 0.00194336
REFLECTANCE_SCALING_FACTOR = 9.24664e-05
MEX:REFLECTANCE_OFFSET = 0.0261629
/* IMAGE OBJECT DEFINITIONS */
OBJECT = IMAGE
  INTERCHANGE_FORMAT = BINARY
  LINES = 14247
  LINE_SAMPLES = 2035
  SAMPLE_TYPE = UNSIGNED_INTEGER
  SAMPLE_BITS = 8
  BANDS = 1
  BAND_STORAGE_TYPE = BAND_SEQUENTIAL
  MAXIMUM = 255
  MEAN = 134.47
  MINIMUM = 1
  STANDARD_DEVIATION = 24.6359
END_OBJECT = IMAGE
/* MAP OBJECT DEFINITIONS */
OBJECT = IMAGE_MAP_PROJECTION
  ^DATA_SET_MAP_PROJECTION_CATALOG= "DSMAP.CAT"
  A_AXIS_RADIUS = 3396.0
  B_AXIS_RADIUS = 3396.0
  C_AXIS_RADIUS = 3396.0
  CENTER_LATITUDE = 0.0
  CENTER_LONGITUDE = 130.0
  COORDINATE_SYSTEM_NAME = PLANETOGRAPHIC
  COORDINATE_SYSTEM_TYPE = "BODY-FIXED ROTATING"
  EASTERNMOST_LONGITUDE = 130.72
  FIRST_STANDARD_PARALLEL = "N/A"
  LINE_FIRST_PIXEL = 1
  LINE_LAST_PIXEL = 14247
  LINE_PROJECTION_OFFSET = 36682.625
  MAP_PROJECTION_ROTATION = 0.0
  MAP_PROJECTION_TYPE = SINUSOIDAL
  MAP_RESOLUTION = 1185.42760773333
  MAP_SCALE = 0.05
  MAXIMUM_LATITUDE = 30.9316
  MINIMUM_LATITUDE = 18.9244
  POSITIVE_LONGITUDE_DIRECTION = EAST
  REFERENCE_LATITUDE = "N/A"
  REFERENCE_LONGITUDE = "N/A"
  SAMPLE_FIRST_PIXEL = 1
  SAMPLE_LAST_PIXEL = 2035
  SAMPLE_PROJECTION_OFFSET = 1228.625
  SECOND_STANDARD_PARALLEL = "N/A"
  WESTERNMOST_LONGITUDE = 128.936
END_OBJECT = IMAGE_MAP_PROJECTION
/* The JPEG2000 image data file associated with this label. */
OBJECT = COMPRESSED_FILE
  FILE_NAME = "H9497_0000_BL3.JP2"
  RECORD_TYPE = UNDEFINED
  FILE_RECORDS = UNK
  ENCODING_TYPE = "JP2"
  INTERCHANGE_FORMAT = BINARY
  UNCOMPRESSED_FILE_NAME = "H9497_0000_BL3.IMG"
  REQUIRED_STORAGE_BYTES = "29012995"
  ^DESCRIPTION = "JP2INFO.TXT"
END_OBJECT = COMPRESSED_FILE
END
