PDS_VERSION_ID = PDS3
/* FILE DATA ELEMENTS */
RECORD_TYPE = STREAM
/* POINTERS TO DATA OBJECTS */
^COMPRESSED_FILE = "H9497_0000_P13.JP2"
/* IDENTIFICATION DATA ELEMENTS */
DATA_SET_ID = "MEX-M-HRSC-5-REFDR-MAPPROJECTED-V3.0"
DATA_SET_NAME = "MARS EXPRESS HRSC MAP PROJECTED REFDR V3.0"
DETECTOR_ID = MEX_HRSC_P1
EVENT_TYPE = "MARS-REGIONAL-MAPPING-Te"
INSTRUMENT_HOST_ID = MEX
INSTRUMENT_HOST_NAME = "MARS EXPRESS"
INSTRUMENT_ID = HRSC
INSTRUMENT_NAME = "HIGH RESOLUTION STEREO CAMERA"
MISSION_NAME = "MARS EXPRESS"
MISSION_PHASE_NAME = ME_Phase_23
PROCESSING_LEVEL_ID = 3
PRODUCT_CREATION_TIME = 2016-10-26T17:49:15.000Z
PRODUCT_ID = "H9497_0000_P13.JP2"
RELEASE_ID = 0097
REVISION_ID = 0000
/* QUALITY DATA ELEMENTS */
DATA_QUALITY_ID = 1
DATA_QUALITY_DESC = "Data calculated based on original SPICE kernels"
/* TIME DATA ELEMENTS */
SPACECRAFT_CLOCK_START_COUNT = "1/0255826542.09071"
SPACECRAFT_CLOCK_STOP_COUNT = "1/0255826818.42380"
START_TIME = 2011-06-10T22:55:56.658Z
STOP_TIME = 2011-06-10T22:59:03.388Z
/* ORBITAL DATA ELEMENTS */
ASCENDING_NODE_LONGITUDE = 35.91
MAXIMUM_RESOLUTION = 31.4
FOOTPRINT_POINT_LATITUDE = (30.9796,30.972,30.9639,30.9551,30.9456 ,30.9353,30.7707,30.5358,30.1834, 29.9485,29.7137,29.4789,29.2442,29.0095 ,28.7746,28.5401,28.3053,27.9532, 27.7187,27.367,27.1325,26.8982,26.664, 26.4297,26.0783,25.8443,25.4933,25.1425 ,24.9088,24.5582,24.2048,23.9652, 23.6059,23.3664,23.1272,22.7684,22.5237 ,22.2787,22.0336,21.7888,21.5442, 21.2989,21.0481,20.7976,20.5472,20.2969 ,20.0469,19.791,19.535,19.2792,18.8957, 18.9004,18.9061,18.9121,18.9185,19.0528 ,19.3088,19.5651,19.8215,20.0778, 20.3283,20.5792,20.9557,21.2067,21.4558 ,21.8237,22.0688,22.3143,22.56,22.8052, 23.0447,23.2842,23.5241,23.884,24.1239, 24.4813,24.7154,25.0667,25.3008,25.6524 ,26.0041,26.2387,26.4733,26.8254, 27.0601,27.2949,27.5299,27.7647,27.9998 ,28.2349,28.5875,28.8225,29.0578, 29.4106,29.7636,29.9989,30.3522,30.5878 ,30.8231,30.9796)
FOOTPRINT_POINT_LONGITUDE = (130.345,130.11,129.873,129.634,129.394 ,129.151,128.941,128.946,128.953, 128.957,128.962,128.966,128.97,128.973, 128.977,128.98,128.983,128.988,128.99, 128.994,128.997,128.999,129.001,129.003 ,129.005,129.007,129.009,129.01,129.011 ,129.012,129.013,129.014,129.014, 129.014,129.014,129.013,129.013,129.012 ,129.011,129.01,129.01,129.008,129.007, 129.006,129.004,129.002,129.0,128.998, 128.996,128.993,128.989,129.455,129.703 ,129.981,130.323,130.683,130.68,130.678 ,130.675,130.673,130.67,130.667,130.663 ,130.661,130.658,130.654,130.651, 130.648,130.645,130.642,130.639,130.637 ,130.634,130.629,130.626,130.622, 130.618,130.614,130.611,130.606,130.601 ,130.598,130.594,130.589,130.586, 130.582,130.579,130.575,130.571,130.568 ,130.562,130.558,130.554,130.548, 130.542,130.538,130.532,130.528,130.524 ,130.345)
ORBIT_NUMBER = 9497
ORBITAL_ECCENTRICITY = 0.574
ORBITAL_INCLINATION = 86.86
ORBITAL_SEMIMAJOR_AXIS = 8818.73
PERIAPSIS_ALTITUDE = 365.25
PERIAPSIS_ARGUMENT_ANGLE = 138.63
PERIAPSIS_TIME = 2011-06-10T22:53:38.000Z
SPACECRAFT_ORIENTATION = (0.0,-1.0,0.0)
^MEX_ORIENTATION_DESC = "MEX_ORIENTATION_DESC.TXT"
SPACECRAFT_POINTING_MODE = ACROSSTRACK
^MEX_POINTING_DESC = "MEX_POINTING_DESC.TXT"
RIGHT_ASCENSION = -1e+32
DECLINATION = -1e+32
OFFSET_ANGLE = -0.64
SPACECRAFT_SOLAR_DISTANCE = 2.15197e+08
TARGET_NAME = MARS
/* CAMERA DATA ELEMENTS */
DETECTOR_TEMPERATURE = 17.351
FOCAL_PLANE_TEMPERATURE = 8.9911
INST_CMPRS_NAME = "DISCRETE COSINE TRANSFORMATION (DCT)"
INST_CMPRS_RATIO = 8.3316
INST_CMPRS_QUALITY = 0
INST_CMPRS_QUANTZ_TBL_ID = 0
INSTRUMENT_TEMPERATURE = 10.6223
LENS_TEMPERATURE = 9.3989
MACROPIXEL_SIZE = 2
MISSING_FRAMES = 0
PIXEL_SUBSAMPLING_FLAG = N
SIGNAL_CHAIN_ID = 3
/* RADIOMETRIC DATA ELEMENTS */
BANDWIDTH = 174.0
CENTER_FILTER_WAVELENGTH = 675.0
RADIANCE_OFFSET = 3.93929
RADIANCE_SCALING_FACTOR = 0.0190528
REFLECTANCE_SCALING_FACTOR = 0.000474588
MEX:REFLECTANCE_OFFSET = 0.0981243
/* IMAGE OBJECT DEFINITIONS */
OBJECT = IMAGE
  INTERCHANGE_FORMAT = BINARY
  LINES = 28493
  LINE_SAMPLES = 4069
  SAMPLE_TYPE = UNSIGNED_INTEGER
  SAMPLE_BITS = 8
  BANDS = 1
  BAND_STORAGE_TYPE = BAND_SEQUENTIAL
  MAXIMUM = 255
  MEAN = 122.559
  MINIMUM = 1
  STANDARD_DEVIATION = 38.7267
END_OBJECT = IMAGE
/* MAP OBJECT DEFINITIONS */
OBJECT = IMAGE_MAP_PROJECTION
  ^DATA_SET_MAP_PROJECTION_CATALOG= "DSMAP.CAT"
  A_AXIS_RADIUS = 3396.0
  B_AXIS_RADIUS = 3396.0
  C_AXIS_RADIUS = 3396.0
  CENTER_LATITUDE = 0.0
  CENTER_LONGITUDE = 130.0
  COORDINATE_SYSTEM_NAME = PLANETOGRAPHIC
  COORDINATE_SYSTEM_TYPE = "BODY-FIXED ROTATING"
  EASTERNMOST_LONGITUDE = 130.683
  FIRST_STANDARD_PARALLEL = "N/A"
  LINE_FIRST_PIXEL = 1
  LINE_LAST_PIXEL = 28493
  LINE_PROJECTION_OFFSET = 73365.75
  MAP_PROJECTION_ROTATION = 0.0
  MAP_PROJECTION_TYPE = SINUSOIDAL
  MAP_RESOLUTION = 2370.85521546667
  MAP_SCALE = 0.025
  MAXIMUM_LATITUDE = 30.9796
  MINIMUM_LATITUDE = 18.8957
  POSITIVE_LONGITUDE_DIRECTION = EAST
  REFERENCE_LATITUDE = "N/A"
  REFERENCE_LONGITUDE = "N/A"
  SAMPLE_FIRST_PIXEL = 1
  SAMPLE_LAST_PIXEL = 4069
  SAMPLE_PROJECTION_OFFSET = 2457.75
  SECOND_STANDARD_PARALLEL = "N/A"
  WESTERNMOST_LONGITUDE = 128.941
END_OBJECT = IMAGE_MAP_PROJECTION
/* The JPEG2000 image data file associated with this label. */
OBJECT = COMPRESSED_FILE
  FILE_NAME = "H9497_0000_P13.JP2"
  RECORD_TYPE = UNDEFINED
  FILE_RECORDS = UNK
  ENCODING_TYPE = "JP2"
  INTERCHANGE_FORMAT = BINARY
  UNCOMPRESSED_FILE_NAME = "H9497_0000_P13.IMG"
  REQUIRED_STORAGE_BYTES = "115962431"
  ^DESCRIPTION = "JP2INFO.TXT"
END_OBJECT = COMPRESSED_FILE
END
