PDS_VERSION_ID = PDS3
/* FILE DATA ELEMENTS */
RECORD_TYPE = STREAM
/* POINTERS TO DATA OBJECTS */
^COMPRESSED_FILE = "H9501_0001_S13.JP2"
/* IDENTIFICATION DATA ELEMENTS */
DATA_SET_ID = "MEX-M-HRSC-5-REFDR-MAPPROJECTED-V3.0"
DATA_SET_NAME = "MARS EXPRESS HRSC MAP PROJECTED REFDR V3.0"
DETECTOR_ID = MEX_HRSC_S1
EVENT_TYPE = "MARS-REGIONAL-MAPPING-Vo-Im-Fl"
INSTRUMENT_HOST_ID = MEX
INSTRUMENT_HOST_NAME = "MARS EXPRESS"
INSTRUMENT_ID = HRSC
INSTRUMENT_NAME = "HIGH RESOLUTION STEREO CAMERA"
MISSION_NAME = "MARS EXPRESS"
MISSION_PHASE_NAME = ME_Phase_23
PROCESSING_LEVEL_ID = 3
PRODUCT_CREATION_TIME = 2016-10-26T17:49:15.000Z
PRODUCT_ID = "H9501_0001_S13.JP2"
RELEASE_ID = 0097
REVISION_ID = 0000
/* QUALITY DATA ELEMENTS */
DATA_QUALITY_ID = 1
DATA_QUALITY_DESC = "Data calculated based on original SPICE kernels"
/* TIME DATA ELEMENTS */
SPACECRAFT_CLOCK_START_COUNT = "1/0255927772.08253"
SPACECRAFT_CLOCK_STOP_COUNT = "1/0255928124.32949"
START_TIME = 2011-06-12T03:02:55.163Z
STOP_TIME = 2011-06-12T03:04:50.555Z
/* ORBITAL DATA ELEMENTS */
ASCENDING_NODE_LONGITUDE = 35.83
MAXIMUM_RESOLUTION = 59.4
FOOTPRINT_POINT_LATITUDE = (-1.44645,-1.44322,-1.44017,-1.43729, -1.43467,-1.43226,-1.43065,-1.42867, -1.42694,-1.42543,-1.4242,-1.42316, -1.42235,-1.54834,-1.68686,-1.82511, -1.9638,-2.102,-2.23985,-2.37771, -2.51565,-2.65255,-2.79014,-2.9267, -3.06416,-3.20107,-3.33845,-3.47664, -3.6135,-3.74888,-3.88519,-4.08918, -4.22541,-4.42919,-4.63177,-4.76944, -4.97447,-5.24159,-5.4446,-5.6465, -5.84982,-5.98599,-6.18719,-6.45693, -6.65936,-6.99407,-7.26228,-7.52947, -7.92966,-8.19626,-8.20777,-8.2101, -8.21252,-8.21442,-8.2155,-8.21699, -8.21966,-8.22384,-8.22863,-8.23522, -8.23978,-8.24332,-8.24471,-8.24823, -8.11577,-7.85009,-7.51672,-7.31532, -7.11452,-6.84563,-6.57616,-6.37401, -6.23852,-5.9687,-5.76482,-5.62805, -5.49249,-5.28925,-5.01797,-4.88172, -4.67489,-4.53581,-4.33215,-4.19637, -4.05945,-3.92223,-3.78445,-3.58079, -3.37371,-3.16721,-3.02943,-2.89285, -2.75437,-2.54875,-2.41169,-2.20597, -2.06552,-1.92634,-1.65748,-1.44645)
FOOTPRINT_POINT_LONGITUDE = (81.9695,81.7797,81.5899,81.3999, 81.2098,81.0195,80.8766,80.6861,80.4955 ,80.3046,80.1133,79.9216,79.7296, 79.5993,79.5918,79.5843,79.5765,79.5689 ,79.5613,79.5537,79.546,79.5386,79.5308 ,79.5234,79.5156,79.5079,79.4999, 79.4916,79.4837,79.4763,79.4685,79.4568 ,79.4488,79.4369,79.4253,79.4165, 79.4037,79.3888,79.3764,79.3642,79.3514 ,79.3424,79.3301,79.3129,79.2997, 79.2784,79.2608,79.2434,79.2169,79.1989 ,79.3683,79.5959,79.7947,79.9364, 80.0782,80.3329,80.4739,80.6995,80.9816 ,81.2071,81.4324,81.6294,81.7979, 82.0227,82.1157,82.1134,82.1105,82.1085 ,82.1068,82.1043,82.1018,82.1,82.0987, 82.0964,82.0945,82.0931,82.0919,82.0903 ,82.0882,82.087,82.0848,82.0831,82.0817 ,82.0808,82.0797,82.0785,82.0773, 82.0762,82.0743,82.0727,82.0716,82.0709 ,82.0697,82.0685,82.0677,82.0665, 82.0651,82.0639,82.0638,81.9695)
ORBIT_NUMBER = 9501
ORBITAL_ECCENTRICITY = 0.575
ORBITAL_INCLINATION = 86.88
ORBITAL_SEMIMAJOR_AXIS = 8819.18
PERIAPSIS_ALTITUDE = 364.73
PERIAPSIS_ARGUMENT_ANGLE = 137.92
PERIAPSIS_TIME = 2011-06-12T02:52:08.000Z
SPACECRAFT_ORIENTATION = (0.0,-1.0,0.0)
^MEX_ORIENTATION_DESC = "MEX_ORIENTATION_DESC.TXT"
SPACECRAFT_POINTING_MODE = ACROSSTRACK
^MEX_POINTING_DESC = "MEX_POINTING_DESC.TXT"
RIGHT_ASCENSION = -1e+32
DECLINATION = -1e+32
OFFSET_ANGLE = -0.269
SPACECRAFT_SOLAR_DISTANCE = 2.15391e+08
TARGET_NAME = MARS
/* CAMERA DATA ELEMENTS */
DETECTOR_TEMPERATURE = 19.1861
FOCAL_PLANE_TEMPERATURE = 8.3794
INST_CMPRS_NAME = "DISCRETE COSINE TRANSFORMATION (DCT)"
INST_CMPRS_RATIO = 9.64514
INST_CMPRS_QUALITY = 0
INST_CMPRS_QUANTZ_TBL_ID = 0
INSTRUMENT_TEMPERATURE = 13.4769
LENS_TEMPERATURE = 8.9911
MACROPIXEL_SIZE = 2
MISSING_FRAMES = 0
PIXEL_SUBSAMPLING_FLAG = N
SIGNAL_CHAIN_ID = 1
/* RADIOMETRIC DATA ELEMENTS */
BANDWIDTH = 180.0
CENTER_FILTER_WAVELENGTH = 677.0
RADIANCE_OFFSET = 3.52589
RADIANCE_SCALING_FACTOR = 0.0222316
REFLECTANCE_SCALING_FACTOR = 0.000538113
MEX:REFLECTANCE_OFFSET = 0.0853434
/* IMAGE OBJECT DEFINITIONS */
OBJECT = IMAGE
  INTERCHANGE_FORMAT = BINARY
  LINES = 8160
  LINE_SAMPLES = 3938
  SAMPLE_TYPE = UNSIGNED_INTEGER
  SAMPLE_BITS = 8
  BANDS = 1
  BAND_STORAGE_TYPE = BAND_SEQUENTIAL
  MAXIMUM = 255
  MEAN = 113.847
  MINIMUM = 1
  STANDARD_DEVIATION = 29.046
END_OBJECT = IMAGE
/* MAP OBJECT DEFINITIONS */
OBJECT = IMAGE_MAP_PROJECTION
  ^DATA_SET_MAP_PROJECTION_CATALOG= "DSMAP.CAT"
  A_AXIS_RADIUS = 3396.0
  B_AXIS_RADIUS = 3396.0
  C_AXIS_RADIUS = 3396.0
  CENTER_LATITUDE = 0.0
  CENTER_LONGITUDE = 81.0
  COORDINATE_SYSTEM_NAME = PLANETOGRAPHIC
  COORDINATE_SYSTEM_TYPE = "BODY-FIXED ROTATING"
  EASTERNMOST_LONGITUDE = 82.1157
  FIRST_STANDARD_PARALLEL = "N/A"
  LINE_FIRST_PIXEL = 1
  LINE_LAST_PIXEL = 8160
  LINE_PROJECTION_OFFSET = -1625.25
  MAP_PROJECTION_ROTATION = 0.0
  MAP_PROJECTION_TYPE = SINUSOIDAL
  MAP_RESOLUTION = 1185.42760773333
  MAP_SCALE = 0.05
  MAXIMUM_LATITUDE = -1.42235
  MINIMUM_LATITUDE = -8.24823
  POSITIVE_LONGITUDE_DIRECTION = EAST
  REFERENCE_LATITUDE = "N/A"
  REFERENCE_LONGITUDE = "N/A"
  SAMPLE_FIRST_PIXEL = 1
  SAMPLE_LAST_PIXEL = 3938
  SAMPLE_PROJECTION_OFFSET = 2379.25
  SECOND_STANDARD_PARALLEL = "N/A"
  WESTERNMOST_LONGITUDE = 79.19889999999999
END_OBJECT = IMAGE_MAP_PROJECTION
/* The JPEG2000 image data file associated with this label. */
OBJECT = COMPRESSED_FILE
  FILE_NAME = "H9501_0001_S13.JP2"
  RECORD_TYPE = UNDEFINED
  FILE_RECORDS = UNK
  ENCODING_TYPE = "JP2"
  INTERCHANGE_FORMAT = BINARY
  UNCOMPRESSED_FILE_NAME = "H9501_0001_S13.IMG"
  REQUIRED_STORAGE_BYTES = "32157708"
  ^DESCRIPTION = "JP2INFO.TXT"
END_OBJECT = COMPRESSED_FILE
END
