PDS_VERSION_ID = PDS3
/* FILE DATA ELEMENTS */
RECORD_TYPE = STREAM
/* POINTERS TO DATA OBJECTS */
^COMPRESSED_FILE = "H9520_0000_ND3.JP2"
/* IDENTIFICATION DATA ELEMENTS */
DATA_SET_ID = "MEX-M-HRSC-5-REFDR-MAPPROJECTED-V3.0"
DATA_SET_NAME = "MARS EXPRESS HRSC MAP PROJECTED REFDR V3.0"
DETECTOR_ID = MEX_HRSC_NADIR
EVENT_TYPE = "MARS-REGIONAL-MAPPING-Vo-Te-Fl"
INSTRUMENT_HOST_ID = MEX
INSTRUMENT_HOST_NAME = "MARS EXPRESS"
INSTRUMENT_ID = HRSC
INSTRUMENT_NAME = "HIGH RESOLUTION STEREO CAMERA"
MISSION_NAME = "MARS EXPRESS"
MISSION_PHASE_NAME = ME_Phase_23
PROCESSING_LEVEL_ID = 3
PRODUCT_CREATION_TIME = 2016-10-26T17:49:15.000Z
PRODUCT_ID = "H9520_0000_ND3.JP2"
RELEASE_ID = 0097
REVISION_ID = 0000
/* QUALITY DATA ELEMENTS */
DATA_QUALITY_ID = 1
DATA_QUALITY_DESC = "Data calculated based on original SPICE kernels"
/* TIME DATA ELEMENTS */
SPACECRAFT_CLOCK_START_COUNT = "1/0256405549.07314"
SPACECRAFT_CLOCK_STOP_COUNT = "1/0256405761.64818"
START_TIME = 2011-06-17T15:46:25.491Z
STOP_TIME = 2011-06-17T15:48:44.498Z
/* ORBITAL DATA ELEMENTS */
ASCENDING_NODE_LONGITUDE = 35.48
MAXIMUM_RESOLUTION = 14.8
FOOTPRINT_POINT_LATITUDE = (40.9456,40.9378,40.9319,40.9244, 40.6955,40.3734,40.1933,40.0133,39.8333 ,39.6534,39.4735,39.2936,39.1138, 38.9341,38.7543,38.5746,38.395,38.2154, 38.0358,37.8563,37.6769,37.4975,37.3181 ,37.1388,36.9596,36.7804,36.6013, 36.4222,36.2432,36.0643,35.8854,35.7066 ,35.5279,35.3492,35.1706,34.9921, 34.8136,34.6352,34.4569,34.2787,34.1005 ,33.9224,33.7444,33.5665,33.2109, 32.8556,32.5007,32.1461,32.0506,32.0535 ,32.0559,32.0585,32.0607,32.1504, 32.5056,32.8612,33.0391,33.2171,33.3952 ,33.5734,33.7517,33.93,34.1084,34.2869, 34.4655,34.6442,34.8229,35.0017,35.1806 ,35.3595,35.5385,35.7176,35.8968,36.076 ,36.2553,36.4346,36.614,36.7935,36.973, 37.1526,37.3323,37.512,37.6918,37.8716, 38.0514,38.2313,38.4113,38.5913,38.7714 ,38.9515,39.1317,39.3119,39.4921, 39.6724,39.8527,40.0331,40.2135,40.5672 ,40.8698,40.9456)
FOOTPRINT_POINT_LONGITUDE = (298.039,297.611,297.331,297.017, 296.898,296.91,296.917,296.924,296.931, 296.938,296.944,296.951,296.957,296.963 ,296.969,296.975,296.98,296.986,296.992 ,296.997,297.002,297.007,297.012, 297.017,297.022,297.026,297.031,297.036 ,297.04,297.044,297.048,297.052,297.056 ,297.06,297.063,297.067,297.07,297.074, 297.077,297.08,297.083,297.086,297.089, 297.092,297.097,297.102,297.106,297.11, 297.356,297.601,297.829,298.139,298.531 ,298.767,298.762,298.757,298.754, 298.751,298.749,298.746,298.744,298.741 ,298.738,298.736,298.733,298.73,298.727 ,298.724,298.721,298.718,298.715, 298.712,298.709,298.706,298.703,298.699 ,298.696,298.693,298.69,298.687,298.683 ,298.68,298.676,298.673,298.668,298.665 ,298.661,298.658,298.654,298.65,298.647 ,298.642,298.639,298.635,298.631, 298.627,298.623,298.615,298.608, 298.039)
ORBIT_NUMBER = 9520
ORBITAL_ECCENTRICITY = 0.574
ORBITAL_INCLINATION = 86.87
ORBITAL_SEMIMAJOR_AXIS = 8808.47
PERIAPSIS_ALTITUDE = 367.87
PERIAPSIS_ARGUMENT_ANGLE = 134.65
PERIAPSIS_TIME = 2011-06-17T15:45:18.000Z
SPACECRAFT_ORIENTATION = (0.0,-1.0,0.0)
^MEX_ORIENTATION_DESC = "MEX_ORIENTATION_DESC.TXT"
SPACECRAFT_POINTING_MODE = NADIR
^MEX_POINTING_DESC = "MEX_POINTING_DESC.TXT"
RIGHT_ASCENSION = -1e+32
DECLINATION = -1e+32
OFFSET_ANGLE = -1e+32
SPACECRAFT_SOLAR_DISTANCE = 2.16329e+08
TARGET_NAME = MARS
/* CAMERA DATA ELEMENTS */
DETECTOR_TEMPERATURE = 18.3705
FOCAL_PLANE_TEMPERATURE = 8.7872
INST_CMPRS_NAME = "DISCRETE COSINE TRANSFORMATION (DCT)"
INST_CMPRS_RATIO = 5.20039
INST_CMPRS_QUALITY = 0
INST_CMPRS_QUANTZ_TBL_ID = 0
INSTRUMENT_TEMPERATURE = 11.4379
LENS_TEMPERATURE = 8.9911
MACROPIXEL_SIZE = 1
MISSING_FRAMES = 0
PIXEL_SUBSAMPLING_FLAG = N
SIGNAL_CHAIN_ID = 0
/* RADIOMETRIC DATA ELEMENTS */
BANDWIDTH = 177.0
CENTER_FILTER_WAVELENGTH = 677.5
RADIANCE_OFFSET = 2.5117
RADIANCE_SCALING_FACTOR = 0.0303437
REFLECTANCE_SCALING_FACTOR = 0.000754367
MEX:REFLECTANCE_OFFSET = 0.0624427
/* IMAGE OBJECT DEFINITIONS */
OBJECT = IMAGE
  INTERCHANGE_FORMAT = BINARY
  LINES = 42235
  LINE_SAMPLES = 7245
  SAMPLE_TYPE = UNSIGNED_INTEGER
  SAMPLE_BITS = 8
  BANDS = 1
  BAND_STORAGE_TYPE = BAND_SEQUENTIAL
  MAXIMUM = 255
  MEAN = 83.7357
  MINIMUM = 1
  STANDARD_DEVIATION = 22.2646
END_OBJECT = IMAGE
/* MAP OBJECT DEFINITIONS */
OBJECT = IMAGE_MAP_PROJECTION
  ^DATA_SET_MAP_PROJECTION_CATALOG= "DSMAP.CAT"
  A_AXIS_RADIUS = 3396.0
  B_AXIS_RADIUS = 3396.0
  C_AXIS_RADIUS = 3396.0
  CENTER_LATITUDE = 0.0
  CENTER_LONGITUDE = 298.0
  COORDINATE_SYSTEM_NAME = PLANETOGRAPHIC
  COORDINATE_SYSTEM_TYPE = "BODY-FIXED ROTATING"
  EASTERNMOST_LONGITUDE = 298.767
  FIRST_STANDARD_PARALLEL = "N/A"
  LINE_FIRST_PIXEL = 1
  LINE_LAST_PIXEL = 42235
  LINE_PROJECTION_OFFSET = 194192.0
  MAP_PROJECTION_ROTATION = 0.0
  MAP_PROJECTION_TYPE = SINUSOIDAL
  MAP_RESOLUTION = 4741.71043093333
  MAP_SCALE = 0.0125
  MAXIMUM_LATITUDE = 40.9456
  MINIMUM_LATITUDE = 32.0506
  POSITIVE_LONGITUDE_DIRECTION = EAST
  REFERENCE_LATITUDE = "N/A"
  REFERENCE_LONGITUDE = "N/A"
  SAMPLE_FIRST_PIXEL = 1
  SAMPLE_LAST_PIXEL = 7245
  SAMPLE_PROJECTION_OFFSET = 4057.0
  SECOND_STANDARD_PARALLEL = "N/A"
  WESTERNMOST_LONGITUDE = 296.898
END_OBJECT = IMAGE_MAP_PROJECTION
/* The JPEG2000 image data file associated with this label. */
OBJECT = COMPRESSED_FILE
  FILE_NAME = "H9520_0000_ND3.JP2"
  RECORD_TYPE = UNDEFINED
  FILE_RECORDS = UNK
  ENCODING_TYPE = "JP2"
  INTERCHANGE_FORMAT = BINARY
  UNCOMPRESSED_FILE_NAME = "H9520_0000_ND3.IMG"
  REQUIRED_STORAGE_BYTES = "306021555"
  ^DESCRIPTION = "JP2INFO.TXT"
END_OBJECT = COMPRESSED_FILE
END
