PDS_VERSION_ID = PDS3
/* FILE DATA ELEMENTS */
RECORD_TYPE = STREAM
/* POINTERS TO DATA OBJECTS */
^COMPRESSED_FILE = "H9526_0000_S23.JP2"
/* IDENTIFICATION DATA ELEMENTS */
DATA_SET_ID = "MEX-M-HRSC-5-REFDR-MAPPROJECTED-V3.0"
DATA_SET_NAME = "MARS EXPRESS HRSC MAP PROJECTED REFDR V3.0"
DETECTOR_ID = MEX_HRSC_S2
EVENT_TYPE = "MARS-REGIONAL-MAPPING-Im-Fl-Mw"
INSTRUMENT_HOST_ID = MEX
INSTRUMENT_HOST_NAME = "MARS EXPRESS"
INSTRUMENT_ID = HRSC
INSTRUMENT_NAME = "HIGH RESOLUTION STEREO CAMERA"
MISSION_NAME = "MARS EXPRESS"
MISSION_PHASE_NAME = ME_Phase_23
PROCESSING_LEVEL_ID = 3
PRODUCT_CREATION_TIME = 2016-10-26T17:49:15.000Z
PRODUCT_ID = "H9526_0000_S23.JP2"
RELEASE_ID = 0097
REVISION_ID = 0000
/* QUALITY DATA ELEMENTS */
DATA_QUALITY_ID = 1
DATA_QUALITY_DESC = "Data calculated based on original SPICE kernels"
/* TIME DATA ELEMENTS */
SPACECRAFT_CLOCK_START_COUNT = "1/0256556632.08259"
SPACECRAFT_CLOCK_STOP_COUNT = "1/0256556881.49654"
START_TIME = 2011-06-19T09:45:03.148Z
STOP_TIME = 2011-06-19T09:48:02.799Z
/* ORBITAL DATA ELEMENTS */
ASCENDING_NODE_LONGITUDE = 35.36
MAXIMUM_RESOLUTION = 32.5
FOOTPRINT_POINT_LATITUDE = (41.1467,41.1438,41.1389,41.1337, 41.1282,41.1235,41.1744,40.8407,40.6157 ,40.3862,40.0411,39.8164,39.4796, 39.1433,38.8044,38.5802,38.3575,38.0244 ,37.8024,37.4735,37.1367,36.9164, 36.6958,36.475,36.145,35.9244,35.7046, 35.3749,35.1553,34.8278,34.6095,34.2822 ,33.9559,33.6305,33.3056,32.9821, 32.7658,32.5506,32.3356,32.1207,31.9063 ,31.6913,31.3694,31.1566,30.9422, 30.7297,30.5164,30.1986,30.1733,30.1746 ,30.1772,30.1798,30.1835,30.1857, 30.1874,30.1886,30.1903,30.4029,30.8287 ,31.1494,31.363,31.5769,31.8989,32.1141 ,32.4363,32.6518,32.8674,33.0837, 33.3007,33.6254,33.8422,34.0601,34.277, 34.4951,34.7136,34.9319,35.1521,35.4821 ,35.81,36.0292,36.2502,36.4715,36.6925, 36.9144,37.2471,37.4693,37.8026,38.1359 ,38.4806,38.8181,39.1594,39.4936, 39.7176,39.9454,40.1708,40.3924,40.6192 ,40.9685,41.1982,41.1467)
FOOTPRINT_POINT_LONGITUDE = (44.8577,44.6899,44.4217,44.1538, 43.8866,43.6697,43.2745,43.2854,43.2935 ,43.303,43.3173,43.3248,43.3356,43.3459 ,43.3568,43.3633,43.3692,43.3775, 43.3829,43.3893,43.3983,43.4026,43.407, 43.4114,43.4174,43.4215,43.4252,43.4307 ,43.4342,43.4387,43.4415,43.4457, 43.4494,43.4526,43.4556,43.458,43.4597, 43.461,43.4623,43.4634,43.4644,43.4655, 43.4669,43.4672,43.468,43.4682,43.4686, 43.4684,43.6404,43.8997,44.124,44.4523, 44.5912,44.7475,44.9559,45.0951,45.2581 ,45.2549,45.2484,45.2436,45.2402, 45.2367,45.2316,45.2282,45.2227,45.219, 45.2153,45.2117,45.2081,45.2023,45.1983 ,45.1946,45.1903,45.1864,45.1825, 45.1783,45.1748,45.169,45.162,45.1575, 45.1534,45.1494,45.145,45.1409,45.1344, 45.1299,45.123,45.1158,45.1129,45.1067, 45.1017,45.0934,45.0881,45.0843,45.0793 ,45.0725,45.0678,45.0643,45.0604, 44.8577)
ORBIT_NUMBER = 9526
ORBITAL_ECCENTRICITY = 0.574
ORBITAL_INCLINATION = 86.87
ORBITAL_SEMIMAJOR_AXIS = 8810.41
PERIAPSIS_ALTITUDE = 368.58
PERIAPSIS_ARGUMENT_ANGLE = 133.61
PERIAPSIS_TIME = 2011-06-19T09:43:09.000Z
SPACECRAFT_ORIENTATION = (0.0,-1.0,0.0)
^MEX_ORIENTATION_DESC = "MEX_ORIENTATION_DESC.TXT"
SPACECRAFT_POINTING_MODE = ACROSSTRACK
^MEX_POINTING_DESC = "MEX_POINTING_DESC.TXT"
RIGHT_ASCENSION = -1e+32
DECLINATION = -1e+32
OFFSET_ANGLE = 0.1
SPACECRAFT_SOLAR_DISTANCE = 2.16631e+08
TARGET_NAME = MARS
/* CAMERA DATA ELEMENTS */
DETECTOR_TEMPERATURE = 18.7783
FOCAL_PLANE_TEMPERATURE = 8.9911
INST_CMPRS_NAME = "DISCRETE COSINE TRANSFORMATION (DCT)"
INST_CMPRS_RATIO = 8.4214
INST_CMPRS_QUALITY = 0
INST_CMPRS_QUANTZ_TBL_ID = 0
INSTRUMENT_TEMPERATURE = 11.234
LENS_TEMPERATURE = 9.195
MACROPIXEL_SIZE = 2
MISSING_FRAMES = 0
PIXEL_SUBSAMPLING_FLAG = N
SIGNAL_CHAIN_ID = 1
/* RADIOMETRIC DATA ELEMENTS */
BANDWIDTH = 178.0
CENTER_FILTER_WAVELENGTH = 679.0
RADIANCE_OFFSET = 3.05237
RADIANCE_SCALING_FACTOR = 0.0246177
REFLECTANCE_SCALING_FACTOR = 0.00061181
MEX:REFLECTANCE_OFFSET = 0.0758589
/* IMAGE OBJECT DEFINITIONS */
OBJECT = IMAGE
  INTERCHANGE_FORMAT = BINARY
  LINES = 26144
  LINE_SAMPLES = 3836
  SAMPLE_TYPE = UNSIGNED_INTEGER
  SAMPLE_BITS = 8
  BANDS = 1
  BAND_STORAGE_TYPE = BAND_SEQUENTIAL
  MAXIMUM = 255
  MEAN = 153.58
  MINIMUM = 1
  STANDARD_DEVIATION = 37.6534
END_OBJECT = IMAGE
/* MAP OBJECT DEFINITIONS */
OBJECT = IMAGE_MAP_PROJECTION
  ^DATA_SET_MAP_PROJECTION_CATALOG= "DSMAP.CAT"
  A_AXIS_RADIUS = 3396.0
  B_AXIS_RADIUS = 3396.0
  C_AXIS_RADIUS = 3396.0
  CENTER_LATITUDE = 0.0
  CENTER_LONGITUDE = 44.0
  COORDINATE_SYSTEM_NAME = PLANETOGRAPHIC
  COORDINATE_SYSTEM_TYPE = "BODY-FIXED ROTATING"
  EASTERNMOST_LONGITUDE = 45.2581
  FIRST_STANDARD_PARALLEL = "N/A"
  LINE_FIRST_PIXEL = 1
  LINE_LAST_PIXEL = 26144
  LINE_PROJECTION_OFFSET = 97685.75
  MAP_PROJECTION_ROTATION = 0.0
  MAP_PROJECTION_TYPE = SINUSOIDAL
  MAP_RESOLUTION = 2370.85521546667
  MAP_SCALE = 0.025
  MAXIMUM_LATITUDE = 41.1982
  MINIMUM_LATITUDE = 30.1733
  POSITIVE_LONGITUDE_DIRECTION = EAST
  REFERENCE_LATITUDE = "N/A"
  REFERENCE_LONGITUDE = "N/A"
  SAMPLE_FIRST_PIXEL = 1
  SAMPLE_LAST_PIXEL = 3836
  SAMPLE_PROJECTION_OFFSET = 1298.25
  SECOND_STANDARD_PARALLEL = "N/A"
  WESTERNMOST_LONGITUDE = 43.2745
END_OBJECT = IMAGE_MAP_PROJECTION
/* The JPEG2000 image data file associated with this label. */
OBJECT = COMPRESSED_FILE
  FILE_NAME = "H9526_0000_S23.JP2"
  RECORD_TYPE = UNDEFINED
  FILE_RECORDS = UNK
  ENCODING_TYPE = "JP2"
  INTERCHANGE_FORMAT = BINARY
  UNCOMPRESSED_FILE_NAME = "H9526_0000_S23.IMG"
  REQUIRED_STORAGE_BYTES = "100311400"
  ^DESCRIPTION = "JP2INFO.TXT"
END_OBJECT = COMPRESSED_FILE
END
