PDS_VERSION_ID = PDS3
/* FILE DATA ELEMENTS */
RECORD_TYPE = STREAM
/* POINTERS TO DATA OBJECTS */
^COMPRESSED_FILE = "H9528_0000_BL3.JP2"
/* IDENTIFICATION DATA ELEMENTS */
DATA_SET_ID = "MEX-M-HRSC-5-REFDR-MAPPROJECTED-V3.0"
DATA_SET_NAME = "MARS EXPRESS HRSC MAP PROJECTED REFDR V3.0"
DETECTOR_ID = MEX_HRSC_BLUE
EVENT_TYPE = "MARS-REGIONAL-MAPPING-Vo-Pf"
INSTRUMENT_HOST_ID = MEX
INSTRUMENT_HOST_NAME = "MARS EXPRESS"
INSTRUMENT_ID = HRSC
INSTRUMENT_NAME = "HIGH RESOLUTION STEREO CAMERA"
MISSION_NAME = "MARS EXPRESS"
MISSION_PHASE_NAME = ME_Phase_23
PROCESSING_LEVEL_ID = 3
PRODUCT_CREATION_TIME = 2016-10-26T17:49:15.000Z
PRODUCT_ID = "H9528_0000_BL3.JP2"
RELEASE_ID = 0097
REVISION_ID = 0000
/* QUALITY DATA ELEMENTS */
DATA_QUALITY_ID = 1
DATA_QUALITY_DESC = "Data calculated based on original SPICE kernels"
/* TIME DATA ELEMENTS */
SPACECRAFT_CLOCK_START_COUNT = "1/0256607091.08394"
SPACECRAFT_CLOCK_STOP_COUNT = "1/0256607411.15973"
START_TIME = 2011-06-19T23:45:35.756Z
STOP_TIME = 2011-06-19T23:49:26.774Z
/* ORBITAL DATA ELEMENTS */
ASCENDING_NODE_LONGITUDE = 35.32
MAXIMUM_RESOLUTION = 64.1
FOOTPRINT_POINT_LATITUDE = (34.8301,34.8274,34.8198,34.6915, 34.4269,34.1625,33.8984,33.6345,33.3709 ,33.1075,32.5814,32.0563,31.6543, 31.3855,31.1169,30.8487,30.5808,30.1721 ,29.8979,29.624,29.3505,29.0773,28.7979 ,28.3788,28.0998,27.8212,27.537,27.2522 ,26.9679,26.6839,26.3954,26.1054, 25.8159,25.5267,25.0845,24.7897,24.4953 ,24.0453,23.7454,23.446,23.1471,22.8488 ,22.551,22.2537,21.957,21.6608,21.3652, 21.0701,20.7756,20.6932,20.6922,20.6896 ,20.6876,20.6845,21.1269,21.4228, 21.7192,22.0162,22.3137,22.6117,22.9103 ,23.2094,23.5091,23.8092,24.1099, 24.5595,24.8546,25.1502,25.5919,25.8817 ,26.172,26.4627,26.8926,27.1774,27.4626 ,27.8887,28.1679,28.4475,28.7275, 29.1461,29.4199,29.694,29.9685,30.2433, 30.5172,30.7856,31.0542,31.3232,31.5924 ,31.862,32.1285,32.6547,32.9182,33.1819 ,33.4459,33.7101,33.9746,34.2393, 34.5043,34.8301)
FOOTPRINT_POINT_LONGITUDE = (200.355,199.955,199.263,198.775, 198.779,198.783,198.787,198.791,198.794 ,198.797,198.803,198.808,198.811, 198.813,198.814,198.816,198.817,198.818 ,198.819,198.819,198.82,198.82,198.82, 198.819,198.818,198.817,198.816,198.815 ,198.814,198.812,198.81,198.808,198.805 ,198.803,198.798,198.795,198.792, 198.786,198.782,198.778,198.774,198.769 ,198.765,198.76,198.755,198.749,198.744 ,198.738,198.732,199.07,199.374,199.857 ,200.143,200.501,200.646,200.643,200.64 ,200.637,200.634,200.631,200.628, 200.625,200.622,200.619,200.616,200.611 ,200.608,200.604,200.599,200.596, 200.593,200.589,200.584,200.581,200.578 ,200.573,200.569,200.566,200.562, 200.557,200.553,200.55,200.546,200.542, 200.538,200.535,200.531,200.527,200.523 ,200.519,200.515,200.508,200.503, 200.499,200.495,200.491,200.487,200.482 ,200.478,200.355)
ORBIT_NUMBER = 9528
ORBITAL_ECCENTRICITY = 0.574
ORBITAL_INCLINATION = 86.88
ORBITAL_SEMIMAJOR_AXIS = 8803.13
PERIAPSIS_ALTITUDE = 368.68
PERIAPSIS_ARGUMENT_ANGLE = 133.25
PERIAPSIS_TIME = 2011-06-19T23:42:24.000Z
SPACECRAFT_ORIENTATION = (0.0,-1.0,0.0)
^MEX_ORIENTATION_DESC = "MEX_ORIENTATION_DESC.TXT"
SPACECRAFT_POINTING_MODE = NADIR
^MEX_POINTING_DESC = "MEX_POINTING_DESC.TXT"
RIGHT_ASCENSION = -1e+32
DECLINATION = -1e+32
OFFSET_ANGLE = -1e+32
SPACECRAFT_SOLAR_DISTANCE = 2.16732e+08
TARGET_NAME = MARS
/* CAMERA DATA ELEMENTS */
DETECTOR_TEMPERATURE = 18.3705
FOCAL_PLANE_TEMPERATURE = 8.5833
INST_CMPRS_NAME = "DISCRETE COSINE TRANSFORMATION (DCT)"
INST_CMPRS_RATIO = 10.6077
INST_CMPRS_QUALITY = 0
INST_CMPRS_QUANTZ_TBL_ID = 0
INSTRUMENT_TEMPERATURE = 10.2145
LENS_TEMPERATURE = 9.6028
MACROPIXEL_SIZE = 4
MISSING_FRAMES = 0
PIXEL_SUBSAMPLING_FLAG = N
SIGNAL_CHAIN_ID = 2
/* RADIOMETRIC DATA ELEMENTS */
BANDWIDTH = 76.0
CENTER_FILTER_WAVELENGTH = 444.0
RADIANCE_OFFSET = 0.736394
RADIANCE_SCALING_FACTOR = 0.001587
REFLECTANCE_SCALING_FACTOR = 7.65916e-05
MEX:REFLECTANCE_OFFSET = 0.0355398
/* IMAGE OBJECT DEFINITIONS */
OBJECT = IMAGE
  INTERCHANGE_FORMAT = BINARY
  LINES = 16806
  LINE_SAMPLES = 2173
  SAMPLE_TYPE = UNSIGNED_INTEGER
  SAMPLE_BITS = 8
  BANDS = 1
  BAND_STORAGE_TYPE = BAND_SEQUENTIAL
  MAXIMUM = 255
  MEAN = 120.681
  MINIMUM = 1
  STANDARD_DEVIATION = 25.0241
END_OBJECT = IMAGE
/* MAP OBJECT DEFINITIONS */
OBJECT = IMAGE_MAP_PROJECTION
  ^DATA_SET_MAP_PROJECTION_CATALOG= "DSMAP.CAT"
  A_AXIS_RADIUS = 3396.0
  B_AXIS_RADIUS = 3396.0
  C_AXIS_RADIUS = 3396.0
  CENTER_LATITUDE = 0.0
  CENTER_LONGITUDE = 200.0
  COORDINATE_SYSTEM_NAME = PLANETOGRAPHIC
  COORDINATE_SYSTEM_TYPE = "BODY-FIXED ROTATING"
  EASTERNMOST_LONGITUDE = 200.646
  FIRST_STANDARD_PARALLEL = "N/A"
  LINE_FIRST_PIXEL = 1
  LINE_LAST_PIXEL = 16806
  LINE_PROJECTION_OFFSET = 41312.875
  MAP_PROJECTION_ROTATION = 0.0
  MAP_PROJECTION_TYPE = SINUSOIDAL
  MAP_RESOLUTION = 1185.42760773333
  MAP_SCALE = 0.05
  MAXIMUM_LATITUDE = 34.8301
  MINIMUM_LATITUDE = 20.6845
  POSITIVE_LONGITUDE_DIRECTION = EAST
  REFERENCE_LATITUDE = "N/A"
  REFERENCE_LONGITUDE = "N/A"
  SAMPLE_FIRST_PIXEL = 1
  SAMPLE_LAST_PIXEL = 2173
  SAMPLE_PROJECTION_OFFSET = 1434.125
  SECOND_STANDARD_PARALLEL = "N/A"
  WESTERNMOST_LONGITUDE = 198.732
END_OBJECT = IMAGE_MAP_PROJECTION
/* The JPEG2000 image data file associated with this label. */
OBJECT = COMPRESSED_FILE
  FILE_NAME = "H9528_0000_BL3.JP2"
  RECORD_TYPE = UNDEFINED
  FILE_RECORDS = UNK
  ENCODING_TYPE = "JP2"
  INTERCHANGE_FORMAT = BINARY
  UNCOMPRESSED_FILE_NAME = "H9528_0000_BL3.IMG"
  REQUIRED_STORAGE_BYTES = "36541168"
  ^DESCRIPTION = "JP2INFO.TXT"
END_OBJECT = COMPRESSED_FILE
END
