PDS_VERSION_ID = PDS3
/* FILE DATA ELEMENTS */
RECORD_TYPE = STREAM
/* POINTERS TO DATA OBJECTS */
^COMPRESSED_FILE = "H9528_0000_IR3.JP2"
/* IDENTIFICATION DATA ELEMENTS */
DATA_SET_ID = "MEX-M-HRSC-5-REFDR-MAPPROJECTED-V3.0"
DATA_SET_NAME = "MARS EXPRESS HRSC MAP PROJECTED REFDR V3.0"
DETECTOR_ID = MEX_HRSC_IR
EVENT_TYPE = "MARS-REGIONAL-MAPPING-Vo-Pf"
INSTRUMENT_HOST_ID = MEX
INSTRUMENT_HOST_NAME = "MARS EXPRESS"
INSTRUMENT_ID = HRSC
INSTRUMENT_NAME = "HIGH RESOLUTION STEREO CAMERA"
MISSION_NAME = "MARS EXPRESS"
MISSION_PHASE_NAME = ME_Phase_23
PROCESSING_LEVEL_ID = 3
PRODUCT_CREATION_TIME = 2016-10-26T17:49:15.000Z
PRODUCT_ID = "H9528_0000_IR3.JP2"
RELEASE_ID = 0097
REVISION_ID = 0000
/* QUALITY DATA ELEMENTS */
DATA_QUALITY_ID = 1
DATA_QUALITY_DESC = "Data calculated based on original SPICE kernels"
/* TIME DATA ELEMENTS */
SPACECRAFT_CLOCK_START_COUNT = "1/0256607091.08394"
SPACECRAFT_CLOCK_STOP_COUNT = "1/0256607411.15973"
START_TIME = 2011-06-19T23:45:00.140Z
STOP_TIME = 2011-06-19T23:48:39.765Z
/* ORBITAL DATA ELEMENTS */
ASCENDING_NODE_LONGITUDE = 35.32
MAXIMUM_RESOLUTION = 65.2
FOOTPRINT_POINT_LATITUDE = (34.8809,34.8778,34.8738,34.8643, 34.6703,34.4017,33.9989,33.7303,33.3276 ,33.0592,32.7908,32.5225,32.12,31.8518, 31.4494,31.0474,30.7793,30.3775,30.1097 ,29.842,29.4369,29.1623,28.7503,28.3385 ,28.0643,27.785,27.5037,27.2226,26.8011 ,26.5202,26.2323,25.9447,25.657,25.3697 ,25.0798,24.7856,24.4915,24.1977, 23.9031,23.6026,23.3022,23.0023,22.7004 ,22.3936,22.0872,21.7808,21.3136, 21.0009,20.6885,20.6597,20.6599,20.6594 ,20.6579,20.6561,20.6541,20.9671, 21.2803,21.7493,22.0561,22.3631,22.8231 ,23.1236,23.4245,23.7255,24.0249, 24.3192,24.6137,24.9083,25.203,25.4908, 25.7788,26.067,26.3553,26.6409,26.9222, 27.2038,27.4855,27.7673,28.0477,28.3226 ,28.735,29.01,29.2852,29.6952,30.0976, 30.5001,30.7685,31.0369,31.3055,31.7084 ,31.9771,32.3802,32.6491,33.0524, 33.3214,33.7248,33.9938,34.3973,34.6665 ,34.8809)
FOOTPRINT_POINT_LONGITUDE = (200.203,199.842,199.526,198.984, 198.794,198.799,198.806,198.81,198.816, 198.82,198.823,198.827,198.831,198.834, 198.838,198.841,198.843,198.845,198.847 ,198.848,198.849,198.85,198.851,198.851 ,198.851,198.851,198.85,198.85,198.848, 198.847,198.846,198.844,198.843,198.841 ,198.839,198.836,198.834,198.831, 198.828,198.825,198.821,198.818,198.814 ,198.81,198.805,198.801,198.794,198.788 ,198.783,199.273,199.51,199.78,200.051, 200.288,200.599,200.597,200.595,200.591 ,200.589,200.587,200.584,200.581, 200.579,200.577,200.574,200.572,200.57, 200.567,200.565,200.562,200.56,200.557, 200.554,200.552,200.549,200.547,200.544 ,200.541,200.538,200.536,200.531, 200.529,200.526,200.521,200.517,200.512 ,200.509,200.506,200.502,200.498, 200.494,200.489,200.485,200.48,200.476, 200.471,200.467,200.461,200.457, 200.203)
ORBIT_NUMBER = 9528
ORBITAL_ECCENTRICITY = 0.574
ORBITAL_INCLINATION = 86.88
ORBITAL_SEMIMAJOR_AXIS = 8803.13
PERIAPSIS_ALTITUDE = 368.68
PERIAPSIS_ARGUMENT_ANGLE = 133.25
PERIAPSIS_TIME = 2011-06-19T23:42:24.000Z
SPACECRAFT_ORIENTATION = (0.0,-1.0,0.0)
^MEX_ORIENTATION_DESC = "MEX_ORIENTATION_DESC.TXT"
SPACECRAFT_POINTING_MODE = NADIR
^MEX_POINTING_DESC = "MEX_POINTING_DESC.TXT"
RIGHT_ASCENSION = -1e+32
DECLINATION = -1e+32
OFFSET_ANGLE = -1e+32
SPACECRAFT_SOLAR_DISTANCE = 2.16732e+08
TARGET_NAME = MARS
/* CAMERA DATA ELEMENTS */
DETECTOR_TEMPERATURE = 17.5549
FOCAL_PLANE_TEMPERATURE = 8.5833
INST_CMPRS_NAME = "DISCRETE COSINE TRANSFORMATION (DCT)"
INST_CMPRS_RATIO = 9.8501
INST_CMPRS_QUALITY = 0
INST_CMPRS_QUANTZ_TBL_ID = 0
INSTRUMENT_TEMPERATURE = 10.2145
LENS_TEMPERATURE = 9.6028
MACROPIXEL_SIZE = 4
MISSING_FRAMES = 0
PIXEL_SUBSAMPLING_FLAG = N
SIGNAL_CHAIN_ID = 2
/* RADIOMETRIC DATA ELEMENTS */
BANDWIDTH = 81.0
CENTER_FILTER_WAVELENGTH = 955.5
RADIANCE_OFFSET = 1.53703
RADIANCE_SCALING_FACTOR = 0.00509649
REFLECTANCE_SCALING_FACTOR = 0.000516476
MEX:REFLECTANCE_OFFSET = 0.155762
/* IMAGE OBJECT DEFINITIONS */
OBJECT = IMAGE
  INTERCHANGE_FORMAT = BINARY
  LINES = 16806
  LINE_SAMPLES = 2173
  SAMPLE_TYPE = UNSIGNED_INTEGER
  SAMPLE_BITS = 8
  BANDS = 1
  BAND_STORAGE_TYPE = BAND_SEQUENTIAL
  MAXIMUM = 255
  MEAN = 109.924
  MINIMUM = 1
  STANDARD_DEVIATION = 36.8834
END_OBJECT = IMAGE
/* MAP OBJECT DEFINITIONS */
OBJECT = IMAGE_MAP_PROJECTION
  ^DATA_SET_MAP_PROJECTION_CATALOG= "DSMAP.CAT"
  A_AXIS_RADIUS = 3396.0
  B_AXIS_RADIUS = 3396.0
  C_AXIS_RADIUS = 3396.0
  CENTER_LATITUDE = 0.0
  CENTER_LONGITUDE = 200.0
  COORDINATE_SYSTEM_NAME = PLANETOGRAPHIC
  COORDINATE_SYSTEM_TYPE = "BODY-FIXED ROTATING"
  EASTERNMOST_LONGITUDE = 200.599
  FIRST_STANDARD_PARALLEL = "N/A"
  LINE_FIRST_PIXEL = 1
  LINE_LAST_PIXEL = 16806
  LINE_PROJECTION_OFFSET = 41312.875
  MAP_PROJECTION_ROTATION = 0.0
  MAP_PROJECTION_TYPE = SINUSOIDAL
  MAP_RESOLUTION = 1185.42760773333
  MAP_SCALE = 0.05
  MAXIMUM_LATITUDE = 34.8809
  MINIMUM_LATITUDE = 20.6541
  POSITIVE_LONGITUDE_DIRECTION = EAST
  REFERENCE_LATITUDE = "N/A"
  REFERENCE_LONGITUDE = "N/A"
  SAMPLE_FIRST_PIXEL = 1
  SAMPLE_LAST_PIXEL = 2173
  SAMPLE_PROJECTION_OFFSET = 1434.125
  SECOND_STANDARD_PARALLEL = "N/A"
  WESTERNMOST_LONGITUDE = 198.783
END_OBJECT = IMAGE_MAP_PROJECTION
/* The JPEG2000 image data file associated with this label. */
OBJECT = COMPRESSED_FILE
  FILE_NAME = "H9528_0000_IR3.JP2"
  RECORD_TYPE = UNDEFINED
  FILE_RECORDS = UNK
  ENCODING_TYPE = "JP2"
  INTERCHANGE_FORMAT = BINARY
  UNCOMPRESSED_FILE_NAME = "H9528_0000_IR3.IMG"
  REQUIRED_STORAGE_BYTES = "36541168"
  ^DESCRIPTION = "JP2INFO.TXT"
END_OBJECT = COMPRESSED_FILE
END
