PDS_VERSION_ID = PDS3
/* FILE DATA ELEMENTS */
RECORD_TYPE = STREAM
/* POINTERS TO DATA OBJECTS */
^COMPRESSED_FILE = "H9531_0000_P23.JP2"
/* IDENTIFICATION DATA ELEMENTS */
DATA_SET_ID = "MEX-M-HRSC-5-REFDR-MAPPROJECTED-V3.0"
DATA_SET_NAME = "MARS EXPRESS HRSC MAP PROJECTED REFDR V3.0"
DETECTOR_ID = MEX_HRSC_P2
EVENT_TYPE = "MARS-LOCAL-STEREO-Vo-Te"
INSTRUMENT_HOST_ID = MEX
INSTRUMENT_HOST_NAME = "MARS EXPRESS"
INSTRUMENT_ID = HRSC
INSTRUMENT_NAME = "HIGH RESOLUTION STEREO CAMERA"
MISSION_NAME = "MARS EXPRESS"
MISSION_PHASE_NAME = ME_Phase_23
PROCESSING_LEVEL_ID = 3
PRODUCT_CREATION_TIME = 2016-10-26T17:49:15.000Z
PRODUCT_ID = "H9531_0000_P23.JP2"
RELEASE_ID = 0097
REVISION_ID = 0000
/* QUALITY DATA ELEMENTS */
DATA_QUALITY_ID = 1
DATA_QUALITY_DESC = "Data calculated based on original SPICE kernels"
/* TIME DATA ELEMENTS */
SPACECRAFT_CLOCK_START_COUNT = "1/0256682595.08407"
SPACECRAFT_CLOCK_STOP_COUNT = "1/0256682803.49680"
START_TIME = 2011-06-20T20:44:16.669Z
STOP_TIME = 2011-06-20T20:46:29.398Z
/* ORBITAL DATA ELEMENTS */
ASCENDING_NODE_LONGITUDE = 35.27
MAXIMUM_RESOLUTION = 31.8
FOOTPRINT_POINT_LATITUDE = (37.5915,37.5934,37.5949,37.5961, 37.5969,37.5973,37.5994,37.4403,37.2817 ,37.1236,36.8858,36.7268,36.5678, 36.4092,36.251,36.0925,35.9343,35.7764, 35.6182,35.4602,35.2237,35.0659,34.7516 ,34.2801,34.1226,33.9619,33.8012, 33.5601,33.3998,33.1589,32.9984,32.8386 ,32.5987,32.4356,32.2717,32.0261, 31.8625,31.6989,31.5358,31.3721,31.209, 31.0429,30.8759,30.709,30.4591,30.2924, 30.1261,29.877,29.621,29.4853,29.4833, 29.4795,29.476,29.4747,29.4712,29.5516, 29.7218,29.8914,30.0576,30.3074,30.474, 30.6407,30.8913,31.0588,31.2242,31.3875 ,31.551,31.7147,31.8787,32.0427,32.2067 ,32.3711,32.6163,32.777,32.9381,33.0985 ,33.3387,33.4992,33.6601,33.8211, 33.9823,34.143,34.4577,34.6936,34.8511, 35.0088,35.2454,35.4036,35.562,35.7198, 35.8783,36.1168,36.2759,36.5149,36.674, 36.8335,36.9924,37.1522,37.3917, 37.5915)
FOOTPRINT_POINT_LONGITUDE = (252.454,252.192,251.928,251.661, 251.391,251.119,250.783,250.789,250.794 ,250.799,250.806,250.812,250.818, 250.824,250.829,250.834,250.839,250.844 ,250.849,250.854,250.86,250.865,250.873 ,250.886,250.89,250.893,250.897,250.902 ,250.906,250.911,250.915,250.918, 250.922,250.926,250.929,250.933,250.936 ,250.939,250.942,250.945,250.948,250.95 ,250.953,250.956,250.959,250.962, 250.964,250.967,250.971,251.079,251.326 ,251.659,251.954,252.16,252.434,252.762 ,252.757,252.753,252.749,252.742, 252.738,252.734,252.727,252.723,252.718 ,252.714,252.709,252.705,252.7,252.696, 252.691,252.687,252.68,252.675,252.67, 252.666,252.659,252.654,252.649,252.644 ,252.639,252.634,252.625,252.617, 252.612,252.607,252.6,252.595,252.589, 252.584,252.579,252.571,252.565,252.557 ,252.552,252.546,252.54,252.535,252.526 ,252.454)
ORBIT_NUMBER = 9531
ORBITAL_ECCENTRICITY = 0.574
ORBITAL_INCLINATION = 86.87
ORBITAL_SEMIMAJOR_AXIS = 8811.04
PERIAPSIS_ALTITUDE = 368.62
PERIAPSIS_ARGUMENT_ANGLE = 132.71
PERIAPSIS_TIME = 2011-06-20T20:41:24.000Z
SPACECRAFT_ORIENTATION = (0.0,-1.0,0.0)
^MEX_ORIENTATION_DESC = "MEX_ORIENTATION_DESC.TXT"
SPACECRAFT_POINTING_MODE = ACROSSTRACK
^MEX_POINTING_DESC = "MEX_POINTING_DESC.TXT"
RIGHT_ASCENSION = -1e+32
DECLINATION = -1e+32
OFFSET_ANGLE = -0.8
SPACECRAFT_SOLAR_DISTANCE = 2.16885e+08
TARGET_NAME = MARS
/* CAMERA DATA ELEMENTS */
DETECTOR_TEMPERATURE = 18.3705
FOCAL_PLANE_TEMPERATURE = 7.156
INST_CMPRS_NAME = "DISCRETE COSINE TRANSFORMATION (DCT)"
INST_CMPRS_RATIO = 4.65205
INST_CMPRS_QUALITY = 0
INST_CMPRS_QUANTZ_TBL_ID = 0
INSTRUMENT_TEMPERATURE = 11.234
LENS_TEMPERATURE = 8.9911
MACROPIXEL_SIZE = 2
MISSING_FRAMES = 0
PIXEL_SUBSAMPLING_FLAG = N
SIGNAL_CHAIN_ID = 3
/* RADIOMETRIC DATA ELEMENTS */
BANDWIDTH = 177.0
CENTER_FILTER_WAVELENGTH = 676.5
RADIANCE_OFFSET = 3.13467
RADIANCE_SCALING_FACTOR = 0.0294691
REFLECTANCE_SCALING_FACTOR = 0.000734993
MEX:REFLECTANCE_OFFSET = 0.0781823
/* IMAGE OBJECT DEFINITIONS */
OBJECT = IMAGE
  INTERCHANGE_FORMAT = BINARY
  LINES = 19354
  LINE_SAMPLES = 3979
  SAMPLE_TYPE = UNSIGNED_INTEGER
  SAMPLE_BITS = 8
  BANDS = 1
  BAND_STORAGE_TYPE = BAND_SEQUENTIAL
  MAXIMUM = 255
  MEAN = 138.353
  MINIMUM = 1
  STANDARD_DEVIATION = 22.1265
END_OBJECT = IMAGE
/* MAP OBJECT DEFINITIONS */
OBJECT = IMAGE_MAP_PROJECTION
  ^DATA_SET_MAP_PROJECTION_CATALOG= "DSMAP.CAT"
  A_AXIS_RADIUS = 3396.0
  B_AXIS_RADIUS = 3396.0
  C_AXIS_RADIUS = 3396.0
  CENTER_LATITUDE = 0.0
  CENTER_LONGITUDE = 252.0
  COORDINATE_SYSTEM_NAME = PLANETOGRAPHIC
  COORDINATE_SYSTEM_TYPE = "BODY-FIXED ROTATING"
  EASTERNMOST_LONGITUDE = 252.762
  FIRST_STANDARD_PARALLEL = "N/A"
  LINE_FIRST_PIXEL = 1
  LINE_LAST_PIXEL = 19354
  LINE_PROJECTION_OFFSET = 89259.25
  MAP_PROJECTION_ROTATION = 0.0
  MAP_PROJECTION_TYPE = SINUSOIDAL
  MAP_RESOLUTION = 2370.85521546667
  MAP_SCALE = 0.025
  MAXIMUM_LATITUDE = 37.5994
  MINIMUM_LATITUDE = 29.4712
  POSITIVE_LONGITUDE_DIRECTION = EAST
  REFERENCE_LATITUDE = "N/A"
  REFERENCE_LONGITUDE = "N/A"
  SAMPLE_FIRST_PIXEL = 1
  SAMPLE_LAST_PIXEL = 3979
  SAMPLE_PROJECTION_OFFSET = 2463.75
  SECOND_STANDARD_PARALLEL = "N/A"
  WESTERNMOST_LONGITUDE = 250.783
END_OBJECT = IMAGE_MAP_PROJECTION
/* The JPEG2000 image data file associated with this label. */
OBJECT = COMPRESSED_FILE
  FILE_NAME = "H9531_0000_P23.JP2"
  RECORD_TYPE = UNDEFINED
  FILE_RECORDS = UNK
  ENCODING_TYPE = "JP2"
  INTERCHANGE_FORMAT = BINARY
  UNCOMPRESSED_FILE_NAME = "H9531_0000_P23.IMG"
  REQUIRED_STORAGE_BYTES = "77033440"
  ^DESCRIPTION = "JP2INFO.TXT"
END_OBJECT = COMPRESSED_FILE
END
