PDS_VERSION_ID = PDS3
/* FILE DATA ELEMENTS */
RECORD_TYPE = STREAM
/* POINTERS TO DATA OBJECTS */
^COMPRESSED_FILE = "H9533_0000_IR3.JP2"
/* IDENTIFICATION DATA ELEMENTS */
DATA_SET_ID = "MEX-M-HRSC-5-REFDR-MAPPROJECTED-V3.0"
DATA_SET_NAME = "MARS EXPRESS HRSC MAP PROJECTED REFDR V3.0"
DETECTOR_ID = MEX_HRSC_IR
EVENT_TYPE = "MARS-REGIONAL-MAPPING-Im-Fl-La"
INSTRUMENT_HOST_ID = MEX
INSTRUMENT_HOST_NAME = "MARS EXPRESS"
INSTRUMENT_ID = HRSC
INSTRUMENT_NAME = "HIGH RESOLUTION STEREO CAMERA"
MISSION_NAME = "MARS EXPRESS"
MISSION_PHASE_NAME = ME_Phase_23
PROCESSING_LEVEL_ID = 3
PRODUCT_CREATION_TIME = 2016-10-26T17:49:15.000Z
PRODUCT_ID = "H9533_0000_IR3.JP2"
RELEASE_ID = 0097
REVISION_ID = 0000
/* QUALITY DATA ELEMENTS */
DATA_QUALITY_ID = 1
DATA_QUALITY_DESC = "Data calculated based on original SPICE kernels"
/* TIME DATA ELEMENTS */
SPACECRAFT_CLOCK_START_COUNT = "1/0256733105.07291"
SPACECRAFT_CLOCK_STOP_COUNT = "1/0256733393.48348"
START_TIME = 2011-06-21T10:45:14.615Z
STOP_TIME = 2011-06-21T10:48:08.367Z
/* ORBITAL DATA ELEMENTS */
ASCENDING_NODE_LONGITUDE = 35.22
MAXIMUM_RESOLUTION = 71.6
FOOTPRINT_POINT_LATITUDE = (28.1229,28.1225,28.121,28.1189,28.1154 ,27.9828,27.5858,27.3844,27.1801, 26.9797,26.7765,26.4713,26.2678,26.0574 ,25.7429,25.5328,25.3235,25.1146, 24.9061,24.694,24.4816,24.1646,23.9471, 23.7343,23.4155,23.1991,22.9805,22.7631 ,22.4327,22.2112,21.9878,21.7666, 21.5435,21.3171,21.0904,20.865,20.6385, 20.4085,20.1772,19.9464,19.7163,19.4826 ,19.2471,19.0112,18.775,18.5356,18.177, 17.9382,17.6963,17.4526,17.0875,17.044, 17.0436,17.0414,17.0384,17.0354,17.1544 ,17.398,17.763,18.0051,18.3654,18.6055, 18.8438,19.0785,19.3113,19.5479,19.8955 ,20.1251,20.3566,20.5897,20.9294, 21.1582,21.3887,21.6157,21.837,22.169, 22.502,22.725,23.053,23.2724,23.4898, 23.8151,24.0219,24.3409,24.5551,24.7664 ,24.9778,25.2901,25.4991,25.7084, 25.9179,26.1296,26.3379,26.5434,26.7475 ,27.0522,27.2565,27.6598,28.0586, 28.1229)
FOOTPRINT_POINT_LONGITUDE = (48.8406,48.4659,48.138,47.8883,47.576, 47.3882,47.3882,47.388,47.3874,47.3882, 47.3877,47.3866,47.3857,47.383,47.3805, 47.3784,47.3766,47.3748,47.373,47.3715, 47.3699,47.3677,47.3636,47.3613,47.3605 ,47.3583,47.3551,47.3522,47.3478, 47.3448,47.3409,47.3376,47.3341,47.3304 ,47.3264,47.3228,47.3186,47.3145, 47.3099,47.3053,47.3009,47.2962,47.2912 ,47.2857,47.28,47.2744,47.2662,47.2607, 47.255,47.2489,47.2396,47.5619,47.832, 48.2279,48.5701,48.8581,49.1695,49.1681 ,49.1663,49.1645,49.1619,49.1603, 49.1586,49.1572,49.1567,49.1548,49.1529 ,49.1518,49.1502,49.1479,49.1458, 49.1434,49.1404,49.1387,49.1374,49.1355 ,49.1333,49.1309,49.1279,49.1256, 49.1242,49.1217,49.1226,49.1204,49.1184 ,49.1176,49.1161,49.1137,49.1119, 49.1099,49.1078,49.1049,49.1018,49.0994 ,49.0976,49.0955,49.0936,49.0905, 49.0867,48.8406)
ORBIT_NUMBER = 9533
ORBITAL_ECCENTRICITY = 0.574
ORBITAL_INCLINATION = 86.87
ORBITAL_SEMIMAJOR_AXIS = 8808.44
PERIAPSIS_ALTITUDE = 369.31
PERIAPSIS_ARGUMENT_ANGLE = 132.4
PERIAPSIS_TIME = 2011-06-21T10:40:42.000Z
SPACECRAFT_ORIENTATION = (0.0,-1.0,0.0)
^MEX_ORIENTATION_DESC = "MEX_ORIENTATION_DESC.TXT"
SPACECRAFT_POINTING_MODE = NADIR
^MEX_POINTING_DESC = "MEX_POINTING_DESC.TXT"
RIGHT_ASCENSION = -1e+32
DECLINATION = -1e+32
OFFSET_ANGLE = -1e+32
SPACECRAFT_SOLAR_DISTANCE = 2.16987e+08
TARGET_NAME = MARS
/* CAMERA DATA ELEMENTS */
DETECTOR_TEMPERATURE = 17.351
FOCAL_PLANE_TEMPERATURE = 8.5833
INST_CMPRS_NAME = "DISCRETE COSINE TRANSFORMATION (DCT)"
INST_CMPRS_RATIO = 11.2729
INST_CMPRS_QUALITY = 0
INST_CMPRS_QUANTZ_TBL_ID = 0
INSTRUMENT_TEMPERATURE = 11.234
LENS_TEMPERATURE = 9.195
MACROPIXEL_SIZE = 4
MISSING_FRAMES = 0
PIXEL_SUBSAMPLING_FLAG = N
SIGNAL_CHAIN_ID = 2
/* RADIOMETRIC DATA ELEMENTS */
BANDWIDTH = 81.0
CENTER_FILTER_WAVELENGTH = 955.5
RADIANCE_OFFSET = 1.53231
RADIANCE_SCALING_FACTOR = 0.00613967
REFLECTANCE_SCALING_FACTOR = 0.000623655
MEX:REFLECTANCE_OFFSET = 0.155648
/* IMAGE OBJECT DEFINITIONS */
OBJECT = IMAGE
  INTERCHANGE_FORMAT = BINARY
  LINES = 13118
  LINE_SAMPLES = 2396
  SAMPLE_TYPE = UNSIGNED_INTEGER
  SAMPLE_BITS = 8
  BANDS = 1
  BAND_STORAGE_TYPE = BAND_SEQUENTIAL
  MAXIMUM = 255
  MEAN = 137.661
  MINIMUM = 1
  STANDARD_DEVIATION = 36.1284
END_OBJECT = IMAGE
/* MAP OBJECT DEFINITIONS */
OBJECT = IMAGE_MAP_PROJECTION
  ^DATA_SET_MAP_PROJECTION_CATALOG= "DSMAP.CAT"
  A_AXIS_RADIUS = 3396.0
  B_AXIS_RADIUS = 3396.0
  C_AXIS_RADIUS = 3396.0
  CENTER_LATITUDE = 0.0
  CENTER_LONGITUDE = 48.0
  COORDINATE_SYSTEM_NAME = PLANETOGRAPHIC
  COORDINATE_SYSTEM_TYPE = "BODY-FIXED ROTATING"
  EASTERNMOST_LONGITUDE = 49.1695
  FIRST_STANDARD_PARALLEL = "N/A"
  LINE_FIRST_PIXEL = 1
  LINE_LAST_PIXEL = 13118
  LINE_PROJECTION_OFFSET = 33298.125
  MAP_PROJECTION_ROTATION = 0.0
  MAP_PROJECTION_TYPE = SINUSOIDAL
  MAP_RESOLUTION = 1185.42760773333
  MAP_SCALE = 0.05
  MAXIMUM_LATITUDE = 28.1229
  MINIMUM_LATITUDE = 17.0354
  POSITIVE_LONGITUDE_DIRECTION = EAST
  REFERENCE_LATITUDE = "N/A"
  REFERENCE_LONGITUDE = "N/A"
  SAMPLE_FIRST_PIXEL = 1
  SAMPLE_LAST_PIXEL = 2396
  SAMPLE_PROJECTION_OFFSET = 969.125
  SECOND_STANDARD_PARALLEL = "N/A"
  WESTERNMOST_LONGITUDE = 47.2396
END_OBJECT = IMAGE_MAP_PROJECTION
/* The JPEG2000 image data file associated with this label. */
OBJECT = COMPRESSED_FILE
  FILE_NAME = "H9533_0000_IR3.JP2"
  RECORD_TYPE = UNDEFINED
  FILE_RECORDS = UNK
  ENCODING_TYPE = "JP2"
  INTERCHANGE_FORMAT = BINARY
  UNCOMPRESSED_FILE_NAME = "H9533_0000_IR3.IMG"
  REQUIRED_STORAGE_BYTES = "31449896"
  ^DESCRIPTION = "JP2INFO.TXT"
END_OBJECT = COMPRESSED_FILE
END
