PDS_VERSION_ID = PDS3
/* FILE DATA ELEMENTS */
RECORD_TYPE = STREAM
/* POINTERS TO DATA OBJECTS */
^COMPRESSED_FILE = "H9533_0000_S13.JP2"
/* IDENTIFICATION DATA ELEMENTS */
DATA_SET_ID = "MEX-M-HRSC-5-REFDR-MAPPROJECTED-V3.0"
DATA_SET_NAME = "MARS EXPRESS HRSC MAP PROJECTED REFDR V3.0"
DETECTOR_ID = MEX_HRSC_S1
EVENT_TYPE = "MARS-REGIONAL-MAPPING-Im-Fl-La"
INSTRUMENT_HOST_ID = MEX
INSTRUMENT_HOST_NAME = "MARS EXPRESS"
INSTRUMENT_ID = HRSC
INSTRUMENT_NAME = "HIGH RESOLUTION STEREO CAMERA"
MISSION_NAME = "MARS EXPRESS"
MISSION_PHASE_NAME = ME_Phase_23
PROCESSING_LEVEL_ID = 3
PRODUCT_CREATION_TIME = 2016-10-26T17:49:15.000Z
PRODUCT_ID = "H9533_0000_S13.JP2"
RELEASE_ID = 0097
REVISION_ID = 0000
/* QUALITY DATA ELEMENTS */
DATA_QUALITY_ID = 1
DATA_QUALITY_DESC = "Data calculated based on original SPICE kernels"
/* TIME DATA ELEMENTS */
SPACECRAFT_CLOCK_START_COUNT = "1/0256733105.07291"
SPACECRAFT_CLOCK_STOP_COUNT = "1/0256733393.48348"
START_TIME = 2011-06-21T10:45:08.163Z
STOP_TIME = 2011-06-21T10:48:00.019Z
/* ORBITAL DATA ELEMENTS */
ASCENDING_NODE_LONGITUDE = 35.22
MAXIMUM_RESOLUTION = 36.2
FOOTPRINT_POINT_LATITUDE = (28.1234,28.123,28.1213,28.1191,28.114, 27.8765,27.6767,27.4772,27.2755,26.8764 ,26.6711,26.3629,26.1541,25.8433, 25.5277,25.3168,25.1061,24.8962,24.6874 ,24.4784,24.2681,24.046,23.8312,23.6178 ,23.4108,23.0849,22.8645,22.6451, 22.3168,21.9821,21.6465,21.423,21.1988, 20.9716,20.7431,20.4008,20.1719,19.939, 19.7064,19.3523,18.9979,18.7585,18.5202 ,18.2831,17.9215,17.6801,17.4382, 17.1933,17.0461,17.0463,17.0453,17.0435 ,17.0406,17.0361,17.2817,17.525,17.7661 ,18.0095,18.2506,18.6094,18.8483, 19.0852,19.3173,19.5569,19.7899,20.0216 ,20.3669,20.6014,20.9404,21.1718, 21.5124,21.8486,22.0718,22.2942,22.624, 22.845,23.0665,23.2881,23.5026,23.7167, 23.928,24.1382,24.3534,24.673,24.8801, 25.0903,25.2999,25.5107,25.7221,25.9286 ,26.1381,26.3469,26.6572,26.9652, 27.1679,27.3681,27.6677,27.868,28.0694, 28.1234)
FOOTPRINT_POINT_LONGITUDE = (48.7484,48.4898,48.1503,47.892,47.4877 ,47.3899,47.39,47.3901,47.3893,47.3904, 47.3897,47.3883,47.3862,47.3836,47.3807 ,47.379,47.3773,47.3756,47.3743,47.3727 ,47.3721,47.3677,47.3654,47.3635, 47.3636,47.3598,47.3568,47.3539,47.3496 ,47.3444,47.3394,47.336,47.3322,47.3284 ,47.3245,47.3185,47.3141,47.3095, 47.3052,47.2981,47.2902,47.2845,47.279, 47.2737,47.2655,47.2599,47.254,47.2479, 47.4668,47.8198,48.061,48.3765,48.6551, 49.0449,49.1618,49.1604,49.1594,49.1577 ,49.1566,49.1538,49.1521,49.151,49.1505 ,49.1486,49.1474,49.1465,49.1443, 49.1411,49.1403,49.1378,49.1342,49.1321 ,49.131,49.1294,49.127,49.125,49.1229, 49.1208,49.1194,49.1181,49.1178,49.1178 ,49.1162,49.1132,49.1127,49.111,49.1097 ,49.1079,49.1059,49.104,49.1009,49.0981 ,49.0948,49.0924,49.0909,49.0893, 49.0871,49.0855,49.0834,48.7484)
ORBIT_NUMBER = 9533
ORBITAL_ECCENTRICITY = 0.574
ORBITAL_INCLINATION = 86.87
ORBITAL_SEMIMAJOR_AXIS = 8808.44
PERIAPSIS_ALTITUDE = 369.31
PERIAPSIS_ARGUMENT_ANGLE = 132.4
PERIAPSIS_TIME = 2011-06-21T10:40:42.000Z
SPACECRAFT_ORIENTATION = (0.0,-1.0,0.0)
^MEX_ORIENTATION_DESC = "MEX_ORIENTATION_DESC.TXT"
SPACECRAFT_POINTING_MODE = NADIR
^MEX_POINTING_DESC = "MEX_POINTING_DESC.TXT"
RIGHT_ASCENSION = -1e+32
DECLINATION = -1e+32
OFFSET_ANGLE = -1e+32
SPACECRAFT_SOLAR_DISTANCE = 2.16987e+08
TARGET_NAME = MARS
/* CAMERA DATA ELEMENTS */
DETECTOR_TEMPERATURE = 17.351
FOCAL_PLANE_TEMPERATURE = 8.5833
INST_CMPRS_NAME = "DISCRETE COSINE TRANSFORMATION (DCT)"
INST_CMPRS_RATIO = 10.7681
INST_CMPRS_QUALITY = 0
INST_CMPRS_QUANTZ_TBL_ID = 0
INSTRUMENT_TEMPERATURE = 11.234
LENS_TEMPERATURE = 9.195
MACROPIXEL_SIZE = 2
MISSING_FRAMES = 1
PIXEL_SUBSAMPLING_FLAG = N
SIGNAL_CHAIN_ID = 1
/* RADIOMETRIC DATA ELEMENTS */
BANDWIDTH = 180.0
CENTER_FILTER_WAVELENGTH = 677.0
RADIANCE_OFFSET = 6.29805
RADIANCE_SCALING_FACTOR = 0.0215192
REFLECTANCE_SCALING_FACTOR = 0.000528614
MEX:REFLECTANCE_OFFSET = 0.15471
/* IMAGE OBJECT DEFINITIONS */
OBJECT = IMAGE
  INTERCHANGE_FORMAT = BINARY
  LINES = 26236
  LINE_SAMPLES = 4792
  SAMPLE_TYPE = UNSIGNED_INTEGER
  SAMPLE_BITS = 8
  BANDS = 1
  BAND_STORAGE_TYPE = BAND_SEQUENTIAL
  MAXIMUM = 255
  MEAN = 137.475
  MINIMUM = 1
  STANDARD_DEVIATION = 34.3783
END_OBJECT = IMAGE
/* MAP OBJECT DEFINITIONS */
OBJECT = IMAGE_MAP_PROJECTION
  ^DATA_SET_MAP_PROJECTION_CATALOG= "DSMAP.CAT"
  A_AXIS_RADIUS = 3396.0
  B_AXIS_RADIUS = 3396.0
  C_AXIS_RADIUS = 3396.0
  CENTER_LATITUDE = 0.0
  CENTER_LONGITUDE = 48.0
  COORDINATE_SYSTEM_NAME = PLANETOGRAPHIC
  COORDINATE_SYSTEM_TYPE = "BODY-FIXED ROTATING"
  EASTERNMOST_LONGITUDE = 49.1618
  FIRST_STANDARD_PARALLEL = "N/A"
  LINE_FIRST_PIXEL = 1
  LINE_LAST_PIXEL = 26236
  LINE_PROJECTION_OFFSET = 66596.75
  MAP_PROJECTION_ROTATION = 0.0
  MAP_PROJECTION_TYPE = SINUSOIDAL
  MAP_RESOLUTION = 2370.85521546667
  MAP_SCALE = 0.025
  MAXIMUM_LATITUDE = 28.1234
  MINIMUM_LATITUDE = 17.0361
  POSITIVE_LONGITUDE_DIRECTION = EAST
  REFERENCE_LATITUDE = "N/A"
  REFERENCE_LONGITUDE = "N/A"
  SAMPLE_FIRST_PIXEL = 1
  SAMPLE_LAST_PIXEL = 4792
  SAMPLE_PROJECTION_OFFSET = 1938.75
  SECOND_STANDARD_PARALLEL = "N/A"
  WESTERNMOST_LONGITUDE = 47.2479
END_OBJECT = IMAGE_MAP_PROJECTION
/* The JPEG2000 image data file associated with this label. */
OBJECT = COMPRESSED_FILE
  FILE_NAME = "H9533_0000_S13.JP2"
  RECORD_TYPE = UNDEFINED
  FILE_RECORDS = UNK
  ENCODING_TYPE = "JP2"
  INTERCHANGE_FORMAT = BINARY
  UNCOMPRESSED_FILE_NAME = "H9533_0000_S13.IMG"
  REQUIRED_STORAGE_BYTES = "125746872"
  ^DESCRIPTION = "JP2INFO.TXT"
END_OBJECT = COMPRESSED_FILE
END
