PDS_VERSION_ID = PDS3
/* FILE DATA ELEMENTS */
RECORD_TYPE = STREAM
/* POINTERS TO DATA OBJECTS */
^COMPRESSED_FILE = "H9551_0009_S23.JP2"
/* IDENTIFICATION DATA ELEMENTS */
DATA_SET_ID = "MEX-M-HRSC-5-REFDR-MAPPROJECTED-V3.0"
DATA_SET_NAME = "MARS EXPRESS HRSC MAP PROJECTED REFDR V3.0"
DETECTOR_ID = MEX_HRSC_S2
EVENT_TYPE = "MARS-REGIONAL-MAPPING-Vo-Im-Pf"
INSTRUMENT_HOST_ID = MEX
INSTRUMENT_HOST_NAME = "MARS EXPRESS"
INSTRUMENT_ID = HRSC
INSTRUMENT_NAME = "HIGH RESOLUTION STEREO CAMERA"
MISSION_NAME = "MARS EXPRESS"
MISSION_PHASE_NAME = ME_Phase_23
PROCESSING_LEVEL_ID = 3
PRODUCT_CREATION_TIME = 2016-10-26T17:49:15.000Z
PRODUCT_ID = "H9551_0009_S23.JP2"
RELEASE_ID = 0097
REVISION_ID = 0000
/* QUALITY DATA ELEMENTS */
DATA_QUALITY_ID = 1
DATA_QUALITY_DESC = "Data calculated based on original SPICE kernels"
/* TIME DATA ELEMENTS */
SPACECRAFT_CLOCK_START_COUNT = "1/0257186052.08263"
SPACECRAFT_CLOCK_STOP_COUNT = "1/0257186308.07680"
START_TIME = 2011-06-26T16:35:23.663Z
STOP_TIME = 2011-06-26T16:38:29.175Z
/* ORBITAL DATA ELEMENTS */
ASCENDING_NODE_LONGITUDE = 34.89
MAXIMUM_RESOLUTION = 32.4
FOOTPRINT_POINT_LATITUDE = (47.9701,47.9698,47.9691,47.9678,47.966 ,48.0577,47.7084,47.4754,47.1264, 46.7786,46.547,46.1995,45.8526,45.6217, 45.3908,45.0442,44.8139,44.4693,44.2396 ,43.8948,43.665,43.4367,43.094,42.8659, 42.6379,42.4097,42.1818,41.9547,41.7278 ,41.3896,41.0473,40.8211,40.5953, 40.3699,40.1447,39.8066,39.5801,39.3557 ,39.0221,38.7958,38.4532,38.2222, 37.8758,37.6479,37.4218,37.1904,36.9574 ,36.5908,36.5855,36.5817,36.5764, 36.5721,36.5677,36.5635,36.9133,37.1466 ,37.3779,37.7242,37.9548,38.1784, 38.4079,38.6386,38.8677,39.0935,39.3208 ,39.6592,39.8848,40.1068,40.3334, 40.5609,40.7865,41.0128,41.2401,41.4678 ,41.6963,42.0391,42.2667,42.4951, 42.7237,42.9531,43.1825,43.4119,43.756, 44.1006,44.3308,44.5617,44.9079,45.1389 ,45.3713,45.6029,45.834,46.0658,46.2992 ,46.5315,46.7643,47.1134,47.4633, 47.8135,48.047,47.9701)
FOOTPRINT_POINT_LONGITUDE = (6.03703,5.73818,5.43678,5.13297, 4.82611,4.42956,4.46349,4.48583,4.51846 ,4.54938,4.56945,4.59917,4.62791,4.6465 ,4.66494,4.6924,4.70986,4.73483,4.75132 ,4.77597,4.79226,4.80695,4.82904, 4.84338,4.85741,4.87159,4.88544,4.89845 ,4.91123,4.92844,4.94901,4.96095, 4.97249,4.98366,4.99459,5.0111,5.02304, 5.0332,5.0459,5.05507,5.06808,5.07888, 5.09495,5.10316,5.11005,5.11872,5.12652 ,5.25086,5.60864,5.86923,6.21985, 6.53083,6.76709,7.04422,7.03134,7.02262 ,7.01387,7.00071,6.9918,6.98288,6.97376 ,6.96452,6.95519,6.94593,6.93652, 6.92226,6.91261,6.90296,6.89305,6.88299 ,6.87287,6.86261,6.85219,6.84162, 6.83089,6.81454,6.80351,6.79232,6.78097 ,6.76945,6.75778,6.74597,6.72798, 6.70963,6.69717,6.68451,6.66523,6.65216 ,6.63881,6.62536,6.61178,6.59796, 6.58384,6.56962,6.55518,6.53316,6.51064 ,6.48763,6.47204,6.03703)
ORBIT_NUMBER = 9551
ORBITAL_ECCENTRICITY = 0.573
ORBITAL_INCLINATION = 86.87
ORBITAL_SEMIMAJOR_AXIS = 8799.46
PERIAPSIS_ALTITUDE = 371.49
PERIAPSIS_ARGUMENT_ANGLE = 129.26
PERIAPSIS_TIME = 2011-06-26T16:34:08.000Z
SPACECRAFT_ORIENTATION = (0.0,-1.0,0.0)
^MEX_ORIENTATION_DESC = "MEX_ORIENTATION_DESC.TXT"
SPACECRAFT_POINTING_MODE = ACROSSTRACK
^MEX_POINTING_DESC = "MEX_POINTING_DESC.TXT"
RIGHT_ASCENSION = -1e+32
DECLINATION = -1e+32
OFFSET_ANGLE = -0.7
SPACECRAFT_SOLAR_DISTANCE = 2.17919e+08
TARGET_NAME = MARS
/* CAMERA DATA ELEMENTS */
DETECTOR_TEMPERATURE = 19.1861
FOCAL_PLANE_TEMPERATURE = 9.195
INST_CMPRS_NAME = "DISCRETE COSINE TRANSFORMATION (DCT)"
INST_CMPRS_RATIO = 11.7989
INST_CMPRS_QUALITY = 0
INST_CMPRS_QUANTZ_TBL_ID = 0
INSTRUMENT_TEMPERATURE = 11.8457
LENS_TEMPERATURE = 9.8067
MACROPIXEL_SIZE = 2
MISSING_FRAMES = 0
PIXEL_SUBSAMPLING_FLAG = N
SIGNAL_CHAIN_ID = 1
/* RADIOMETRIC DATA ELEMENTS */
BANDWIDTH = 178.0
CENTER_FILTER_WAVELENGTH = 679.0
RADIANCE_OFFSET = 3.77006
RADIANCE_SCALING_FACTOR = 0.0229268
REFLECTANCE_SCALING_FACTOR = 0.000576587
MEX:REFLECTANCE_OFFSET = 0.0948136
/* IMAGE OBJECT DEFINITIONS */
OBJECT = IMAGE
  INTERCHANGE_FORMAT = BINARY
  LINES = 27322
  LINE_SAMPLES = 4409
  SAMPLE_TYPE = UNSIGNED_INTEGER
  SAMPLE_BITS = 8
  BANDS = 1
  BAND_STORAGE_TYPE = BAND_SEQUENTIAL
  MAXIMUM = 255
  MEAN = 71.3119
  MINIMUM = 1
  STANDARD_DEVIATION = 38.6998
END_OBJECT = IMAGE
/* MAP OBJECT DEFINITIONS */
OBJECT = IMAGE_MAP_PROJECTION
  ^DATA_SET_MAP_PROJECTION_CATALOG= "DSMAP.CAT"
  A_AXIS_RADIUS = 3396.0
  B_AXIS_RADIUS = 3396.0
  C_AXIS_RADIUS = 3396.0
  CENTER_LATITUDE = 0.0
  CENTER_LONGITUDE = 6.0
  COORDINATE_SYSTEM_NAME = PLANETOGRAPHIC
  COORDINATE_SYSTEM_TYPE = "BODY-FIXED ROTATING"
  EASTERNMOST_LONGITUDE = 7.04422
  FIRST_STANDARD_PARALLEL = "N/A"
  LINE_FIRST_PIXEL = 1
  LINE_LAST_PIXEL = 27322
  LINE_PROJECTION_OFFSET = 113966.75
  MAP_PROJECTION_ROTATION = 0.0
  MAP_PROJECTION_TYPE = SINUSOIDAL
  MAP_RESOLUTION = 2370.85521546667
  MAP_SCALE = 0.025
  MAXIMUM_LATITUDE = 48.0577
  MINIMUM_LATITUDE = 36.5635
  POSITIVE_LONGITUDE_DIRECTION = EAST
  REFERENCE_LATITUDE = "N/A"
  REFERENCE_LONGITUDE = "N/A"
  SAMPLE_FIRST_PIXEL = 1
  SAMPLE_LAST_PIXEL = 4409
  SAMPLE_PROJECTION_OFFSET = 2501.25
  SECOND_STANDARD_PARALLEL = "N/A"
  WESTERNMOST_LONGITUDE = 4.42956
END_OBJECT = IMAGE_MAP_PROJECTION
/* The JPEG2000 image data file associated with this label. */
OBJECT = COMPRESSED_FILE
  FILE_NAME = "H9551_0009_S23.JP2"
  RECORD_TYPE = UNDEFINED
  FILE_RECORDS = UNK
  ENCODING_TYPE = "JP2"
  INTERCHANGE_FORMAT = BINARY
  UNCOMPRESSED_FILE_NAME = "H9551_0009_S23.IMG"
  REQUIRED_STORAGE_BYTES = "120489152"
  ^DESCRIPTION = "JP2INFO.TXT"
END_OBJECT = COMPRESSED_FILE
END
