PDS_VERSION_ID = PDS3
/* FILE DATA ELEMENTS */
RECORD_TYPE = STREAM
/* POINTERS TO DATA OBJECTS */
^COMPRESSED_FILE = "H9552_0000_S13.JP2"
/* IDENTIFICATION DATA ELEMENTS */
DATA_SET_ID = "MEX-M-HRSC-5-REFDR-MAPPROJECTED-V3.0"
DATA_SET_NAME = "MARS EXPRESS HRSC MAP PROJECTED REFDR V3.0"
DETECTOR_ID = MEX_HRSC_S1
EVENT_TYPE = "MARS-REGIONAL-MAPPING-Vo-Te"
INSTRUMENT_HOST_ID = MEX
INSTRUMENT_HOST_NAME = "MARS EXPRESS"
INSTRUMENT_ID = HRSC
INSTRUMENT_NAME = "HIGH RESOLUTION STEREO CAMERA"
MISSION_NAME = "MARS EXPRESS"
MISSION_PHASE_NAME = ME_Phase_23
PROCESSING_LEVEL_ID = 3
PRODUCT_CREATION_TIME = 2016-10-26T17:49:15.000Z
PRODUCT_ID = "H9552_0000_S13.JP2"
RELEASE_ID = 0097
REVISION_ID = 0000
/* QUALITY DATA ELEMENTS */
DATA_QUALITY_ID = 1
DATA_QUALITY_DESC = "Data calculated based on original SPICE kernels"
/* TIME DATA ELEMENTS */
SPACECRAFT_CLOCK_START_COUNT = "1/0257211204.08263"
SPACECRAFT_CLOCK_STOP_COUNT = "1/0257211450.57160"
START_TIME = 2011-06-26T23:33:27.170Z
STOP_TIME = 2011-06-26T23:36:18.422Z
/* ORBITAL DATA ELEMENTS */
ASCENDING_NODE_LONGITUDE = 34.87
MAXIMUM_RESOLUTION = 31.4
FOOTPRINT_POINT_LATITUDE = (50.3359,50.321,50.3052,50.2882,50.2701 ,50.2508,50.2304,50.0394,49.822,49.6038 ,49.3863,49.1677,48.8408,48.6226, 48.2951,47.9673,47.7486,47.5302,47.3115 ,47.0924,46.873,46.5443,46.3241,46.104, 45.8853,45.6652,45.4453,45.2249,45.0049 ,44.785,44.5645,44.3444,44.1238,43.9034 ,43.6825,43.4621,43.2415,42.9109, 42.6905,42.4692,42.1379,41.9173,41.5862 ,41.144,40.8124,40.5912,40.2598,39.9274 ,39.7053,39.3729,39.1113,39.1287, 39.1503,39.164,39.1752,39.1858,39.408, 39.6305,39.8525,40.1856,40.4076,40.6299 ,40.8519,41.0738,41.2958,41.5176,41.85, 42.0723,42.2939,42.6263,42.9582,43.2896 ,43.6215,43.953,44.1745,44.3953,44.6159 ,44.947,45.1681,45.3888,45.7198,45.9406 ,46.1609,46.4911,46.712,46.9324,47.1524 ,47.4821,47.7022,47.9217,48.2506, 48.4696,48.6889,49.0173,49.2362,49.4553 ,49.6735,49.8924,50.1107,50.3359)
FOOTPRINT_POINT_LONGITUDE = (264.312,264.01,263.706,263.4,263.093, 262.785,262.474,262.292,262.316,262.339 ,262.363,262.386,262.419,262.442, 262.474,262.506,262.526,262.547,262.567 ,262.587,262.606,262.634,262.652,262.67 ,262.688,262.705,262.723,262.739, 262.756,262.772,262.788,262.803,262.819 ,262.834,262.848,262.863,262.877, 262.898,262.912,262.925,262.944,262.957 ,262.976,262.999,263.017,263.028, 263.044,263.06,263.07,263.084,263.25, 263.575,264.017,264.32,264.589,264.845, 264.838,264.83,264.822,264.811,264.803, 264.795,264.787,264.779,264.77,264.762, 264.749,264.741,264.732,264.719,264.705 ,264.691,264.677,264.663,264.653, 264.643,264.633,264.618,264.607,264.597 ,264.581,264.57,264.559,264.542,264.53, 264.519,264.507,264.489,264.477,264.465 ,264.447,264.434,264.421,264.402, 264.388,264.375,264.362,264.348,264.334 ,264.312)
ORBIT_NUMBER = 9552
ORBITAL_ECCENTRICITY = 0.573
ORBITAL_INCLINATION = 86.87
ORBITAL_SEMIMAJOR_AXIS = 8803.51
PERIAPSIS_ALTITUDE = 371.0
PERIAPSIS_ARGUMENT_ANGLE = 129.09
PERIAPSIS_TIME = 2011-06-26T23:33:51.000Z
SPACECRAFT_ORIENTATION = (0.0,-1.0,0.0)
^MEX_ORIENTATION_DESC = "MEX_ORIENTATION_DESC.TXT"
SPACECRAFT_POINTING_MODE = ACROSSTRACK
^MEX_POINTING_DESC = "MEX_POINTING_DESC.TXT"
RIGHT_ASCENSION = -1e+32
DECLINATION = -1e+32
OFFSET_ANGLE = -0.5
SPACECRAFT_SOLAR_DISTANCE = 2.17972e+08
TARGET_NAME = MARS
/* CAMERA DATA ELEMENTS */
DETECTOR_TEMPERATURE = 17.5549
FOCAL_PLANE_TEMPERATURE = 8.1755
INST_CMPRS_NAME = "DISCRETE COSINE TRANSFORMATION (DCT)"
INST_CMPRS_RATIO = 5.43417
INST_CMPRS_QUALITY = 0
INST_CMPRS_QUANTZ_TBL_ID = 0
INSTRUMENT_TEMPERATURE = 11.4379
LENS_TEMPERATURE = 9.195
MACROPIXEL_SIZE = 2
MISSING_FRAMES = 0
PIXEL_SUBSAMPLING_FLAG = N
SIGNAL_CHAIN_ID = 1
/* RADIOMETRIC DATA ELEMENTS */
BANDWIDTH = 180.0
CENTER_FILTER_WAVELENGTH = 677.0
RADIANCE_OFFSET = 3.39553
RADIANCE_SCALING_FACTOR = 0.0249284
REFLECTANCE_SCALING_FACTOR = 0.000617926
MEX:REFLECTANCE_OFFSET = 0.0841685
/* IMAGE OBJECT DEFINITIONS */
OBJECT = IMAGE
  INTERCHANGE_FORMAT = BINARY
  LINES = 26379
  LINE_SAMPLES = 4264
  SAMPLE_TYPE = UNSIGNED_INTEGER
  SAMPLE_BITS = 8
  BANDS = 1
  BAND_STORAGE_TYPE = BAND_SEQUENTIAL
  MAXIMUM = 255
  MEAN = 101.173
  MINIMUM = 1
  STANDARD_DEVIATION = 29.267
END_OBJECT = IMAGE
/* MAP OBJECT DEFINITIONS */
OBJECT = IMAGE_MAP_PROJECTION
  ^DATA_SET_MAP_PROJECTION_CATALOG= "DSMAP.CAT"
  A_AXIS_RADIUS = 3396.0
  B_AXIS_RADIUS = 3396.0
  C_AXIS_RADIUS = 3396.0
  CENTER_LATITUDE = 0.0
  CENTER_LONGITUDE = 264.0
  COORDINATE_SYSTEM_NAME = PLANETOGRAPHIC
  COORDINATE_SYSTEM_TYPE = "BODY-FIXED ROTATING"
  EASTERNMOST_LONGITUDE = 264.845
  FIRST_STANDARD_PARALLEL = "N/A"
  LINE_FIRST_PIXEL = 1
  LINE_LAST_PIXEL = 26379
  LINE_PROJECTION_OFFSET = 119113.75
  MAP_PROJECTION_ROTATION = 0.0
  MAP_PROJECTION_TYPE = SINUSOIDAL
  MAP_RESOLUTION = 2370.85521546667
  MAP_SCALE = 0.025
  MAXIMUM_LATITUDE = 50.3359
  MINIMUM_LATITUDE = 39.1113
  POSITIVE_LONGITUDE_DIRECTION = EAST
  REFERENCE_LATITUDE = "N/A"
  REFERENCE_LONGITUDE = "N/A"
  SAMPLE_FIRST_PIXEL = 1
  SAMPLE_LAST_PIXEL = 4264
  SAMPLE_PROJECTION_OFFSET = 2681.25
  SECOND_STANDARD_PARALLEL = "N/A"
  WESTERNMOST_LONGITUDE = 262.292
END_OBJECT = IMAGE_MAP_PROJECTION
/* The JPEG2000 image data file associated with this label. */
OBJECT = COMPRESSED_FILE
  FILE_NAME = "H9552_0000_S13.JP2"
  RECORD_TYPE = UNDEFINED
  FILE_RECORDS = UNK
  ENCODING_TYPE = "JP2"
  INTERCHANGE_FORMAT = BINARY
  UNCOMPRESSED_FILE_NAME = "H9552_0000_S13.IMG"
  REQUIRED_STORAGE_BYTES = "112505640"
  ^DESCRIPTION = "JP2INFO.TXT"
END_OBJECT = COMPRESSED_FILE
END
