PDS_VERSION_ID = PDS3
/* FILE DATA ELEMENTS */
RECORD_TYPE = STREAM
/* POINTERS TO DATA OBJECTS */
^COMPRESSED_FILE = "H9562_0000_S23.JP2"
/* IDENTIFICATION DATA ELEMENTS */
DATA_SET_ID = "MEX-M-HRSC-5-REFDR-MAPPROJECTED-V3.0"
DATA_SET_NAME = "MARS EXPRESS HRSC MAP PROJECTED REFDR V3.0"
DETECTOR_ID = MEX_HRSC_S2
EVENT_TYPE = "MARS-REGIONAL-MAPPING-Fl-Pf"
INSTRUMENT_HOST_ID = MEX
INSTRUMENT_HOST_NAME = "MARS EXPRESS"
INSTRUMENT_ID = HRSC
INSTRUMENT_NAME = "HIGH RESOLUTION STEREO CAMERA"
MISSION_NAME = "MARS EXPRESS"
MISSION_PHASE_NAME = ME_Phase_23
PROCESSING_LEVEL_ID = 3
PRODUCT_CREATION_TIME = 2016-10-26T17:49:15.000Z
PRODUCT_ID = "H9562_0000_S23.JP2"
RELEASE_ID = 0097
REVISION_ID = 0000
/* QUALITY DATA ELEMENTS */
DATA_QUALITY_ID = 1
DATA_QUALITY_DESC = "Data calculated based on original SPICE kernels"
/* TIME DATA ELEMENTS */
SPACECRAFT_CLOCK_START_COUNT = "1/0257463224.08546"
SPACECRAFT_CLOCK_STOP_COUNT = "1/0257463493.23796"
START_TIME = 2011-06-29T21:35:08.182Z
STOP_TIME = 2011-06-29T21:38:14.435Z
/* ORBITAL DATA ELEMENTS */
ASCENDING_NODE_LONGITUDE = 34.68
MAXIMUM_RESOLUTION = 38.4
FOOTPRINT_POINT_LATITUDE = (35.9848,35.9919,35.9987,36.0053, 36.0117,35.8891,35.5837,35.3776,35.1717 ,34.9659,34.7602,34.5548,34.3443, 34.1364,33.9274,33.7165,33.4035,33.1917 ,32.9789,32.7673,32.556,32.3407,32.1254 ,31.9105,31.6958,31.4817,31.268,31.0547 ,30.8418,30.6293,30.4169,30.2058, 29.9943,29.7839,29.4684,29.2584,29.0488 ,28.8397,28.6312,28.4231,28.1116,27.905 ,27.6986,27.4925,27.2867,27.0816, 26.7768,26.4687,26.0625,25.6577,25.6253 ,25.6129,25.6026,25.5877,25.5677,25.556 ,25.8608,26.2679,26.4722,26.7799, 26.9854,27.1916,27.398,27.6047,27.8117, 28.1232,28.3314,28.5404,28.8547,29.0645 ,29.2746,29.4855,29.6965,29.9082, 30.1202,30.3329,30.5458,30.7587,30.9725 ,31.2938,31.5081,31.723,31.9387,32.2618 ,32.5847,32.7972,33.1162,33.3291, 33.5411,33.7501,33.9596,34.1694,34.3801 ,34.5886,34.7943,35.0006,35.3102, 35.5172,35.8235,35.9848)
FOOTPRINT_POINT_LONGITUDE = (321.368,321.071,320.771,320.468, 320.162,319.732,319.741,319.746,319.751 ,319.756,319.761,319.766,319.772, 319.775,319.779,319.785,319.79,319.793, 319.797,319.8,319.803,319.806,319.809, 319.812,319.814,319.816,319.819,319.82, 319.822,319.824,319.825,319.826,319.828 ,319.828,319.829,319.83,319.83,319.831, 319.831,319.831,319.83,319.83,319.829, 319.828,319.827,319.826,319.823,319.822 ,319.818,319.814,320.127,320.482, 320.768,321.182,321.743,322.071,322.063 ,322.052,322.046,322.038,322.032, 322.026,322.02,322.014,322.008,321.999, 321.993,321.987,321.978,321.972,321.965 ,321.959,321.952,321.946,321.939, 321.933,321.926,321.919,321.912,321.902 ,321.895,321.888,321.881,321.87,321.859 ,321.851,321.84,321.833,321.825,321.818 ,321.81,321.802,321.795,321.787,321.779 ,321.771,321.759,321.751,321.739, 321.368)
ORBIT_NUMBER = 9562
ORBITAL_ECCENTRICITY = 0.573
ORBITAL_INCLINATION = 86.89
ORBITAL_SEMIMAJOR_AXIS = 8793.38
PERIAPSIS_ALTITUDE = 372.34
PERIAPSIS_ARGUMENT_ANGLE = 127.37
PERIAPSIS_TIME = 2011-06-29T21:30:07.000Z
SPACECRAFT_ORIENTATION = (0.0,-1.0,0.0)
^MEX_ORIENTATION_DESC = "MEX_ORIENTATION_DESC.TXT"
SPACECRAFT_POINTING_MODE = ACROSSTRACK
^MEX_POINTING_DESC = "MEX_POINTING_DESC.TXT"
RIGHT_ASCENSION = -1e+32
DECLINATION = -1e+32
OFFSET_ANGLE = -0.9
SPACECRAFT_SOLAR_DISTANCE = 2.185e+08
TARGET_NAME = MARS
/* CAMERA DATA ELEMENTS */
DETECTOR_TEMPERATURE = 18.1666
FOCAL_PLANE_TEMPERATURE = 7.7677
INST_CMPRS_NAME = "DISCRETE COSINE TRANSFORMATION (DCT)"
INST_CMPRS_RATIO = 10.328
INST_CMPRS_QUALITY = 0
INST_CMPRS_QUANTZ_TBL_ID = 0
INSTRUMENT_TEMPERATURE = 11.0301
LENS_TEMPERATURE = 8.3794
MACROPIXEL_SIZE = 2
MISSING_FRAMES = 0
PIXEL_SUBSAMPLING_FLAG = N
SIGNAL_CHAIN_ID = 1
/* RADIOMETRIC DATA ELEMENTS */
BANDWIDTH = 178.0
CENTER_FILTER_WAVELENGTH = 679.0
RADIANCE_OFFSET = 5.01955
RADIANCE_SCALING_FACTOR = 0.0129992
REFLECTANCE_SCALING_FACTOR = 0.000328662
MEX:REFLECTANCE_OFFSET = 0.126911
/* IMAGE OBJECT DEFINITIONS */
OBJECT = IMAGE
  INTERCHANGE_FORMAT = BINARY
  LINES = 24905
  LINE_SAMPLES = 4542
  SAMPLE_TYPE = UNSIGNED_INTEGER
  SAMPLE_BITS = 8
  BANDS = 1
  BAND_STORAGE_TYPE = BAND_SEQUENTIAL
  MAXIMUM = 255
  MEAN = 97.2186
  MINIMUM = 1
  STANDARD_DEVIATION = 32.4603
END_OBJECT = IMAGE
/* MAP OBJECT DEFINITIONS */
OBJECT = IMAGE_MAP_PROJECTION
  ^DATA_SET_MAP_PROJECTION_CATALOG= "DSMAP.CAT"
  A_AXIS_RADIUS = 3396.0
  B_AXIS_RADIUS = 3396.0
  C_AXIS_RADIUS = 3396.0
  CENTER_LATITUDE = 0.0
  CENTER_LONGITUDE = 321.0
  COORDINATE_SYSTEM_NAME = PLANETOGRAPHIC
  COORDINATE_SYSTEM_TYPE = "BODY-FIXED ROTATING"
  EASTERNMOST_LONGITUDE = 322.071
  FIRST_STANDARD_PARALLEL = "N/A"
  LINE_FIRST_PIXEL = 1
  LINE_LAST_PIXEL = 24905
  LINE_PROJECTION_OFFSET = 85491.75
  MAP_PROJECTION_ROTATION = 0.0
  MAP_PROJECTION_TYPE = SINUSOIDAL
  MAP_RESOLUTION = 2370.85521546667
  MAP_SCALE = 0.025
  MAXIMUM_LATITUDE = 36.0117
  MINIMUM_LATITUDE = 25.556
  POSITIVE_LONGITUDE_DIRECTION = EAST
  REFERENCE_LATITUDE = "N/A"
  REFERENCE_LONGITUDE = "N/A"
  SAMPLE_FIRST_PIXEL = 1
  SAMPLE_LAST_PIXEL = 4542
  SAMPLE_PROJECTION_OFFSET = 2446.25
  SECOND_STANDARD_PARALLEL = "N/A"
  WESTERNMOST_LONGITUDE = 319.732
END_OBJECT = IMAGE_MAP_PROJECTION
/* The JPEG2000 image data file associated with this label. */
OBJECT = COMPRESSED_FILE
  FILE_NAME = "H9562_0000_S23.JP2"
  RECORD_TYPE = UNDEFINED
  FILE_RECORDS = UNK
  ENCODING_TYPE = "JP2"
  INTERCHANGE_FORMAT = BINARY
  UNCOMPRESSED_FILE_NAME = "H9562_0000_S23.IMG"
  REQUIRED_STORAGE_BYTES = "113145762"
  ^DESCRIPTION = "JP2INFO.TXT"
END_OBJECT = COMPRESSED_FILE
END
