PDS_VERSION_ID = PDS3
/* FILE DATA ELEMENTS */
RECORD_TYPE = STREAM
/* POINTERS TO DATA OBJECTS */
^COMPRESSED_FILE = "H9566_0000_RE3.JP2"
/* IDENTIFICATION DATA ELEMENTS */
DATA_SET_ID = "MEX-M-HRSC-5-REFDR-MAPPROJECTED-V3.0"
DATA_SET_NAME = "MARS EXPRESS HRSC MAP PROJECTED REFDR V3.0"
DETECTOR_ID = MEX_HRSC_RED
EVENT_TYPE = "MARS-REGIONAL-MAPPING-Te-Im-Pf"
INSTRUMENT_HOST_ID = MEX
INSTRUMENT_HOST_NAME = "MARS EXPRESS"
INSTRUMENT_ID = HRSC
INSTRUMENT_NAME = "HIGH RESOLUTION STEREO CAMERA"
MISSION_NAME = "MARS EXPRESS"
MISSION_PHASE_NAME = ME_Phase_23
PROCESSING_LEVEL_ID = 3
PRODUCT_CREATION_TIME = 2016-10-27T01:50:53.000Z
PRODUCT_ID = "H9566_0000_RE3.JP2"
RELEASE_ID = 0098
REVISION_ID = 0000
/* QUALITY DATA ELEMENTS */
DATA_QUALITY_ID = 1
DATA_QUALITY_DESC = "Data calculated based on original SPICE kernels"
/* TIME DATA ELEMENTS */
SPACECRAFT_CLOCK_START_COUNT = "1/0257563624.08268"
SPACECRAFT_CLOCK_STOP_COUNT = "1/0257563876.40647"
START_TIME = 2011-07-01T01:28:10.261Z
STOP_TIME = 2011-07-01T01:31:11.483Z
/* ORBITAL DATA ELEMENTS */
ASCENDING_NODE_LONGITUDE = 34.6
MAXIMUM_RESOLUTION = 62.7
FOOTPRINT_POINT_LATITUDE = (57.1879,57.1776,57.1636,57.1508, 57.1405,57.127,57.0776,56.8456,56.613, 56.3807,56.1489,55.8014,55.5695,55.3377 ,55.1056,54.8744,54.6432,54.2962, 54.0651,53.8336,53.6029,53.2569,53.0262 ,52.6804,52.4499,52.1043,51.7585, 51.4135,51.0687,50.8385,50.4929,50.2647 ,50.0357,49.8072,49.5784,49.2363, 49.0081,48.6665,48.3257,47.9848,47.7581 ,47.5314,47.3048,47.0786,46.8526, 46.5138,46.1754,45.8371,45.6471,45.656, 45.6612,45.6678,45.6748,45.6835,45.6873 ,45.9165,46.1421,46.3683,46.5945,46.821 ,47.0477,47.2747,47.5019,47.7292, 47.9561,48.1844,48.4122,48.754,48.9838, 49.2128,49.4417,49.6718,49.9016,50.1303 ,50.3607,50.5908,50.82,51.1664,51.3971, 51.6281,51.9741,52.2058,52.4367,52.6677 ,53.0153,53.363,53.5947,53.9421,54.2907 ,54.6391,54.8715,55.2202,55.5692, 55.9184,56.1513,56.3845,56.7343,56.9679 ,57.2015,57.1879)
FOOTPRINT_POINT_LONGITUDE = (272.417,272.069,271.635,271.267, 270.985,270.638,270.282,270.318,270.355 ,270.391,270.425,270.475,270.509, 270.541,270.573,270.604,270.634,270.678 ,270.707,270.736,270.763,270.804,270.83 ,270.869,270.894,270.931,270.966, 271.001,271.035,271.057,271.09,271.11, 271.13,271.149,271.169,271.196,271.215, 271.241,271.266,271.291,271.307,271.323 ,271.338,271.353,271.367,271.389, 271.409,271.429,271.44,271.767,271.986, 272.277,272.587,273.025,273.244,273.387 ,273.377,273.367,273.358,273.348, 273.338,273.328,273.317,273.307,273.296 ,273.285,273.274,273.258,273.247, 273.236,273.224,273.213,273.201,273.189 ,273.177,273.164,273.151,273.132, 273.119,273.106,273.086,273.072,273.058 ,273.044,273.022,272.999,272.984,272.96 ,272.937,272.912,272.895,272.869, 272.843,272.816,272.798,272.779,272.75, 272.731,272.711,272.417)
ORBIT_NUMBER = 9566
ORBITAL_ECCENTRICITY = 0.573
ORBITAL_INCLINATION = 86.87
ORBITAL_SEMIMAJOR_AXIS = 8798.43
PERIAPSIS_ALTITUDE = 372.49
PERIAPSIS_ARGUMENT_ANGLE = 126.68
PERIAPSIS_TIME = 2011-07-01T01:28:44.000Z
SPACECRAFT_ORIENTATION = (0.0,-1.0,0.0)
^MEX_ORIENTATION_DESC = "MEX_ORIENTATION_DESC.TXT"
SPACECRAFT_POINTING_MODE = NADIR
^MEX_POINTING_DESC = "MEX_POINTING_DESC.TXT"
RIGHT_ASCENSION = -1e+32
DECLINATION = -1e+32
OFFSET_ANGLE = -1e+32
SPACECRAFT_SOLAR_DISTANCE = 2.18712e+08
TARGET_NAME = MARS
/* CAMERA DATA ELEMENTS */
DETECTOR_TEMPERATURE = 18.3705
FOCAL_PLANE_TEMPERATURE = 9.195
INST_CMPRS_NAME = "DISCRETE COSINE TRANSFORMATION (DCT)"
INST_CMPRS_RATIO = 19.7427
INST_CMPRS_QUALITY = 0
INST_CMPRS_QUANTZ_TBL_ID = 0
INSTRUMENT_TEMPERATURE = 10.8262
LENS_TEMPERATURE = 8.5833
MACROPIXEL_SIZE = 4
MISSING_FRAMES = 0
PIXEL_SUBSAMPLING_FLAG = N
SIGNAL_CHAIN_ID = 2
/* RADIOMETRIC DATA ELEMENTS */
BANDWIDTH = 48.0
CENTER_FILTER_WAVELENGTH = 748.0
RADIANCE_OFFSET = 0.636826
RADIANCE_SCALING_FACTOR = 0.00668935
REFLECTANCE_SCALING_FACTOR = 0.000730229
MEX:REFLECTANCE_OFFSET = 0.0695178
/* IMAGE OBJECT DEFINITIONS */
OBJECT = IMAGE
  INTERCHANGE_FORMAT = BINARY
  LINES = 13785
  LINE_SAMPLES = 2263
  SAMPLE_TYPE = UNSIGNED_INTEGER
  SAMPLE_BITS = 8
  BANDS = 1
  BAND_STORAGE_TYPE = BAND_SEQUENTIAL
  MAXIMUM = 255
  MEAN = 85.5034
  MINIMUM = 1
  STANDARD_DEVIATION = 40.5077
END_OBJECT = IMAGE
/* MAP OBJECT DEFINITIONS */
OBJECT = IMAGE_MAP_PROJECTION
  ^DATA_SET_MAP_PROJECTION_CATALOG= "DSMAP.CAT"
  A_AXIS_RADIUS = 3396.0
  B_AXIS_RADIUS = 3396.0
  C_AXIS_RADIUS = 3396.0
  CENTER_LATITUDE = 0.0
  CENTER_LONGITUDE = 272.0
  COORDINATE_SYSTEM_NAME = PLANETOGRAPHIC
  COORDINATE_SYSTEM_TYPE = "BODY-FIXED ROTATING"
  EASTERNMOST_LONGITUDE = 273.387
  FIRST_STANDARD_PARALLEL = "N/A"
  LINE_FIRST_PIXEL = 1
  LINE_LAST_PIXEL = 13785
  LINE_PROJECTION_OFFSET = 67893.875
  MAP_PROJECTION_ROTATION = 0.0
  MAP_PROJECTION_TYPE = SINUSOIDAL
  MAP_RESOLUTION = 1185.42760773333
  MAP_SCALE = 0.05
  MAXIMUM_LATITUDE = 57.2015
  MINIMUM_LATITUDE = 45.6471
  POSITIVE_LONGITUDE_DIRECTION = EAST
  REFERENCE_LATITUDE = "N/A"
  REFERENCE_LONGITUDE = "N/A"
  SAMPLE_FIRST_PIXEL = 1
  SAMPLE_LAST_PIXEL = 2263
  SAMPLE_PROJECTION_OFFSET = 1118.875
  SECOND_STANDARD_PARALLEL = "N/A"
  WESTERNMOST_LONGITUDE = 270.282
END_OBJECT = IMAGE_MAP_PROJECTION
/* The JPEG2000 image data file associated with this label. */
OBJECT = COMPRESSED_FILE
  FILE_NAME = "H9566_0000_RE3.JP2"
  RECORD_TYPE = UNDEFINED
  FILE_RECORDS = UNK
  ENCODING_TYPE = "JP2"
  INTERCHANGE_FORMAT = BINARY
  UNCOMPRESSED_FILE_NAME = "H9566_0000_RE3.IMG"
  REQUIRED_STORAGE_BYTES = "31218085"
  ^DESCRIPTION = "JP2INFO.TXT"
END_OBJECT = COMPRESSED_FILE
END
