PDS_VERSION_ID = PDS3
/* FILE DATA ELEMENTS */
RECORD_TYPE = STREAM
/* POINTERS TO DATA OBJECTS */
^COMPRESSED_FILE = "H9566_0000_S13.JP2"
/* IDENTIFICATION DATA ELEMENTS */
DATA_SET_ID = "MEX-M-HRSC-5-REFDR-MAPPROJECTED-V3.0"
DATA_SET_NAME = "MARS EXPRESS HRSC MAP PROJECTED REFDR V3.0"
DETECTOR_ID = MEX_HRSC_S1
EVENT_TYPE = "MARS-REGIONAL-MAPPING-Te-Im-Pf"
INSTRUMENT_HOST_ID = MEX
INSTRUMENT_HOST_NAME = "MARS EXPRESS"
INSTRUMENT_ID = HRSC
INSTRUMENT_NAME = "HIGH RESOLUTION STEREO CAMERA"
MISSION_NAME = "MARS EXPRESS"
MISSION_PHASE_NAME = ME_Phase_23
PROCESSING_LEVEL_ID = 3
PRODUCT_CREATION_TIME = 2016-10-27T01:50:53.000Z
PRODUCT_ID = "H9566_0000_S13.JP2"
RELEASE_ID = 0098
REVISION_ID = 0000
/* QUALITY DATA ELEMENTS */
DATA_QUALITY_ID = 1
DATA_QUALITY_DESC = "Data calculated based on original SPICE kernels"
/* TIME DATA ELEMENTS */
SPACECRAFT_CLOCK_START_COUNT = "1/0257563624.08268"
SPACECRAFT_CLOCK_STOP_COUNT = "1/0257563876.40647"
START_TIME = 2011-07-01T01:27:07.179Z
STOP_TIME = 2011-07-01T01:30:07.651Z
/* ORBITAL DATA ELEMENTS */
ASCENDING_NODE_LONGITUDE = 34.6
MAXIMUM_RESOLUTION = 31.5
FOOTPRINT_POINT_LATITUDE = (57.3652,57.3568,57.3447,57.3267, 57.3116,57.295,57.1822,56.9562,56.7307, 56.392,56.1658,55.9387,55.7116,55.3713, 55.1445,54.8027,54.4609,54.2326,53.8904 ,53.6616,53.4326,53.2034,52.9745, 52.7451,52.5157,52.1715,51.8274,51.5977 ,51.3674,51.0223,50.6779,50.332,50.1006 ,49.8694,49.6381,49.4059,49.0587, 48.7109,48.4785,48.246,48.0138,47.7807, 47.5482,47.1988,46.9658,46.7328,46.383, 46.1498,45.9169,45.6837,45.658,45.6668, 45.6732,45.6813,45.6886,45.6937,45.701, 46.0521,46.2861,46.5199,46.7539,46.9875 ,47.2211,47.4544,47.688,47.9218,48.2713 ,48.5045,48.8543,49.0853,49.3177, 49.6652,50.0133,50.2455,50.4764,50.7089 ,50.9406,51.1709,51.5173,51.7481, 52.0941,52.3248,52.6706,53.0157,53.3606 ,53.5905,53.9356,54.2793,54.5084, 54.8518,55.0805,55.4237,55.6521,55.8803 ,56.1081,56.4494,56.6768,56.9039, 57.1305,57.3652)
FOOTPRINT_POINT_LONGITUDE = (272.479,272.202,271.833,271.349, 270.981,270.612,270.245,270.282,270.319 ,270.373,270.409,270.443,270.477, 270.527,270.559,270.607,270.653,270.683 ,270.727,270.756,270.784,270.812, 270.839,270.866,270.892,270.93,270.968, 270.992,271.016,271.051,271.086,271.119 ,271.14,271.161,271.182,271.202,271.231 ,271.26,271.278,271.296,271.314,271.331 ,271.349,271.373,271.389,271.405, 271.428,271.443,271.458,271.473,271.638 ,271.894,272.095,272.387,272.716, 272.972,273.363,273.35,273.341,273.332, 273.323,273.313,273.304,273.295,273.285 ,273.275,273.26,273.249,273.234,273.224 ,273.213,273.198,273.181,273.17,273.159 ,273.147,273.135,273.123,273.105, 273.093,273.074,273.062,273.042,273.022 ,273.001,272.987,272.966,272.944, 272.929,272.906,272.891,272.867,272.851 ,272.835,272.818,272.793,272.776, 272.758,272.741,272.479)
ORBIT_NUMBER = 9566
ORBITAL_ECCENTRICITY = 0.573
ORBITAL_INCLINATION = 86.87
ORBITAL_SEMIMAJOR_AXIS = 8798.43
PERIAPSIS_ALTITUDE = 372.49
PERIAPSIS_ARGUMENT_ANGLE = 126.68
PERIAPSIS_TIME = 2011-07-01T01:28:44.000Z
SPACECRAFT_ORIENTATION = (0.0,-1.0,0.0)
^MEX_ORIENTATION_DESC = "MEX_ORIENTATION_DESC.TXT"
SPACECRAFT_POINTING_MODE = NADIR
^MEX_POINTING_DESC = "MEX_POINTING_DESC.TXT"
RIGHT_ASCENSION = -1e+32
DECLINATION = -1e+32
OFFSET_ANGLE = -1e+32
SPACECRAFT_SOLAR_DISTANCE = 2.18712e+08
TARGET_NAME = MARS
/* CAMERA DATA ELEMENTS */
DETECTOR_TEMPERATURE = 17.351
FOCAL_PLANE_TEMPERATURE = 9.195
INST_CMPRS_NAME = "DISCRETE COSINE TRANSFORMATION (DCT)"
INST_CMPRS_RATIO = 10.9417
INST_CMPRS_QUALITY = 0
INST_CMPRS_QUANTZ_TBL_ID = 0
INSTRUMENT_TEMPERATURE = 10.8262
LENS_TEMPERATURE = 8.5833
MACROPIXEL_SIZE = 2
MISSING_FRAMES = 0
PIXEL_SUBSAMPLING_FLAG = N
SIGNAL_CHAIN_ID = 1
/* RADIOMETRIC DATA ELEMENTS */
BANDWIDTH = 180.0
CENTER_FILTER_WAVELENGTH = 677.0
RADIANCE_OFFSET = 3.04018
RADIANCE_SCALING_FACTOR = 0.0272509
REFLECTANCE_SCALING_FACTOR = 0.000680094
MEX:REFLECTANCE_OFFSET = 0.075873
/* IMAGE OBJECT DEFINITIONS */
OBJECT = IMAGE
  INTERCHANGE_FORMAT = BINARY
  LINES = 27569
  LINE_SAMPLES = 4526
  SAMPLE_TYPE = UNSIGNED_INTEGER
  SAMPLE_BITS = 8
  BANDS = 1
  BAND_STORAGE_TYPE = BAND_SEQUENTIAL
  MAXIMUM = 255
  MEAN = 76.0847
  MINIMUM = 1
  STANDARD_DEVIATION = 36.0777
END_OBJECT = IMAGE
/* MAP OBJECT DEFINITIONS */
OBJECT = IMAGE_MAP_PROJECTION
  ^DATA_SET_MAP_PROJECTION_CATALOG= "DSMAP.CAT"
  A_AXIS_RADIUS = 3396.0
  B_AXIS_RADIUS = 3396.0
  C_AXIS_RADIUS = 3396.0
  CENTER_LATITUDE = 0.0
  CENTER_LONGITUDE = 272.0
  COORDINATE_SYSTEM_NAME = PLANETOGRAPHIC
  COORDINATE_SYSTEM_TYPE = "BODY-FIXED ROTATING"
  EASTERNMOST_LONGITUDE = 273.363
  FIRST_STANDARD_PARALLEL = "N/A"
  LINE_FIRST_PIXEL = 1
  LINE_LAST_PIXEL = 27569
  LINE_PROJECTION_OFFSET = 135788.25
  MAP_PROJECTION_ROTATION = 0.0
  MAP_PROJECTION_TYPE = SINUSOIDAL
  MAP_RESOLUTION = 2370.85521546667
  MAP_SCALE = 0.025
  MAXIMUM_LATITUDE = 57.3652
  MINIMUM_LATITUDE = 45.658
  POSITIVE_LONGITUDE_DIRECTION = EAST
  REFERENCE_LATITUDE = "N/A"
  REFERENCE_LONGITUDE = "N/A"
  SAMPLE_FIRST_PIXEL = 1
  SAMPLE_LAST_PIXEL = 4526
  SAMPLE_PROJECTION_OFFSET = 2238.25
  SECOND_STANDARD_PARALLEL = "N/A"
  WESTERNMOST_LONGITUDE = 270.245
END_OBJECT = IMAGE_MAP_PROJECTION
/* The JPEG2000 image data file associated with this label. */
OBJECT = COMPRESSED_FILE
  FILE_NAME = "H9566_0000_S13.JP2"
  RECORD_TYPE = UNDEFINED
  FILE_RECORDS = UNK
  ENCODING_TYPE = "JP2"
  INTERCHANGE_FORMAT = BINARY
  UNCOMPRESSED_FILE_NAME = "H9566_0000_S13.IMG"
  REQUIRED_STORAGE_BYTES = "124804450"
  ^DESCRIPTION = "JP2INFO.TXT"
END_OBJECT = COMPRESSED_FILE
END
