PDS_VERSION_ID = PDS3
/* FILE DATA ELEMENTS */
RECORD_TYPE = STREAM
/* POINTERS TO DATA OBJECTS */
^COMPRESSED_FILE = "H9571_0000_P23.JP2"
/* IDENTIFICATION DATA ELEMENTS */
DATA_SET_ID = "MEX-M-HRSC-5-REFDR-MAPPROJECTED-V3.0"
DATA_SET_NAME = "MARS EXPRESS HRSC MAP PROJECTED REFDR V3.0"
DETECTOR_ID = MEX_HRSC_P2
EVENT_TYPE = "MARS-LOCAL-MAPPING-Te-Im-Pf"
INSTRUMENT_HOST_ID = MEX
INSTRUMENT_HOST_NAME = "MARS EXPRESS"
INSTRUMENT_ID = HRSC
INSTRUMENT_NAME = "HIGH RESOLUTION STEREO CAMERA"
MISSION_NAME = "MARS EXPRESS"
MISSION_PHASE_NAME = ME_Phase_23
PROCESSING_LEVEL_ID = 3
PRODUCT_CREATION_TIME = 2016-10-27T01:50:53.000Z
PRODUCT_ID = "H9571_0000_P23.JP2"
RELEASE_ID = 0098
REVISION_ID = 0000
/* QUALITY DATA ELEMENTS */
DATA_QUALITY_ID = 1
DATA_QUALITY_DESC = "Data calculated based on original SPICE kernels"
/* TIME DATA ELEMENTS */
SPACECRAFT_CLOCK_START_COUNT = "1/0257689548.08267"
SPACECRAFT_CLOCK_STOP_COUNT = "1/0257689800.47092"
START_TIME = 2011-07-02T12:26:48.935Z
STOP_TIME = 2011-07-02T12:29:48.649Z
/* ORBITAL DATA ELEMENTS */
ASCENDING_NODE_LONGITUDE = 34.51
MAXIMUM_RESOLUTION = 31.2
FOOTPRINT_POINT_LATITUDE = (55.5855,55.5699,55.5453,55.2675, 55.0388,54.8102,54.5817,54.2391,54.0107 ,53.6682,53.326,53.0979,52.8699,52.6421 ,52.4143,52.1867,51.9591,51.6177, 51.3903,51.1631,50.9359,50.7089,50.3682 ,50.1411,49.9146,49.6882,49.462,49.2358 ,49.0097,48.7837,48.558,48.3323,48.1068 ,47.8813,47.656,47.431,47.2063,46.9815, 46.7569,46.5326,46.3084,45.9721,45.7483 ,45.5247,45.3013,45.078,44.855,44.4094, 44.2677,44.27,44.2708,44.2703,44.3813, 44.6046,44.8283,45.0523,45.2763,45.5008 ,45.7251,45.9498,46.1746,46.3995, 46.6247,46.8501,47.0757,47.3013,47.5273 ,47.7533,47.9794,48.2059,48.4325, 48.7726,48.9994,49.2263,49.4537,49.681, 49.9085,50.1364,50.3641,50.7059,50.9339 ,51.1625,51.3909,51.6194,51.8481, 52.0769,52.4202,52.6492,52.8782,53.1077 ,53.3369,53.5663,53.7958,54.0255, 54.3699,54.7147,54.9445,55.2896,55.5197 ,55.5855)
FOOTPRINT_POINT_LONGITUDE = (118.595,117.873,116.964,116.844, 116.889,116.932,116.975,117.038,117.079 ,117.14,117.198,117.237,117.274,117.311 ,117.347,117.383,117.417,117.469, 117.502,117.535,117.567,117.599,117.646 ,117.677,117.707,117.736,117.764, 117.792,117.82,117.847,117.873,117.9, 117.925,117.951,117.976,118.0,118.023, 118.047,118.07,118.092,118.114,118.147, 118.168,118.189,118.209,118.229,118.249 ,118.287,118.547,119.076,119.435, 120.059,120.346,120.33,120.314,120.298, 120.282,120.266,120.249,120.232,120.215 ,120.198,120.18,120.162,120.144,120.126 ,120.107,120.088,120.07,120.05,120.03, 120.001,119.98,119.96,119.939,119.918, 119.896,119.874,119.852,119.819,119.796 ,119.772,119.749,119.725,119.7,119.676, 119.638,119.613,119.587,119.56,119.533, 119.506,119.479,119.451,119.408,119.364 ,119.335,119.289,119.258,118.595)
ORBIT_NUMBER = 9571
ORBITAL_ECCENTRICITY = 0.573
ORBITAL_INCLINATION = 86.87
ORBITAL_SEMIMAJOR_AXIS = 8798.25
PERIAPSIS_ALTITUDE = 373.03
PERIAPSIS_ARGUMENT_ANGLE = 125.81
PERIAPSIS_TIME = 2011-07-02T12:26:51.000Z
SPACECRAFT_ORIENTATION = (0.0,-1.0,0.0)
^MEX_ORIENTATION_DESC = "MEX_ORIENTATION_DESC.TXT"
SPACECRAFT_POINTING_MODE = ACROSSTRACK
^MEX_POINTING_DESC = "MEX_POINTING_DESC.TXT"
RIGHT_ASCENSION = -1e+32
DECLINATION = -1e+32
OFFSET_ANGLE = -1.18
SPACECRAFT_SOLAR_DISTANCE = 2.1898e+08
TARGET_NAME = MARS
/* CAMERA DATA ELEMENTS */
DETECTOR_TEMPERATURE = 18.5744
FOCAL_PLANE_TEMPERATURE = 8.5833
INST_CMPRS_NAME = "DISCRETE COSINE TRANSFORMATION (DCT)"
INST_CMPRS_RATIO = 7.5377
INST_CMPRS_QUALITY = 0
INST_CMPRS_QUANTZ_TBL_ID = 0
INSTRUMENT_TEMPERATURE = 11.4379
LENS_TEMPERATURE = 8.7872
MACROPIXEL_SIZE = 2
MISSING_FRAMES = 0
PIXEL_SUBSAMPLING_FLAG = N
SIGNAL_CHAIN_ID = 3
/* RADIOMETRIC DATA ELEMENTS */
BANDWIDTH = 177.0
CENTER_FILTER_WAVELENGTH = 676.5
RADIANCE_OFFSET = 3.35443
RADIANCE_SCALING_FACTOR = 0.0148647
REFLECTANCE_SCALING_FACTOR = 0.000377939
MEX:REFLECTANCE_OFFSET = 0.0852871
/* IMAGE OBJECT DEFINITIONS */
OBJECT = IMAGE
  INTERCHANGE_FORMAT = BINARY
  LINES = 27189
  LINE_SAMPLES = 5305
  SAMPLE_TYPE = UNSIGNED_INTEGER
  SAMPLE_BITS = 8
  BANDS = 1
  BAND_STORAGE_TYPE = BAND_SEQUENTIAL
  MAXIMUM = 255
  MEAN = 81.5577
  MINIMUM = 1
  STANDARD_DEVIATION = 37.2531
END_OBJECT = IMAGE
/* MAP OBJECT DEFINITIONS */
OBJECT = IMAGE_MAP_PROJECTION
  ^DATA_SET_MAP_PROJECTION_CATALOG= "DSMAP.CAT"
  A_AXIS_RADIUS = 3396.0
  B_AXIS_RADIUS = 3396.0
  C_AXIS_RADIUS = 3396.0
  CENTER_LATITUDE = 0.0
  CENTER_LONGITUDE = 119.0
  COORDINATE_SYSTEM_NAME = PLANETOGRAPHIC
  COORDINATE_SYSTEM_TYPE = "BODY-FIXED ROTATING"
  EASTERNMOST_LONGITUDE = 120.346
  FIRST_STANDARD_PARALLEL = "N/A"
  LINE_FIRST_PIXEL = 1
  LINE_LAST_PIXEL = 27189
  LINE_PROJECTION_OFFSET = 132030.75
  MAP_PROJECTION_ROTATION = 0.0
  MAP_PROJECTION_TYPE = SINUSOIDAL
  MAP_RESOLUTION = 2370.85521546667
  MAP_SCALE = 0.025
  MAXIMUM_LATITUDE = 55.5855
  MINIMUM_LATITUDE = 44.2677
  POSITIVE_LONGITUDE_DIRECTION = EAST
  REFERENCE_LATITUDE = "N/A"
  REFERENCE_LONGITUDE = "N/A"
  SAMPLE_FIRST_PIXEL = 1
  SAMPLE_LAST_PIXEL = 5305
  SAMPLE_PROJECTION_OFFSET = 2993.75
  SECOND_STANDARD_PARALLEL = "N/A"
  WESTERNMOST_LONGITUDE = 116.844
END_OBJECT = IMAGE_MAP_PROJECTION
/* The JPEG2000 image data file associated with this label. */
OBJECT = COMPRESSED_FILE
  FILE_NAME = "H9571_0000_P23.JP2"
  RECORD_TYPE = UNDEFINED
  FILE_RECORDS = UNK
  ENCODING_TYPE = "JP2"
  INTERCHANGE_FORMAT = BINARY
  UNCOMPRESSED_FILE_NAME = "H9571_0000_P23.IMG"
  REQUIRED_STORAGE_BYTES = "144264170"
  ^DESCRIPTION = "JP2INFO.TXT"
END_OBJECT = COMPRESSED_FILE
END
