PDS_VERSION_ID = PDS3
/* FILE DATA ELEMENTS */
RECORD_TYPE = STREAM
/* POINTERS TO DATA OBJECTS */
^COMPRESSED_FILE = "H9572_0000_BL3.JP2"
/* IDENTIFICATION DATA ELEMENTS */
DATA_SET_ID = "MEX-M-HRSC-5-REFDR-MAPPROJECTED-V3.0"
DATA_SET_NAME = "MARS EXPRESS HRSC MAP PROJECTED REFDR V3.0"
DETECTOR_ID = MEX_HRSC_BLUE
EVENT_TYPE = "MARS-REGIONAL-MAPPING-Fl-Pf"
INSTRUMENT_HOST_ID = MEX
INSTRUMENT_HOST_NAME = "MARS EXPRESS"
INSTRUMENT_ID = HRSC
INSTRUMENT_NAME = "HIGH RESOLUTION STEREO CAMERA"
MISSION_NAME = "MARS EXPRESS"
MISSION_PHASE_NAME = ME_Phase_23
PROCESSING_LEVEL_ID = 3
PRODUCT_CREATION_TIME = 2016-10-27T01:50:53.000Z
PRODUCT_ID = "H9572_0000_BL3.JP2"
RELEASE_ID = 0098
REVISION_ID = 0000
/* QUALITY DATA ELEMENTS */
DATA_QUALITY_ID = 1
DATA_QUALITY_DESC = "Data calculated based on original SPICE kernels"
/* TIME DATA ELEMENTS */
SPACECRAFT_CLOCK_START_COUNT = "1/0257714753.07311"
SPACECRAFT_CLOCK_STOP_COUNT = "1/0257714974.21773"
START_TIME = 2011-07-02T19:26:36.367Z
STOP_TIME = 2011-07-02T19:29:04.357Z
/* ORBITAL DATA ELEMENTS */
ASCENDING_NODE_LONGITUDE = 34.48
MAXIMUM_RESOLUTION = 120.7
FOOTPRINT_POINT_LATITUDE = (54.1434,54.1334,54.1225,54.1108, 54.0982,54.083,53.7252,53.446,53.1669, 52.9808,52.7017,52.4226,52.2366,51.9576 ,51.7716,51.5856,51.3997,51.1209,50.935 ,50.7496,50.4717,50.2861,50.0989, 49.9135,49.7281,49.5426,49.3572,49.1718 ,48.8936,48.7083,48.5231,48.2451,48.06, 47.8749,47.6899,47.5049,47.32,47.1351, 46.9504,46.7657,46.5811,46.3045,46.12, 45.9357,45.7514,45.5671,45.3829,45.1987 ,44.831,44.6626,44.671,44.6807,44.6905, 44.6972,44.7976,44.9827,45.3511,45.536, 45.7211,45.9054,46.0903,46.3679,46.5531 ,46.7385,47.0163,47.2015,47.3869, 47.5724,47.758,47.9438,48.1295,48.3151, 48.594,48.7798,48.9656,49.1518,49.3378, 49.6169,49.8031,49.9895,50.2688,50.4553 ,50.735,51.0146,51.2012,51.3877,51.6677 ,51.9478,52.1345,52.3213,52.5081, 52.6949,52.8817,53.0686,53.2555,53.4424 ,53.7227,53.9097,54.0967,54.1434)
FOOTPRINT_POINT_LONGITUDE = (18.1403,17.8222,17.503,17.183,16.8617, 16.4984,16.4561,16.4936,16.5299,16.5538 ,16.5892,16.6237,16.6461,16.6791, 16.7009,16.7222,16.7431,16.774,16.7944, 16.8126,16.8382,16.8568,16.8823,16.8998 ,16.9171,16.9346,16.952,16.9691,16.9946 ,17.0112,17.0275,17.0521,17.0677,17.083 ,17.0982,17.1132,17.1279,17.1424, 17.1566,17.1705,17.1841,17.2035,17.2166 ,17.2294,17.242,17.2545,17.2673,17.2796 ,17.3023,17.4395,17.7122,18.0943, 18.5279,18.8336,19.2347,19.2267,19.2083 ,19.1995,19.1907,19.1809,19.1716, 19.1575,19.1479,19.1385,19.1235,19.1133 ,19.1032,19.0929,19.0826,19.0723, 19.0617,19.0508,19.0346,19.0235,19.012, 19.0009,18.9894,18.9719,18.96,18.9481, 18.9298,18.9176,18.8988,18.8796,18.8667 ,18.8536,18.8337,18.8134,18.7997, 18.7857,18.7716,18.7574,18.7429,18.7283 ,18.7134,18.6985,18.6755,18.6601, 18.6444,18.1403)
ORBIT_NUMBER = 9572
ORBITAL_ECCENTRICITY = 0.573
ORBITAL_INCLINATION = 86.87
ORBITAL_SEMIMAJOR_AXIS = 8794.94
PERIAPSIS_ALTITUDE = 373.61
PERIAPSIS_ARGUMENT_ANGLE = 125.64
PERIAPSIS_TIME = 2011-07-02T19:26:28.000Z
SPACECRAFT_ORIENTATION = (0.0,-1.0,0.0)
^MEX_ORIENTATION_DESC = "MEX_ORIENTATION_DESC.TXT"
SPACECRAFT_POINTING_MODE = ACROSSTRACK
^MEX_POINTING_DESC = "MEX_POINTING_DESC.TXT"
RIGHT_ASCENSION = -1e+32
DECLINATION = -1e+32
OFFSET_ANGLE = -0.34
SPACECRAFT_SOLAR_DISTANCE = 2.19033e+08
TARGET_NAME = MARS
/* CAMERA DATA ELEMENTS */
DETECTOR_TEMPERATURE = 18.7783
FOCAL_PLANE_TEMPERATURE = 8.1755
INST_CMPRS_NAME = "DISCRETE COSINE TRANSFORMATION (DCT)"
INST_CMPRS_RATIO = 15.8932
INST_CMPRS_QUALITY = 0
INST_CMPRS_QUANTZ_TBL_ID = 0
INSTRUMENT_TEMPERATURE = 11.234
LENS_TEMPERATURE = 8.3794
MACROPIXEL_SIZE = 8
MISSING_FRAMES = 0
PIXEL_SUBSAMPLING_FLAG = N
SIGNAL_CHAIN_ID = 2
/* RADIOMETRIC DATA ELEMENTS */
BANDWIDTH = 76.0
CENTER_FILTER_WAVELENGTH = 444.0
RADIANCE_OFFSET = 0.695633
RADIANCE_SCALING_FACTOR = 0.00230998
REFLECTANCE_SCALING_FACTOR = 0.000113863
MEX:REFLECTANCE_OFFSET = 0.0342891
/* IMAGE OBJECT DEFINITIONS */
OBJECT = IMAGE
  INTERCHANGE_FORMAT = BINARY
  LINES = 5657
  LINE_SAMPLES = 1086
  SAMPLE_TYPE = UNSIGNED_INTEGER
  SAMPLE_BITS = 8
  BANDS = 1
  BAND_STORAGE_TYPE = BAND_SEQUENTIAL
  MAXIMUM = 255
  MEAN = 89.1522
  MINIMUM = 1
  STANDARD_DEVIATION = 29.3804
END_OBJECT = IMAGE
/* MAP OBJECT DEFINITIONS */
OBJECT = IMAGE_MAP_PROJECTION
  ^DATA_SET_MAP_PROJECTION_CATALOG= "DSMAP.CAT"
  A_AXIS_RADIUS = 3396.0
  B_AXIS_RADIUS = 3396.0
  C_AXIS_RADIUS = 3396.0
  CENTER_LATITUDE = 0.0
  CENTER_LONGITUDE = 18.0
  COORDINATE_SYSTEM_NAME = PLANETOGRAPHIC
  COORDINATE_SYSTEM_TYPE = "BODY-FIXED ROTATING"
  EASTERNMOST_LONGITUDE = 19.2347
  FIRST_STANDARD_PARALLEL = "N/A"
  LINE_FIRST_PIXEL = 1
  LINE_LAST_PIXEL = 5657
  LINE_PROJECTION_OFFSET = 32121.4375
  MAP_PROJECTION_ROTATION = 0.0
  MAP_PROJECTION_TYPE = SINUSOIDAL
  MAP_RESOLUTION = 592.713803866667
  MAP_SCALE = 0.1
  MAXIMUM_LATITUDE = 54.1434
  MINIMUM_LATITUDE = 44.6626
  POSITIVE_LONGITUDE_DIRECTION = EAST
  REFERENCE_LATITUDE = "N/A"
  REFERENCE_LONGITUDE = "N/A"
  SAMPLE_FIRST_PIXEL = 1
  SAMPLE_LAST_PIXEL = 1086
  SAMPLE_PROJECTION_OFFSET = 568.0625
  SECOND_STANDARD_PARALLEL = "N/A"
  WESTERNMOST_LONGITUDE = 16.4561
END_OBJECT = IMAGE_MAP_PROJECTION
/* The JPEG2000 image data file associated with this label. */
OBJECT = COMPRESSED_FILE
  FILE_NAME = "H9572_0000_BL3.JP2"
  RECORD_TYPE = UNDEFINED
  FILE_RECORDS = UNK
  ENCODING_TYPE = "JP2"
  INTERCHANGE_FORMAT = BINARY
  UNCOMPRESSED_FILE_NAME = "H9572_0000_BL3.IMG"
  REQUIRED_STORAGE_BYTES = "6161964"
  ^DESCRIPTION = "JP2INFO.TXT"
END_OBJECT = COMPRESSED_FILE
END
